Workbook

Sheet Notes - Read Me
A1: General Notes
B2: This calculator was made in Microsoft Excel. It has not been tested in other spreadsheet software but is likely to have performance issues, particularly with displaying the bikes correctly. It is highly recommended to use Microsoft Excel and to keep the worksheet protections enabled. Cells that perform calculations are protected as read-only to prevent accidental modification to the background math and to minimize the amount of button-pressing required to move around to the input cells. This functionality is only guaranteed to work correctly in Microsoft Excel.
B3: These calculators are updated when necessary. Version notes are listed in the top left of the Geometry Calculator. Check madscientistmtb.com for the latest version.
B4: Cells in white are for user entry. Gray cells are automatically calculated and should not be changed.
A6: Notes referenced in the calculator
A7: 1 | B7: Bikes that come stock with mixed wheels can present a challenge for reverse engineering the bike geometry, since the calculations are premised on the basis that bottom bracket drop can be measured from a horizontal line drawn forward from the rear hub. With mixed wheels, this line is actually sloped upward. A sloped line introduces too many unknowns to the calculations, so an iterative approach is needed. The best case scenario is that the manufacturer provides bottom bracket drop with respect to front and rear axles, which will yield the most accurate results. The alternative, where only a single value is given will likely not be 100% accurate but will be close enough to work with. The following instructions apply to bikes that come stock with mixed wheels: Steps for stock mixed wheel bikes where bottom bracket drop is given with respect to both front and rear axles: -Enter the Bottom Bracket Drop - Rear value into the calculator. -Modify the Rear Wheel Diameter until the calculated Bottom Bracket Height matches the manufacturer's published value. -Modify the Front Wheel Diameter until the calculated Bottom Bracket Drop - Front value matches the manufacturer's value. Steps for stock mixed wheel bikes where bottom bracket drop is given as a single value (at the bottom bracket): -Enter the complete bike geometry as listed except for the bottom bracket drop. -Enter a smaller value in the Bottom Bracket Drop - Rear field until the calculated Bottom Bracket Drop - True field matches the published value. -Modify the Rear Wheel Diameter until the calculated Bottom Bracket Height matches the manufacturer's published value. -If the calculated axle-to-crown dimension seems off, then modify the front wheel diameter until you think you've got the results close enough. The results from this method will always be approximate.
A8: 2 | B8: Some manufacturers provide the Chainstay Length and others use Rear Center. Those two measurements are slightly different by definition: Chainstay Length is the length of a line connecting the rear axle and the bottom bracket while Rear Center is strictly the horizontal distance between those two points. Select the appropriate one from the dropdown and enter that value into the calculator.
A9: 3 | B9: Standover required only for graphical representation of the bike. It is not used in any calculations and can be estimated or even ignored if not known.
A10: 4 | B10: The cockpit entries are only required if you want to calculate or compare bike fit parameters. Select N for the "Display Cockpit" dropdown and ignore all fields below it if you only want to compare frame geometry.
A11: 5 | B11: The entries noted as "Needed for RAD" are the minimum cockpit requirements to be filled out to calculate the RAD measurement.
A12: 6 | B12: RAD and RAAD are calculated from the center of the bottom bracket to the top of the grips, since the common way of measuring in practice requires running a string on top of the grips, between the middles of the two grips.

Sheet Geometry Calculator
D2: Mad Scientist MTB Geometry Calculator Compare stock and modified geometry for up to 5 bikes.
D3: Tire Diameter Estimator | G3: Units | H3: Bike 1 Base Geometry | J3: Bike 1 Modified Geometry | L3: Bike 2 Base Geometry | N3: Bike 2 Modified Geometry | P3: Bike 3 Base Geometry | R3: Bike 3 Modified Geometry | T3: Bike 4 Base Geometry | V3: Bike 4 Modified Geometry | X3: Bike 5 Base Geometry | Z3: Bike 5 Modified Geometry
J4: +/- Fork Travel/Axle-to-Crown (mm) | K4: 20 | N4: +/- Fork Travel/Axle-to-Crown (mm) | O4: 0 | R4: +/- Fork Travel/Axle-to-Crown (mm) | S4: 20 | V4: +/- Fork Travel/Axle-to-Crown (mm) | W4: 0 | Z4: +/- Fork Travel/Axle-to-Crown (mm) | AA4: 0
B5: Mad Scientist MTB | D5: Wheel Size | E5: 29 (700C) | G5: in | J5: +/- Angle Headset (°) | K5: -2 | N5: +/- Angle Headset (°) | O5: 0 | R5: +/- Angle Headset (°) | S5: -1.5 | V5: +/- Angle Headset (°) | W5: -2 | Z5: +/- Angle Headset (°) | AA5: -2
B6: Ontario, Canada | D6: Tire Width | E6: 2.4 | G6: mm | J6: +/- Reach Adjust Headset (mm) | K6: 0 | N6: +/- Reach Adjust Headset (mm) | O6: 0 | R6: +/- Reach Adjust Headset (mm) | S6: 0 | V6: +/- Reach Adjust Headset (mm) | W6: 0 | Z6: +/- Reach Adjust Headset (mm) | AA6: 0
B7: adam@madscientistmtb.com | D7: Bead Seat Diameter | E7: =VLOOKUP(E5,'Background calcs'!G466:H470,2,FALSE) -> 622 | G7: mm | J7: +/- Lower Headset Cup (mm) | K7: 0 | N7: +/- Lower Headset Cup (mm) | O7: 0 | R7: +/- Lower Headset Cup (mm) | S7: 0 | V7: +/- Lower Headset Cup (mm) | W7: 0 | Z7: +/- Lower Headset Cup (mm) | AA7: 0
B8: Version 1.0 | C8: 46217 | D8: Estimated Tire Diameter | E8: =E7+2*E6*25.4 -> 743.92 | G8: mm | J8: +/- Rear Center Length (mm) | K8: 10 | N8: +/- Rear Center Length (mm) | O8: 0 | R8: +/- Rear Center Length (mm) | S8: 0 | V8: +/- Rear Center Length (mm) | W8: 0 | Z8: +/- Rear Center Length (mm) | AA8: 0
B9: Geometry Parameters | D9: Bike Description (Make/Model/Size/etc.) | G9: - | H9: Year/Make/Model/Size/etc. 1 | J9: =H9&" Modified" -> Year/Make/Model/Size/etc. 1 Modified | L9: Year/Make/Model/Size/etc. 2 | N9: =L9&" Modified" -> Year/Make/Model/Size/etc. 2 Modified | P9: Year/Make/Model/Size/etc. 3 | R9: =P9&" Modified" -> Year/Make/Model/Size/etc. 3 Modified | T9: Year/Make/Model/Size/etc. 4 | V9: =T9&" Modified" -> Year/Make/Model/Size/etc. 4 Modified | X9: Year/Make/Model/Size/etc. 5 | Z9: =X9&" Modified" -> Year/Make/Model/Size/etc. 5 Modified
D10: Rear Tire DiameterNote 1 | G10: mm | H10: 740 | J10: 740 | L10: 754 | N10: 754 | P10: 726 | R10: 726 | T10: 744 | V10: 744 | X10: 765 | Z10: 765
D11: Front Tire DiameterNote 1 | G11: mm | H11: 740 | J11: 754 | L11: 754 | N11: 754 | P11: 726 | R11: 749 | T11: 744 | V11: 744 | X11: 765 | Z11: 765
D12: Reach | G12: mm | H12: 455 | J12: ='Background calcs'!J10-'Background calcs'!J6 -> 443.5762 | L12: 470 | N12: ='Background calcs'!N10-'Background calcs'!N6 -> 470 | P12: 450 | R12: ='Background calcs'!R10-'Background calcs'!R6 -> 434.50744 | T12: 462 | V12: ='Background calcs'!V10-'Background calcs'!V6 -> 463.08055 | X12: 415 | Z12: ='Background calcs'!Z10-'Background calcs'!Z6 -> 415.49654
D13: Stack | G13: mm | H13: 627 | J13: ='Background calcs'!J11-'Background calcs'!J7 -> 630.6406 | L13: 639 | N13: ='Background calcs'!N11-'Background calcs'!N7 -> 639 | P13: 623 | R13: ='Background calcs'!R11-'Background calcs'!R7 -> 630.67686 | T13: 613 | V13: ='Background calcs'!V11-'Background calcs'!V7 -> 607.98957 | X13: 623 | Z13: ='Background calcs'!Z11-'Background calcs'!Z7 -> 618.16236
D14: Head Angle | G14: ° | H14: 64.5 | J14: =H14-DEGREES('Background calcs'!I20)+K5 -> 61.802741 | L14: 65 | N14: =L14-DEGREES('Background calcs'!M20)+O5 -> 65 | P14: 68 | R14: =P14-DEGREES('Background calcs'!Q20)+S5 -> 65.349177 | T14: 66.5 | V14: =T14-DEGREES('Background calcs'!U20)+W5 -> 64.932561 | X14: 68 | Z14: =X14-DEGREES('Background calcs'!Y20)+AA5 -> 66.43505
D15: Effective Seat Tube Angle | G15: ° | H15: 76.6 | J15: =H15-DEGREES('Background calcs'!I20) -> 75.902741 | L15: 76.4 | N15: =L15-DEGREES('Background calcs'!M20) -> 76.4 | P15: 75 | R15: =P15-DEGREES('Background calcs'!Q20) -> 73.849177 | T15: 74.5 | V15: =T15-DEGREES('Background calcs'!U20) -> 74.932561 | X15: 75 | Z15: =X15-DEGREES('Background calcs'!Y20) -> 75.43505
D16: Seat Tube Length | G16: mm | H16: 420 | J16: =H16 -> 420 | L16: 410 | N16: =L16 -> 410 | P16: 420 | R16: =P16 -> 420 | T16: 464 | V16: =T16 -> 464 | X16: 470 | Z16: =X16 -> 470
D17: Manufacturer's Rear Dimension MethodNote 2 | G17: - | H17: Chainstay Length | J17: =H17 -> Chainstay Length | L17: Chainstay Length | N17: =L17 -> Chainstay Length | P17: Chainstay Length | R17: =P17 -> Chainstay Length | T17: Chainstay Length | V17: =T17 -> Chainstay Length | X17: Chainstay Length | Z17: =X17 -> Chainstay Length
D18: Rear Dimension Value (Chainstay Length or Rear Center Length) | G18: mm | H18: 437 | J18: N/A | L18: 428 | N18: N/A | P18: 415 | R18: N/A | T18: 435 | V18: N/A | X18: 470 | Z18: N/A
D19: Chainstay Length | G19: mm | H19: =IF(H17="Chainstay Length",H18,SQRT(H20^2+H21^2)) -> 437 | J19: =SQRT(('Background calcs'!J2-'Background calcs'!J6)^2+('Background calcs'!J3-'Background calcs'!J7)^2) -> 446.98838 | L19: =IF(L17="Chainstay Length",L18,SQRT(L20^2+L21^2)) -> 428 | N19: =SQRT(('Background calcs'!N2-'Background calcs'!N6)^2+('Background calcs'!N3-'Background calcs'!N7)^2) -> 428 | P19: =IF(P17="Chainstay Length",P18,SQRT(P20^2+P21^2)) -> 415 | R19: =SQRT(('Background calcs'!R2-'Background calcs'!R6)^2+('Background calcs'!R3-'Background calcs'!R7)^2) -> 415 | T19: =IF(T17="Chainstay Length",T18,SQRT(T20^2+T21^2)) -> 435 | V19: =SQRT(('Background calcs'!V2-'Background calcs'!V6)^2+('Background calcs'!V3-'Background calcs'!V7)^2) -> 435 | X19: =IF(X17="Chainstay Length",X18,SQRT(X20^2+X21^2)) -> 470 | Z19: =SQRT(('Background calcs'!Z2-'Background calcs'!Z6)^2+('Background calcs'!Z3-'Background calcs'!Z7)^2) -> 470
D20: Rear Center Length | G20: mm | H20: =IF(H17="Chainstay Length",SQRT(H19^2-H21^2),H18) -> 436.4806 | J20: ='Background calcs'!J6-'Background calcs'!J2 -> 446.70674 | L20: =IF(L17="Chainstay Length",SQRT(L19^2-L21^2),L18) -> 424.45141 | N20: ='Background calcs'!N6-'Background calcs'!N2 -> 424.45141 | P20: =IF(P17="Chainstay Length",SQRT(P19^2-P21^2),P18) -> 411.33928 | R20: ='Background calcs'!R6-'Background calcs'!R2 -> 412.36094 | T20: =IF(T17="Chainstay Length",SQRT(T19^2-T21^2),T18) -> 433.58967 | V20: ='Background calcs'!V6-'Background calcs'!V2 -> 433.31308 | X20: =IF(X17="Chainstay Length",SQRT(X19^2-X21^2),X18) -> 469.85929 | Z20: ='Background calcs'!Z6-'Background calcs'!Z2 -> 469.75842
D21: Bottom Bracket Drop - RearNote 1 | G21: mm | H21: 21.3 | J21: ='Background calcs'!J3-'Background calcs'!J7 -> 15.865127 | L21: 55 | N21: ='Background calcs'!N3-'Background calcs'!N7 -> 55 | P21: 55 | R21: ='Background calcs'!R3-'Background calcs'!R7 -> 46.727444 | T21: 35 | V21: ='Background calcs'!V3-'Background calcs'!V7 -> 38.272405 | X21: 11.5 | Z21: ='Background calcs'!Z3-'Background calcs'!Z7 -> 15.067305
D22: Bottom Bracket Drop - FrontNote 1 | G22: mm | H22: ='Background calcs'!H14-'Background calcs'!H7 -> 21.3 | J22: ='Background calcs'!J14-'Background calcs'!J7 -> 22.865127 | L22: ='Background calcs'!L14-'Background calcs'!L7 -> 55 | N22: ='Background calcs'!N14-'Background calcs'!N7 -> 55 | P22: ='Background calcs'!P14-'Background calcs'!P7 -> 55 | R22: ='Background calcs'!R14-'Background calcs'!R7 -> 58.227444 | T22: ='Background calcs'!T14-'Background calcs'!T7 -> 35 | V22: ='Background calcs'!V14-'Background calcs'!V7 -> 38.272405 | X22: ='Background calcs'!X14-'Background calcs'!X7 -> 11.5 | Z22: ='Background calcs'!Z14-'Background calcs'!Z7 -> 15.067305
D23: Bottom Bracket Drop - TrueNote 1 | G23: mm | H23: =('Background calcs'!H14-'Background calcs'!H3)/('Background calcs'!H18-'Background calcs'!H2)*('Background calcs'!H6-'Background calcs'!H2)+'Background calcs'!H3-'Background calcs'!H7 -> 21.3 | J23: =('Background calcs'!J14-'Background calcs'!J3)/('Background calcs'!J18-'Background calcs'!J2)*('Background calcs'!J6-'Background calcs'!J2)+'Background calcs'!J3-'Background calcs'!J7 -> 18.339394 | L23: =('Background calcs'!L14-'Background calcs'!L3)/('Background calcs'!L18-'Background calcs'!L2)*('Background calcs'!L6-'Background calcs'!L2)+'Background calcs'!L3-'Background calcs'!L7 -> 55 | N23: =('Background calcs'!N14-'Background calcs'!N3)/('Background calcs'!N18-'Background calcs'!N2)*('Background calcs'!N6-'Background calcs'!N2)+'Background calcs'!N3-'Background calcs'!N7 -> 55 | P23: =('Background calcs'!P14-'Background calcs'!P3)/('Background calcs'!P18-'Background calcs'!P2)*('Background calcs'!P6-'Background calcs'!P2)+'Background calcs'!P3-'Background calcs'!P7 -> 55 | R23: =('Background calcs'!R14-'Background calcs'!R3)/('Background calcs'!R18-'Background calcs'!R2)*('Background calcs'!R6-'Background calcs'!R2)+'Background calcs'!R3-'Background calcs'!R7 -> 50.795569 | T23: =('Background calcs'!T14-'Background calcs'!T3)/('Background calcs'!T18-'Background calcs'!T2)*('Background calcs'!T6-'Background calcs'!T2)+'Background calcs'!T3-'Background calcs'!T7 -> 35 | V23: =('Background calcs'!V14-'Background calcs'!V3)/('Background calcs'!V18-'Background calcs'!V2)*('Background calcs'!V6-'Background calcs'!V2)+'Background calcs'!V3-'Background calcs'!V7 -> 38.272405 | X23: =('Background calcs'!X14-'Background calcs'!X3)/('Background calcs'!X18-'Background calcs'!X2)*('Background calcs'!X6-'Background calcs'!X2)+'Background calcs'!X3-'Background calcs'!X7 -> 11.5 | Z23: =('Background calcs'!Z14-'Background calcs'!Z3)/('Background calcs'!Z18-'Background calcs'!Z2)*('Background calcs'!Z6-'Background calcs'!Z2)+'Background calcs'!Z3-'Background calcs'!Z7 -> 15.067305
D24: Bottom Bracket HeightNote 1 | G24: mm | H24: =H10/2-H21 -> 348.7 | J24: ='Background calcs'!J7-'Background calcs'!J15 -> 354.13487 | L24: =L10/2-L21 -> 322 | N24: ='Background calcs'!N7-'Background calcs'!N15 -> 322 | P24: =P10/2-P21 -> 308 | R24: ='Background calcs'!R7-'Background calcs'!R15 -> 316.27256 | T24: =T10/2-T21 -> 337 | V24: ='Background calcs'!V7-'Background calcs'!V15 -> 333.72759 | X24: =X10/2-X21 -> 371 | Z24: ='Background calcs'!Z7-'Background calcs'!Z15 -> 367.43269
D25: Head Tube Length | G25: mm | H25: 120 | J25: =H25 -> 120 | L25: 120 | N25: =L25 -> 120 | P25: 120 | R25: =P25 -> 120 | T25: 110 | V25: =T25 -> 110 | X25: 130 | Z25: =X25 -> 130
D26: Fork Offset/Rake | G26: mm | H26: 44 | J26: 42 | L26: 42 | N26: 42 | P26: 51 | R26: 51 | T26: 42 | V26: 42 | X26: 51 | Z26: 51
D27: StandoverNote 3 | G27: mm | H27: 700 | J27: ='Background calcs'!J23+J10/2 -> 704.74635 | L27: 640 | N27: ='Background calcs'!N23+N10/2 -> 640 | P27: 725 | R27: ='Background calcs'!R23+R10/2 -> 731.26033 | T27: 761 | V27: ='Background calcs'!V23+V10/2 -> 758.41082 | X27: 745 | Z27: ='Background calcs'!Z23+Z10/2 -> 742.07512
D28: Calculated Wheelbase | G28: mm | H28: ='Background calcs'!H19-'Background calcs'!H4 -> 1229.1335 | J28: ='Background calcs'!J19-'Background calcs'!J4 -> 1263.7873 | L28: ='Background calcs'!L19-'Background calcs'!L4 -> 1213.117 | N28: ='Background calcs'!N19-'Background calcs'!N4 -> 1213.117 | P28: ='Background calcs'!P19-'Background calcs'!P4 -> 1145.8314 | R28: ='Background calcs'!R19-'Background calcs'!R4 -> 1165.6845 | T28: ='Background calcs'!T19-'Background calcs'!T4 -> 1192.7097 | V28: ='Background calcs'!V19-'Background calcs'!V4 -> 1209.2413 | X28: ='Background calcs'!X19-'Background calcs'!X4 -> 1186.9266 | Z28: ='Background calcs'!Z19-'Background calcs'!Z4 -> 1203.9414
D29: Calculated Front Center | G29: mm | H29: ='Background calcs'!H19-'Background calcs'!H6 -> 792.65294 | J29: ='Background calcs'!J19-'Background calcs'!J6 -> 817.08057 | L29: ='Background calcs'!L19-'Background calcs'!L6 -> 788.66554 | N29: ='Background calcs'!N19-'Background calcs'!N6 -> 788.66554 | P29: ='Background calcs'!P19-'Background calcs'!P6 -> 734.49217 | R29: ='Background calcs'!R19-'Background calcs'!R6 -> 753.32357 | T29: ='Background calcs'!T19-'Background calcs'!T6 -> 759.12008 | V29: ='Background calcs'!V19-'Background calcs'!V6 -> 775.92822 | X29: ='Background calcs'!X19-'Background calcs'!X6 -> 717.06731 | Z29: ='Background calcs'!Z19-'Background calcs'!Z6 -> 734.183
D30: Calculated Effective Top Tube Length | G30: mm | H30: ='Background calcs'!H10-'Background calcs'!H13 -> 604.37247 | J30: ='Background calcs'!J10-'Background calcs'!J13 -> 600.56767 | L30: ='Background calcs'!L10-'Background calcs'!L13 -> 624.59037 | N30: ='Background calcs'!N10-'Background calcs'!N13 -> 624.59037 | P30: ='Background calcs'!P10-'Background calcs'!P13 -> 616.93235 | R30: ='Background calcs'!R10-'Background calcs'!R13 -> 613.91864 | T30: ='Background calcs'!T10-'Background calcs'!T13 -> 631.99995 | V30: ='Background calcs'!V10-'Background calcs'!V13 -> 628.44778 | X30: ='Background calcs'!X10-'Background calcs'!X13 -> 581.93235 | Z30: ='Background calcs'!Z10-'Background calcs'!Z13 -> 577.69364
D31: Calculated Span | G31: mm | H31: =SQRT(('Background calcs'!H6-'Background calcs'!H10)^2+('Background calcs'!H7-'Background calcs'!H11)^2) -> 774.69607 | J31: =SQRT(('Background calcs'!J6-'Background calcs'!J10)^2+('Background calcs'!J7-'Background calcs'!J11)^2) -> 771.01712 | L31: =SQRT(('Background calcs'!L6-'Background calcs'!L10)^2+('Background calcs'!L7-'Background calcs'!L11)^2) -> 793.23452 | N31: =SQRT(('Background calcs'!N6-'Background calcs'!N10)^2+('Background calcs'!N7-'Background calcs'!N11)^2) -> 793.23452 | P31: =SQRT(('Background calcs'!P6-'Background calcs'!P10)^2+('Background calcs'!P7-'Background calcs'!P11)^2) -> 768.52391 | R31: =SQRT(('Background calcs'!R6-'Background calcs'!R10)^2+('Background calcs'!R7-'Background calcs'!R11)^2) -> 765.86554 | T31: =SQRT(('Background calcs'!T6-'Background calcs'!T10)^2+('Background calcs'!T7-'Background calcs'!T11)^2) -> 767.60211 | V31: =SQRT(('Background calcs'!V6-'Background calcs'!V10)^2+('Background calcs'!V7-'Background calcs'!V11)^2) -> 764.26103 | X31: =SQRT(('Background calcs'!X6-'Background calcs'!X10)^2+('Background calcs'!X7-'Background calcs'!X11)^2) -> 748.56797 | Z31: =SQRT(('Background calcs'!Z6-'Background calcs'!Z10)^2+('Background calcs'!Z7-'Background calcs'!Z11)^2) -> 744.82352
D32: Calculated Axle-to-Crown Length + Lower Headset Cup Stack | G32: mm | H32: =SQRT(('Background calcs'!H8-'Background calcs'!H18)^2+('Background calcs'!H9-'Background calcs'!H14)^2) -> 573.74888 | J32: =SQRT(('Background calcs'!J8-'Background calcs'!J18)^2+('Background calcs'!J9-'Background calcs'!J14)^2) -> 593.54709 | L32: =SQRT(('Background calcs'!L8-'Background calcs'!L18)^2+('Background calcs'!L9-'Background calcs'!L14)^2) -> 545.57667 | N32: =SQRT(('Background calcs'!N8-'Background calcs'!N18)^2+('Background calcs'!N9-'Background calcs'!N14)^2) -> 545.57667 | P32: =SQRT(('Background calcs'!P8-'Background calcs'!P18)^2+('Background calcs'!P9-'Background calcs'!P14)^2) -> 515.74088 | R32: =SQRT(('Background calcs'!R8-'Background calcs'!R18)^2+('Background calcs'!R9-'Background calcs'!R14)^2) -> 535.64651 | T32: =SQRT(('Background calcs'!T8-'Background calcs'!T18)^2+('Background calcs'!T9-'Background calcs'!T14)^2) -> 540.17237 | V32: =SQRT(('Background calcs'!V8-'Background calcs'!V18)^2+('Background calcs'!V9-'Background calcs'!V14)^2) -> 540.17237 | X32: =SQRT(('Background calcs'!X8-'Background calcs'!X18)^2+('Background calcs'!X9-'Background calcs'!X14)^2) -> 552.48826 | Z32: =SQRT(('Background calcs'!Z8-'Background calcs'!Z18)^2+('Background calcs'!Z9-'Background calcs'!Z14)^2) -> 552.48826
D33: Calculated Trail | G33: mm | H33: =(H11/2*COS(RADIANS(H14))-H26)/SIN(RADIANS(H14)) -> 127.73209 | J33: =(J11/2*COS(RADIANS(J14))-J26)/SIN(RADIANS(J14)) -> 154.46694 | L33: =(L11/2*COS(RADIANS(L14))-L26)/SIN(RADIANS(L14)) -> 129.45611 | N33: =(N11/2*COS(RADIANS(N14))-N26)/SIN(RADIANS(N14)) -> 129.45611 | P33: =(P11/2*COS(RADIANS(P14))-P26)/SIN(RADIANS(P14)) -> 91.656248 | R33: =(R11/2*COS(RADIANS(R14))-R26)/SIN(RADIANS(R14)) -> 115.74762 | T33: =(T11/2*COS(RADIANS(T14))-T26)/SIN(RADIANS(T14)) -> 115.95168 | V33: =(V11/2*COS(RADIANS(V14))-V26)/SIN(RADIANS(V14)) -> 127.63245 | X33: =(X11/2*COS(RADIANS(X14))-X26)/SIN(RADIANS(X14)) -> 99.53476 | Z33: =(Z11/2*COS(RADIANS(Z14))-Z26)/SIN(RADIANS(Z14)) -> 111.1916
B34: Cockpit | D34: Display Cockpit (Y/N)Note 4 | G34: - | H34: Y | J34: Y | L34: Y | N34: Y | P34: Y | R34: Y | T34: Y | V34: Y | X34: Y | Z34: Y
C35: Needed for RADNote 5 | D35: Stem Length | G35: mm | H35: 40 | J35: 40 | L35: 40 | N35: 40 | P35: 45 | R35: 45 | T35: 40 | V35: 40 | X35: 50 | Z35: 50
D36: Stem Rise/Drop Angle | G36: ° | H36: 0 | J36: 0 | L36: 0 | N36: 0 | P36: 0 | R36: 0 | T36: 0 | V36: 0 | X36: 3 | Z36: 3
D37: Stack Height to Center of Stem Clamp | G37: mm | H37: 40 | J37: 50 | L37: 38 | N37: 38 | P37: 45 | R37: 45 | T37: 41 | V37: 41 | X37: 57 | Z37: 57
D38: Handlebar Rise | G38: mm | H38: 20 | J38: 20 | L38: 25 | N38: 25 | P38: 12 | R38: 12 | T38: 20 | V38: 20 | X38: 12 | Z38: 12
D39: Handlebar Backsweep Angle | G39: ° | H39: 8 | J39: 8 | L39: 9 | N39: 9 | P39: 9 | R39: 9 | T39: 9 | V39: 9 | X39: 9 | Z39: 9
D40: Handlebar Upsweep Angle | G40: ° | H40: 5 | J40: 5 | L40: 6 | N40: 6 | P40: 6 | R40: 6 | T40: 5 | V40: 5 | X40: 6 | Z40: 6
D41: Handlebar Roll - (0° is vertical, +ve forward) | G41: ° | H41: -15 | J41: -17 | L41: 0 | N41: 0 | P41: 0 | R41: 0 | T41: 0 | V41: 0 | X41: 0 | Z41: 0
...

Sheet Sagged Hardtail Calculator
B2: Mad Scientist MTB Sagged Hardtail Geometry Calculator
B4: This calculator is intended for hardtails only. Hardtails naturally steepen when the rider sits on the saddle, so the sagged geometry provides a better comparison to full suspension static bike geometry. Use this calculator to convert between published static and calculated sagged geometry or vice versa. | E4: Fork Travel (mm) | F4: 140
E5: Sag (%) | F5: 30
E6: Manufacturer's Geometry Method | F6: Static
D7: ="Published "&F6&" Base Geometry"&"" -> Published Static Base Geometry | E7: =IF(F6="Static", "Calculated Sagged Geometry", "Calculated Static Geometry") -> Calculated Sagged Geometry
B8: Rear Tire DiameterNote 1 | C8: mm | D8: 750 | E8: =D8 -> 750
B9: Front Tire DiameterNote 1 | C9: mm | D9: 750 | E9: =D9 -> 750
B10: Reach | C10: mm | D10: 480 | E10: ='Background calcs'!AD10-'Background calcs'!AD6 -> 498.6821
B11: Stack | C11: mm | D11: 629 | E11: ='Background calcs'!AD11-'Background calcs'!AD7 -> 614.29404
B12: Head Angle | C12: ° | D12: 65 | E12: =D12-DEGREES('Background calcs'!AC20) -> 66.721756
B13: Effective Seat Tube Angle | C13: ° | D13: 76 | E13: =D13-DEGREES('Background calcs'!AC20) -> 77.721756
B14: Seat Tube Length | C14: mm | D14: 445 | E14: =D14 -> 445
B15: Manufacturer's Rear Dimension MethodNote 2 | C15: - | D15: Chainstay Length | E15: =D15 -> Chainstay Length
B16: Rear Dimension Value (Chainstay Length or Rear Center Length) | C16: mm | D16: 435 | E16: N/A
B17: Chainstay Length | C17: mm | D17: =IF(D15="Chainstay Length",D16,SQRT(D18^2+D19^2)) -> 435 | E17: =SQRT(('Background calcs'!AD2-'Background calcs'!AD6)^2+('Background calcs'!AD3-'Background calcs'!AD7)^2) -> 435
B18: Rear Center Length | C18: mm | D18: =IF(D15="Chainstay Length",SQRT(D17^2-D19^2),D16) -> 433.33705 | E18: ='Background calcs'!AD6-'Background calcs'!AD2 -> 431.99967
B19: Bottom Bracket Drop - RearNote 1 | C19: mm | D19: 38 | E19: ='Background calcs'!AD3-'Background calcs'!AD7 -> 51.0028
B20: Bottom Bracket Drop - FrontNote 1 | C20: mm | D20: ='Background calcs'!AB14-'Background calcs'!AB7 -> 38 | E20: ='Background calcs'!AD14-'Background calcs'!AD7 -> 51.0028
B21: Bottom Bracket Drop - TrueNote 1 | C21: mm | D21: =('Background calcs'!AB14-'Background calcs'!AB3)/('Background calcs'!AB18-'Background calcs'!AB2)*('Background calcs'!AB6-'Background calcs'!AB2)+'Background calcs'!AB3-'Background calcs'!AB7 -> 38 | E21: =('Background calcs'!AD14-'Background calcs'!AD3)/('Background calcs'!AD18-'Background calcs'!AD2)*('Background calcs'!AD6-'Background calcs'!AD2)+'Background calcs'!AD3-'Background calcs'!AD7 -> 51.0028
B22: Bottom Bracket HeightNote 1 | C22: mm | D22: =D8/2-D19 -> 337 | E22: ='Background calcs'!AD7-'Background calcs'!AD15 -> 323.9972
B23: Head Tube Length | C23: mm | D23: 120 | E23: =D23 -> 120
B24: Fork Offset/Rake | C24: mm | D24: 42 | E24: =D24 -> 42
B25: Calculated Wheelbase | C25: mm | D25: ='Background calcs'!AB19-'Background calcs'!AB4 -> 1235.2667 | E25: ='Background calcs'!AD19-'Background calcs'!AD4 -> 1218.7417
B26: Calculated Front Center | C26: mm | D26: ='Background calcs'!AB19-'Background calcs'!AB6 -> 801.9297 | E26: ='Background calcs'!AD19-'Background calcs'!AD6 -> 786.74203
B27: Calculated Effective Top Tube Length | C27: mm | D27: ='Background calcs'!AB10-'Background calcs'!AB13 -> 636.82731 | E27: ='Background calcs'!AD10-'Background calcs'!AD13 -> 636.5398
B28: Calculated Span | C28: mm | D28: =SQRT(('Background calcs'!AB6-'Background calcs'!AB10)^2+('Background calcs'!AB7-'Background calcs'!AB11)^2) -> 791.22753 | E28: =SQRT(('Background calcs'!AD6-'Background calcs'!AD10)^2+('Background calcs'!AD7-'Background calcs'!AD11)^2) -> 791.22753
B29: Calculated Axle-to-Crown Length + Lower Headset Cup Stack | C29: mm | D29: =SQRT(('Background calcs'!AB8-'Background calcs'!AB18)^2+('Background calcs'!AB9-'Background calcs'!AB14)^2) -> 553.27771 | E29: =SQRT(('Background calcs'!AD8-'Background calcs'!AD18)^2+('Background calcs'!AD9-'Background calcs'!AD14)^2) -> 512.9999
B30: Calculated Trail | C30: mm | D30: =(D9/2*COS(RADIANS(D12))-D24)/SIN(RADIANS(D12)) -> 128.5235 | E30: =(E9/2*COS(RADIANS(E12))-E24)/SIN(RADIANS(E12)) -> 115.60981

Sheet RAD Calculator
B2: Mad Scientist MTB RAD Calculator
B3: This calculator is provided to find the RAD measurement without going through the effort of inputting all bike data into the Geometry Calculator. This calculation is reduced to the minimum requirements to find RAD using the parameters listed in the Geometry Calculator.
B4: Reach | C4: mm | D4: 485
B5: Stack | C5: mm | D5: 628
B6: Head Angle | C6: (°) | D6: 64.7
B7: Stem Length | C7: mm | D7: 40
B8: Stem Rise/Drop Angle | C8: (°) | D8: 0
B9: Stack Height to Center of Stem Clamp | C9: mm | D9: 40
B10: Handlebar Rise | C10: mm | D10: 20
B11: Handlebar Backsweep Angle | C11: (°) | D11: 8
B12: Handlebar Upsweep Angle | C12: (°) | D12: 5
B13: Length of Handlebar's Control Area On One Side | C13: mm | D13: 280
B14: Handlebar Roll - (0° is vertical, +ve forward) | C14: (°) | D14: 0
B15: Grip Length | C15: mm | D15: 130
B16: Grip Diameter | C16: mm | D16: 34
B17: Calculated Rider Area Distance (RAD) | C17: mm | D17: =SQRT((D4+D9*COS(RADIANS(180-D6))+D7*COS(RADIANS(90+D8-D6))+((D13-D15/2)*SIN(RADIANS(-D11))*SIN(RADIANS(90-D12)))*COS(RADIANS(-D14))-(D10+(D13-D15/2)*COS(RADIANS(90-D12)))*SIN(RADIANS(-D14)))^2+(D5+D9*SIN(RADIANS(180-D6))+D7*SIN(RADIANS(90+D8-D6))+((D13-D15/2)*SIN(RADIANS(-D11))*SIN(RADIANS(90-D12)))*SIN(RADIANS(-D14))+(D10+(D13-D15/2)*COS(RADIANS(90-D12)))*COS(RADIANS(-D14))+D16/2)^2) -> 876.40539
B18: Calculated Rider Area Angle in Degrees (RAAD or RAD Angle) | C18: (°) | D18: =DEGREES(ATAN((D5+D9*SIN(RADIANS(180-D6))+D7*SIN(RADIANS(90+D8-D6))+((D13-D15/2)*SIN(RADIANS(-D11))*SIN(RADIANS(90-D12)))*SIN(RADIANS(-D14))+(D10+(D13-D15/2)*COS(RADIANS(90-D12)))*COS(RADIANS(-D14))+D16/2)/(D4+D9*COS(RADIANS(180-D6))+D7*COS(RADIANS(90+D8-D6))+((D13-D15/2)*SIN(RADIANS(-D11))*SIN(RADIANS(90-D12)))*COS(RADIANS(-D14))-(D10+(D13-D15/2)*COS(RADIANS(90-D12)))*SIN(RADIANS(-D14))))) -> 57.238519
B19: Calculated Steering/Hands Offset | C19: mm | D19: =D4+D9*COS(RADIANS(180-D6))+D7*COS(RADIANS(90+D8-D6))+((D13-D15/2)*SIN(RADIANS(-D11))*SIN(RADIANS(90-D12)))*COS(RADIANS(-D14))-(D10+(D13-D15/2)*COS(RADIANS(90-D12)))*SIN(RADIANS(-D14))-(D4+D9*COS(RADIANS(180-D6))+((D5+D9*SIN(RADIANS(180-D6))+D7*SIN(RADIANS(90+D8-D6))+((D13-D15/2)*SIN(RADIANS(-D11))*SIN(RADIANS(90-D12)))*SIN(RADIANS(-D14))+(D10+(D13-D15/2)*COS(RADIANS(90-D12)))*COS(RADIANS(-D14)))-(D5+D9*SIN(RADIANS(180-D6))))/TAN(RADIANS(180-D6))) -> 32.746992

Sheet Rigid Fork AtC Calculator
B2: Mad Scientist MTB Rigid Fork Axle-to-Crown Calculator
B3: To convert from a suspension fork to a rigid fork or vice versa, maintining the same static geometry the bike had with sag (i.e. suspension correction).
B4: Fork conversion | D4: From suspension fork to rigid fork
B5: =IF(D4="From suspension fork to rigid fork", "Current Suspension Fork Axle-to-Crown Length", "Current Rigid Fork Axle-to-Crown Length") -> Current Suspension Fork Axle-to-Crown Length | C5: mm | D5: 541
B6: Fork Travel | C6: mm | D6: 130
B7: Preferred Sag | C7: % | D7: 30
B8: =IF(D4="From suspension fork to rigid fork", "Ideal Rigid Fork Axle-To-Crown Length", "Ideal Suspension Fork Axle-to-Crown Length") -> Ideal Rigid Fork Axle-To-Crown Length | C8: mm | D8: =IF(D4="From suspension fork to rigid fork", D5-D7/100*D6, D5+D7/100*D6) -> 502

Sheet Tire Diameter Estimator
B2: Mad Scientist MTB Tire Diameter Estimator
B3: This is a simple model of a tire that assumes the profile is circular, so that the tire height is equal to the width you specify. It is usually close enough, but if you're looking for higher accuracy, roll the tire one revolution along a measuring tape and divide the measured length (the circumference) by pi.
B4: Tire Diameter Estimator | E4: Units
B6: Wheel Size | C6: 29 (700C) | E6: in
B7: Tire Width | C7: 2.4 | E7: mm
B8: Bead Seat Diameter | C8: =VLOOKUP(C6,'Background calcs'!G467:H471,2,FALSE) -> 622 | E8: mm
B9: Estimated Tire Diameter | C9: =C8+2*C7*25.4 -> 743.92 | E9: mm

Sheet Measurement Definitions
A40: Parameter | B40: Definition
A41: +/- Fork Travel/Axle-to-Crown | B41: Enter +/- 10 mm for each +/- 10 mm of change in travel if the same fork is being used. If using a different fork, compare the stated axle-to-crown dimensions from the manufacturer's specs and put the difference in mm in this field.
A42: +/- Angle Headset | B42: Enter negative (-) values for slackening head angle and positive values (+) for steepening head angle. Note that if your angleset requires replacing a ZS bottom cup with an EC cup, the additional stack height should be added to the "Change to Lower Headtube Stack Height" field.
A43: +/- Reach Adjust Headset | B43: Enter the manufacturer's stated change in reach. The change to the steerer tube position shows up in both the reach and stack because the head tube is at an angle.
A44: +/- Lower Headset Cup | B44: If adding/removing a taller crown race or changing the lower headset cup to/from ZS or EC cup, put the change in cup stack height in this field.
A45: +/- Rear Center Length | B45: For bikes with adjustable chainstays. Although the manufacturer will usually describe this feature as a range of chainstay lengths, it's actually the rear center measurement that is directly changing by the specified amount, as the translation of the axle is purely horizontal.
A46: Rear Tire Diameter | B46: Use the Tire Size Estimator above. If both wheels on the manufacturer's specs are the same size, then the accuracy of this value only affects the calculated trail measurement and bottom bracket height. If mixing wheel sizes, accuracy of the wheel size estimate becomes important as it will dictate changes in every calculated measurement.
A47: Front Tire Diameter | B47: Use the Tire Size Estimator linked above. If both wheels on the manufacturer's specs are the same size, then the accuracy of this value only affects the calculated trail measurement and bottom bracket height. If mixing wheel sizes, accuracy of the wheel size estimate becomes important as it will dictate changes in every calculated measurement
A48: Reach | B48: Horizontal distance between center of bottom bracket and steering axis at top of headtube.
A49: Stack | B49: Vertical distance between center of bottom bracket and top of headtube along steering axis.
A50: Head Angle | B50: Angle between the steering axis and a horizontal line drawn backward from the front axle.
A51: Effective Seat Tube Angle | B51: Angle between a line drawn from center of bottom bracket to the saddle rails (with the saddle rails set at the same height as the top of head tube) and a horizontal line drawn backward from the center of bottom bracket.
... A89: Calculated Steering/Hands Offset | B89: Another Lee McCormack measurement. Horizontal distance from middle of grip to steering axis at middle of grip height. Values are positive when center of grip is in front of the steering axis and negative when behind the steering axis.

Sheet Background calcs
H1: 1 | I1: 1m temp | J1: 1m | L1: 2 | M1: 2m temp | N1: 2m | P1: 3 | Q1: 3m temp | R1: 3m | T1: 4 | U1: 4m temp | V1: 4m | X1: 5 | Y1: 5m temp | Z1: 5m | AB1: A | AC1: Am_temp | AD1: Am
F2: Ax | H2: 0 | I2: 0 | J2: 0 | L2: 0 | M2: 0 | N2: 0 | P2: 0 | Q2: 0 | R2: 0 | T2: 0 | U2: 0 | V2: 0 | X2: 0 | Y2: 0 | Z2: 0 | AB2: 0 | AC2: 0 | AD2: 0
F3: Ay | H3: 0 | I3: 0 | J3: 0 | L3: 0 | M3: 0 | N3: 0 | P3: 0 | Q3: 0 | R3: 0 | T3: 0 | U3: 0 | V3: 0 | X3: 0 | Y3: 0 | Z3: 0 | AB3: 0 | AC3: 0 | AD3: 0
F4: Rx | H4: =H2 -> 0 | I4: =I2 -> 0 | J4: =J2 -> 0 | L4: =L2 -> 0 | M4: =M2 -> 0 | N4: =N2 -> 0 | P4: =P2 -> 0 | Q4: =Q2 -> 0 | R4: =R2 -> 0 | T4: =T2 -> 0 | U4: =U2 -> 0 | V4: =V2 -> 0 | X4: =X2 -> 0 | Y4: =Y2 -> 0 | Z4: =Z2 -> 0 | AB4: =AB2 -> 0 | AC4: =AC2 -> 0 | AD4: =AD2 -> 0
F5: Ry | H5: =H3-'Geometry Calculator'!H10/2 -> -370 | I5: =I3-'Geometry Calculator'!J10/2 -> -370 | J5: =-'Geometry Calculator'!J10/2 -> -370 | L5: =L3-'Geometry Calculator'!L10/2 -> -377 | M5: =M3-'Geometry Calculator'!N10/2 -> -377 | N5: =-'Geometry Calculator'!N10/2 -> -377 | P5: =P3-'Geometry Calculator'!P10/2 -> -363 | Q5: =Q3-'Geometry Calculator'!R10/2 -> -363 | R5: =-'Geometry Calculator'!R10/2 -> -363 | T5: =T3-'Geometry Calculator'!T10/2 -> -372 | U5: =U3-'Geometry Calculator'!V10/2 -> -372 | V5: =-'Geometry Calculator'!V10/2 -> -372 | X5: =X3-'Geometry Calculator'!X10/2 -> -382.5 | Y5: =Y3-'Geometry Calculator'!Z10/2 -> -382.5 | Z5: =-'Geometry Calculator'!Z10/2 -> -382.5 | AB5: =AB3-'Sagged Hardtail Calculator'!D8/2 -> -375 | AC5: =AC3-'Sagged Hardtail Calculator'!E8/2 -> -375 | AD5: =-'Sagged Hardtail Calculator'!E8/2 -> -375
F6: Bx | H6: =IF('Geometry Calculator'!H17="Chainstay Length",SQRT('Geometry Calculator'!H19^2-'Geometry Calculator'!H21^2),'Geometry Calculator'!H20) -> 436.4806 | I6: =H6+'Geometry Calculator'!K8 -> 446.4806 | J6: =I6*COS(I20)-I7*SIN(I20) -> 446.70674 | L6: =IF('Geometry Calculator'!L17="Chainstay Length",SQRT('Geometry Calculator'!L19^2-'Geometry Calculator'!L21^2),'Geometry Calculator'!L20) -> 424.45141 | M6: =L6+'Geometry Calculator'!O8 -> 424.45141 | N6: =M6*COS(M20)-M7*SIN(M20) -> 424.45141 | P6: =IF('Geometry Calculator'!P17="Chainstay Length",SQRT('Geometry Calculator'!P19^2-'Geometry Calculator'!P21^2),'Geometry Calculator'!P20) -> 411.33928 | Q6: =P6+'Geometry Calculator'!S8 -> 411.33928 | R6: =Q6*COS(Q20)-Q7*SIN(Q20) -> 412.36094 | T6: =IF('Geometry Calculator'!T17="Chainstay Length",SQRT('Geometry Calculator'!T19^2-'Geometry Calculator'!T21^2),'Geometry Calculator'!T20) -> 433.58967 | U6: =T6+'Geometry Calculator'!W8 -> 433.58967 | V6: =U6*COS(U20)-U7*SIN(U20) -> 433.31308 | X6: =IF('Geometry Calculator'!X17="Chainstay Length",SQRT('Geometry Calculator'!X19^2-'Geometry Calculator'!X21^2),'Geometry Calculator'!X20) -> 469.85929 | Y6: =X6+'Geometry Calculator'!AA8 -> 469.85929 | Z6: =Y6*COS(Y20)-Y7*SIN(Y20) -> 469.75842 | AB6: =IF('Sagged Hardtail Calculator'!D15="Chainstay Length",SQRT('Sagged Hardtail Calculator'!D17^2-'Sagged Hardtail Calculator'!D19^2),'Sagged Hardtail Calculator'!D18) -> 433.33705 | AC6: =AB6 -> 433.33705 | AD6: =AC6*COS(AC20)-AC7*SIN(AC20) -> 431.99967
F7: By | H7: =H3-'Geometry Calculator'!H21 -> -21.3 | I7: =H7 -> -21.3 | J7: =I6*SIN(I20)+I7*COS(I20) -> -15.865127 | L7: =L3-'Geometry Calculator'!L21 -> -55 | M7: =L7 -> -55 | N7: =M6*SIN(M20)+M7*COS(M20) -> -55 | P7: =P3-'Geometry Calculator'!P21 -> -55 | Q7: =P7 -> -55 | R7: =Q6*SIN(Q20)+Q7*COS(Q20) -> -46.727444 | T7: =T3-'Geometry Calculator'!T21 -> -35 | U7: =T7 -> -35 | V7: =U6*SIN(U20)+U7*COS(U20) -> -38.272405 | X7: =X3-'Geometry Calculator'!X21 -> -11.5 | Y7: =X7 -> -11.5 | Z7: =Y6*SIN(Y20)+Y7*COS(Y20) -> -15.067305 | AB7: =AB3-'Sagged Hardtail Calculator'!D19 -> -38 | AC7: =AB7 -> -38 | AD7: =AC6*SIN(AC20)+AC7*COS(AC20) -> -51.0028
F8: Ex | H8: =H6+'Geometry Calculator'!H12+'Geometry Calculator'!H25*COS(RADIANS(360-'Geometry Calculator'!H14)) -> 943.14193 | I8: =H8+'Geometry Calculator'!K8+'Geometry Calculator'!K6*COS(RADIANS(90-'Geometry Calculator'!H14))+'Geometry Calculator'!K7*COS(RADIANS(360-'Geometry Calculator'!H14)) -> 953.14193 | J8: =I8*COS(I20)-I9*SIN(I20) -> 947.01853 | L8: =L6+'Geometry Calculator'!L12+'Geometry Calculator'!L25*COS(RADIANS(360-'Geometry Calculator'!L14)) -> 945.1656 | M8: =L8+'Geometry Calculator'!O8+'Geometry Calculator'!O6*COS(RADIANS(90-'Geometry Calculator'!L14))+'Geometry Calculator'!O7*COS(RADIANS(360-'Geometry Calculator'!L14)) -> 945.1656 | N8: =M8*COS(M20)-M9*SIN(M20) -> 945.1656 | P8: =P6+'Geometry Calculator'!P12+'Geometry Calculator'!P25*COS(RADIANS(360-'Geometry Calculator'!P14)) -> 906.29207 | Q8: =P8+'Geometry Calculator'!S8+'Geometry Calculator'!S6*COS(RADIANS(90-'Geometry Calculator'!P14))+'Geometry Calculator'!S7*COS(RADIANS(360-'Geometry Calculator'!P14)) -> 906.29207 | R8: =Q8*COS(Q20)-Q9*SIN(Q20) -> 896.936 | T8: =T6+'Geometry Calculator'!T12+'Geometry Calculator'!T25*COS(RADIANS(360-'Geometry Calculator'!T14)) -> 939.45207 | U8: =T8+'Geometry Calculator'!W8+'Geometry Calculator'!W6*COS(RADIANS(90-'Geometry Calculator'!T14))+'Geometry Calculator'!W7*COS(RADIANS(360-'Geometry Calculator'!T14)) -> 939.45207 | V8: =U8*COS(U20)-U9*SIN(U20) -> 943.02736 | X8: =X6+'Geometry Calculator'!X12+'Geometry Calculator'!X25*COS(RADIANS(360-'Geometry Calculator'!X14)) -> 933.55814 | Y8: =X8+'Geometry Calculator'!AA8+'Geometry Calculator'!AA6*COS(RADIANS(90-'Geometry Calculator'!X14))+'Geometry Calculator'!AA7*COS(RADIANS(360-'Geometry Calculator'!X14)) -> 933.55814 | Z8: =Y8*COS(Y20)-Y9*SIN(Y20) -> 937.25913 | AB8: =AB6+'Sagged Hardtail Calculator'!D10+'Sagged Hardtail Calculator'!D23*COS(RADIANS(360-'Sagged Hardtail Calculator'!D12)) -> 964.05124 | AC8: =AB8 -> 964.05124 | AD8: =AC8*COS(AC20)-AC9*SIN(AC20) -> 978.10537
F9: Ey | H9: =H7+'Geometry Calculator'!H13+'Geometry Calculator'!H25*SIN(RADIANS(360-'Geometry Calculator'!H14)) -> 497.38977 | I9: =H9+'Geometry Calculator'!K6*SIN(RADIANS(90-'Geometry Calculator'!H14))+'Geometry Calculator'!K7*SIN(RADIANS(360-'Geometry Calculator'!H14)) -> 497.38977 | J9: =I8*SIN(I20)+I9*COS(I20) -> 508.95188 | L9: =L7+'Geometry Calculator'!L13+'Geometry Calculator'!L25*SIN(RADIANS(360-'Geometry Calculator'!L14)) -> 475.24307 | M9: =L9+'Geometry Calculator'!O6*SIN(RADIANS(90-'Geometry Calculator'!L14))+'Geometry Calculator'!O7*SIN(RADIANS(360-'Geometry Calculator'!L14)) -> 475.24307 | N9: =M8*SIN(M20)+M9*COS(M20) -> 475.24307 | P9: =P7+'Geometry Calculator'!P13+'Geometry Calculator'!P25*SIN(RADIANS(360-'Geometry Calculator'!P14)) -> 456.73794 | Q9: =P9+'Geometry Calculator'!S6*SIN(RADIANS(90-'Geometry Calculator'!P14))+'Geometry Calculator'!S7*SIN(RADIANS(360-'Geometry Calculator'!P14)) -> 456.73794 | R9: =Q8*SIN(Q20)+Q9*COS(Q20) -> 474.84805 | T9: =T7+'Geometry Calculator'!T13+'Geometry Calculator'!T25*SIN(RADIANS(360-'Geometry Calculator'!T14)) -> 477.12339 | U9: =T9+'Geometry Calculator'!W6*SIN(RADIANS(90-'Geometry Calculator'!T14))+'Geometry Calculator'!W7*SIN(RADIANS(360-'Geometry Calculator'!T14)) -> 477.12339 | V9: =U8*SIN(U20)+U9*COS(U20) -> 470.01736 | X9: =X7+'Geometry Calculator'!X13+'Geometry Calculator'!X25*SIN(RADIANS(360-'Geometry Calculator'!X14)) -> 490.9661 | Y9: =X9+'Geometry Calculator'!AA6*SIN(RADIANS(90-'Geometry Calculator'!X14))+'Geometry Calculator'!AA7*SIN(RADIANS(360-'Geometry Calculator'!X14)) -> 490.9661 | Z9: =Y8*SIN(Y20)+Y9*COS(Y20) -> 483.86345 | AB9: =AB7+'Sagged Hardtail Calculator'!D11+'Sagged Hardtail Calculator'!D23*SIN(RADIANS(360-'Sagged Hardtail Calculator'!D12)) -> 482.24307 | AC9: =AB9 -> 482.24307 | AD9: =AC8*SIN(AC20)+AC9*COS(AC20) -> 453.05966
F10: Dx | H10: =H8+'Geometry Calculator'!H25*COS(RADIANS(180-'Geometry Calculator'!H14)) -> 891.4806 | I10: =I8+('Geometry Calculator'!H25+'Geometry Calculator'!K7)/COS(RADIANS('Geometry Calculator'!K5))*COS(RADIANS(180-('Geometry Calculator'!H14+'Geometry Calculator'!K5))) -> 897.69832 | J10: =I10*COS(I20)-I11*SIN(I20) -> 890.28294 | L10: =L8+'Geometry Calculator'!L25*COS(RADIANS(180-'Geometry Calculator'!L14)) -> 894.45141 | M10: =M8+('Geometry Calculator'!L25+'Geometry Calculator'!O7)/COS(RADIANS('Geometry Calculator'!O5))*COS(RADIANS(180-('Geometry Calculator'!L14+'Geometry Calculator'!O5))) -> 894.45141 | N10: =M10*COS(M20)-M11*SIN(M20) -> 894.45141 | P10: =P8+'Geometry Calculator'!P25*COS(RADIANS(180-'Geometry Calculator'!P14)) -> 861.33928 | Q10: =Q8+('Geometry Calculator'!P25+'Geometry Calculator'!S7)/COS(RADIANS('Geometry Calculator'!S5))*COS(RADIANS(180-('Geometry Calculator'!P14+'Geometry Calculator'!S5))) -> 858.42578 | R10: =Q10*COS(Q20)-Q11*SIN(Q20) -> 846.86838 | T10: =T8+'Geometry Calculator'!T25*COS(RADIANS(180-'Geometry Calculator'!T14)) -> 895.58967 | U10: =U8+('Geometry Calculator'!T25+'Geometry Calculator'!W7)/COS(RADIANS('Geometry Calculator'!W5))*COS(RADIANS(180-('Geometry Calculator'!T14+'Geometry Calculator'!W5))) -> 892.06698 | V10: =U10*COS(U20)-U11*SIN(U20) -> 896.39363 | X10: =X8+'Geometry Calculator'!X25*COS(RADIANS(180-'Geometry Calculator'!X14)) -> 884.85929 | Y10: =Y8+('Geometry Calculator'!X25+'Geometry Calculator'!AA7)/COS(RADIANS('Geometry Calculator'!AA5))*COS(RADIANS(180-('Geometry Calculator'!X14+'Geometry Calculator'!AA5))) -> 880.65015 | Z10: =Y10*COS(Y20)-Y11*SIN(Y20) -> 885.25496 | AB10: =AB8+'Sagged Hardtail Calculator'!D23*COS(RADIANS(180-'Sagged Hardtail Calculator'!D12)) -> 913.33705 | AC10: =AC8+('Sagged Hardtail Calculator'!D23)*COS(RADIANS(180-('Sagged Hardtail Calculator'!D12))) -> 913.33705 | AD10: =AC10*COS(AC20)-AC11*SIN(AC20) -> 930.68176
F11: Dy | H11: =H9+'Geometry Calculator'!H25*SIN(RADIANS(180-'Geometry Calculator'!H14)) -> 605.7 | I11: =I9+('Geometry Calculator'!H25+'Geometry Calculator'!K7)/COS(RADIANS('Geometry Calculator'!K5))*SIN(RADIANS(180-('Geometry Calculator'!H14+'Geometry Calculator'!K5))) -> 603.89595 | J11: =I10*SIN(I20)+I11*COS(I20) -> 614.77547 | L11: =L9+'Geometry Calculator'!L25*SIN(RADIANS(180-'Geometry Calculator'!L14)) -> 584 | M11: =M9+('Geometry Calculator'!L25+'Geometry Calculator'!O7)/COS(RADIANS('Geometry Calculator'!O5))*SIN(RADIANS(180-('Geometry Calculator'!L14+'Geometry Calculator'!O5))) -> 584 | N11: =M10*SIN(M20)+M11*COS(M20) -> 584 | P11: =P9+'Geometry Calculator'!P25*SIN(RADIANS(180-'Geometry Calculator'!P14)) -> 568 | Q11: =Q9+('Geometry Calculator'!P25+'Geometry Calculator'!S7)/COS(RADIANS('Geometry Calculator'!S5))*SIN(RADIANS(180-('Geometry Calculator'!P14+'Geometry Calculator'!S5))) -> 566.82287 | R11: =Q10*SIN(Q20)+Q11*COS(Q20) -> 583.94942 | T11: =T9+'Geometry Calculator'!T25*SIN(RADIANS(180-'Geometry Calculator'!T14)) -> 578 | U11: =U9+('Geometry Calculator'!T25+'Geometry Calculator'!W7)/COS(RADIANS('Geometry Calculator'!W5))*SIN(RADIANS(180-('Geometry Calculator'!T14+'Geometry Calculator'!W5))) -> 576.46829 | V11: =U10*SIN(U20)+U11*COS(U20) -> 569.71717 | X11: =X9+'Geometry Calculator'!X25*SIN(RADIANS(180-'Geometry Calculator'!X14)) -> 611.5 | Y11: =Y9+('Geometry Calculator'!X25+'Geometry Calculator'!AA7)/COS(RADIANS('Geometry Calculator'!AA5))*SIN(RADIANS(180-('Geometry Calculator'!X14+'Geometry Calculator'!AA5))) -> 609.7994 | Z11: =Y10*SIN(Y20)+Y11*COS(Y20) -> 603.09505 | AB11: =AB9+'Sagged Hardtail Calculator'!D23*SIN(RADIANS(180-'Sagged Hardtail Calculator'!D12)) -> 591 | AC11: =AC9+('Sagged Hardtail Calculator'!D23)*SIN(RADIANS(180-('Sagged Hardtail Calculator'!D12))) -> 591 | AD11: =AC10*SIN(AC20)+AC11*COS(AC20) -> 563.29124
F12: Ky | H12: =H11 -> 605.7 | I12: =H12 -> 605.7 | J12: =I13*SIN(I20)+I12*COS(I20) -> 609.27071 | L12: =L11 -> 584 | M12: =L12 -> 584 | N12: =M13*SIN(M20)+M12*COS(M20) -> 584 | P12: =P11 -> 568 | Q12: =P12 -> 568 | R12: =Q13*SIN(Q20)+Q12*COS(Q20) -> 572.79417 | T12: =T11 -> 578 | U12: =T12 -> 578 | V12: =U13*SIN(U20)+U12*COS(U20) -> 575.99355 | X12: =X11 -> 611.5 | Y12: =X12 -> 611.5 | Z12: =Y13*SIN(Y20)+Y12*COS(Y20) -> 609.18225 | AB12: =AB11 -> 591 | AC12: =AB12 -> 591 | AD12: =AC13*SIN(AC20)+AC12*COS(AC20) -> 582.42522
F13: Kx | H13: =H6-(H12-H7)/TAN(RADIANS('Geometry Calculator'!H15)) -> 287.10813 | I13: =H13+'Geometry Calculator'!K8 -> 297.10813 | J13: =I13*COS(I20)-I12*SIN(I20) -> 289.71526 | L13: =L6-(L12-L7)/TAN(RADIANS('Geometry Calculator'!L15)) -> 269.86104 | M13: =L13+'Geometry Calculator'!O8 -> 269.86104 | N13: =M13*COS(M20)-M12*SIN(M20) -> 269.86104 | P13: =P6-(P12-P7)/TAN(RADIANS('Geometry Calculator'!P15)) -> 244.40693 | Q13: =P13+'Geometry Calculator'!S8 -> 244.40693 | R13: =Q13*COS(Q20)-Q12*SIN(Q20) -> 232.94975 | T13: =T6-(T12-T7)/TAN(RADIANS('Geometry Calculator'!T15)) -> 263.58972 | U13: =T13+'Geometry Calculator'!W8 -> 263.58972 | V13: =U13*COS(U20)-U12*SIN(U20) -> 267.94584 | X13: =X6-(X12-X7)/TAN(RADIANS('Geometry Calculator'!X15)) -> 302.92694 | Y13: =X13+'Geometry Calculator'!AA8 -> 302.92694 | Z13: =Y13*COS(Y20)-Y12*SIN(Y20) -> 307.56132 | AB13: =AB6-(AB12-AB7)/TAN(RADIANS('Sagged Hardtail Calculator'!D13)) -> 276.50974 | AC13: =AB13 -> 276.50974 | AD13: =AC13*COS(AC20)-AC12*SIN(AC20) -> 294.14196
F14: Hy | H14: =H15+'Geometry Calculator'!H11/2 -> 0 | I14: =I16+'Geometry Calculator'!J26*SIN(RADIANS(90-('Geometry Calculator'!H14+'Geometry Calculator'!K5))) -> -8.3797544 | J14: =I18*SIN(I20)+I14*COS(I20) -> 7 | L14: =L15+'Geometry Calculator'!L11/2 -> 0 | M14: =M16+'Geometry Calculator'!N26*SIN(RADIANS(90-('Geometry Calculator'!L14+'Geometry Calculator'!O5))) -> 0 | N14: =M18*SIN(M20)+M14*COS(M20) -> 0 | P14: =P15+'Geometry Calculator'!P11/2 -> 0 | Q14: =Q16+'Geometry Calculator'!R26*SIN(RADIANS(90-('Geometry Calculator'!P14+'Geometry Calculator'!S5))) -> -11.914279 | R14: =Q18*SIN(Q20)+Q14*COS(Q20) -> 11.5 | T14: =T15+'Geometry Calculator'!T11/2 -> 0 | U14: =U16+'Geometry Calculator'!V26*SIN(RADIANS(90-('Geometry Calculator'!T14+'Geometry Calculator'!W5))) -> 9.1292163 | V14: =U18*SIN(U20)+U14*COS(U20) -> 0 | X14: =X15+'Geometry Calculator'!X11/2 -> 0 | Y14: =Y16+'Geometry Calculator'!Z26*SIN(RADIANS(90-('Geometry Calculator'!X14+'Geometry Calculator'!AA5))) -> 9.1415147 | Z14: =Y18*SIN(Y20)+Y14*COS(Y20) -> 0 | AB14: =AB15+'Sagged Hardtail Calculator'!D9/2 -> 0 | AC14: =AC16+'Sagged Hardtail Calculator'!E24*SIN(RADIANS(90-('Sagged Hardtail Calculator'!D12))) -> 36.618062 | AD14: =AC18*SIN(AC20)+AC14*COS(AC20) -> 0
F15: Fy | H15: =H5 -> -370 | J15: =J14-'Geometry Calculator'!J11/2 -> -370 | L15: =L5 -> -377 | N15: =N14-'Geometry Calculator'!N11/2 -> -377 | P15: =P5 -> -363 | R15: =R14-'Geometry Calculator'!R11/2 -> -363 | T15: =T5 -> -372 | V15: =V14-'Geometry Calculator'!V11/2 -> -372 | X15: =X5 -> -382.5 | Z15: =Z14-'Geometry Calculator'!Z11/2 -> -382.5 | AB15: =AB5 -> -375 | AD15: =AD14-'Sagged Hardtail Calculator'!E9/2 -> -375
F16: Gy | H16: =H14+'Geometry Calculator'!H26*SIN(RADIANS(270-'Geometry Calculator'!H14)) -> -18.942488 | I16: =I9+(SQRT((H16-H9)^2+(H17-H8)^2)+'Geometry Calculator'!K4)*SIN(RADIANS(360-('Geometry Calculator'!H14+'Geometry Calculator'!K5))) -> -27.773196 | J16: =I17*SIN(I20)+I16*COS(I20) -> -12.845361 | L16: =L14+'Geometry Calculator'!L26*SIN(RADIANS(270-'Geometry Calculator'!L14)) -> -17.749967 | M16: =M9+(SQRT((L16-L9)^2+(L17-L8)^2)+'Geometry Calculator'!O4)*SIN(RADIANS(360-('Geometry Calculator'!L14+'Geometry Calculator'!O5))) -> -17.749967 | N16: =M17*SIN(M20)+M16*COS(M20) -> -17.749967 | P16: =P14+'Geometry Calculator'!P26*SIN(RADIANS(270-'Geometry Calculator'!P14)) -> -19.104936 | Q16: =Q9+(SQRT((P16-P9)^2+(P17-P8)^2)+'Geometry Calculator'!S4)*SIN(RADIANS(360-('Geometry Calculator'!P14+'Geometry Calculator'!S5))) -> -32.250481 | R16: =Q17*SIN(Q20)+Q16*COS(Q20) -> -9.7714446 | T16: =T14+'Geometry Calculator'!T26*SIN(RADIANS(270-'Geometry Calculator'!T14)) -> -16.747461 | U16: =U9+(SQRT((T16-T9)^2+(T17-T8)^2)+'Geometry Calculator'!W4)*SIN(RADIANS(360-('Geometry Calculator'!T14+'Geometry Calculator'!W5))) -> -8.9522498 | V16: =U17*SIN(U20)+U16*COS(U20) -> -17.794758 | X16: =X14+'Geometry Calculator'!X26*SIN(RADIANS(270-'Geometry Calculator'!X14)) -> -19.104936 | Y16: =Y9+(SQRT((X16-X9)^2+(X17-X8)^2)+'Geometry Calculator'!AA4)*SIN(RADIANS(360-('Geometry Calculator'!X14+'Geometry Calculator'!AA5))) -> -11.602054 | Z16: =Y17*SIN(Y20)+Y16*COS(Y20) -> -20.389207 | AB16: =AB14+'Sagged Hardtail Calculator'!D24*SIN(RADIANS(270-'Sagged Hardtail Calculator'!D12)) -> -17.749967 | AC16: =IF('Sagged Hardtail Calculator'!F6="Static",AB9+('Sagged Hardtail Calculator'!D29-'Sagged Hardtail Calculator'!F4*'Sagged Hardtail Calculator'!F5/100)*SIN(RADIANS(360-'Sagged Hardtail Calculator'!D12)),AB9+('Sagged Hardtail Calculator'!D29+'Sagged Hardtail Calculator'!F4*'Sagged Hardtail Calculator'!F5/100)*SIN(RADIANS(360-'Sagged Hardtail Calculator'!D12))) -> 18.868095 | AD16: =AC17*SIN(AC20)+AC16*COS(AC20) -> -16.598262
F17: Gx | H17: =(H9-H16)*TAN(RADIANS(90-'Geometry Calculator'!H14))+H8 -> 1189.4198 | I17: =I8+(SQRT((H16-H9)^2+(H17-H8)^2)+'Geometry Calculator'!K4)*COS(RADIANS(360-('Geometry Calculator'!H14+'Geometry Calculator'!K5))) -> 1226.5245 | J17: =I17*COS(I20)-I16*SIN(I20) -> 1226.7716 | L17: =(L9-L16)*TAN(RADIANS(90-'Geometry Calculator'!L14))+L8 -> 1175.052 | M17: =M8+(SQRT((L16-L9)^2+(L17-L8)^2)+'Geometry Calculator'!O4)*COS(RADIANS(360-('Geometry Calculator'!L14+'Geometry Calculator'!O5))) -> 1175.052 | N17: =M17*COS(M20)-M16*SIN(M20) -> 1175.052 | P17: =(P9-P16)*TAN(RADIANS(90-'Geometry Calculator'!P14))+P8 -> 1098.5451 | Q17: =Q8+(SQRT((P16-P9)^2+(P17-P8)^2)+'Geometry Calculator'!S4)*COS(RADIANS(360-('Geometry Calculator'!P14+'Geometry Calculator'!S5))) -> 1118.9103 | R17: =Q17*COS(Q20)-Q16*SIN(Q20) -> 1119.3323 | T17: =(T9-T16)*TAN(RADIANS(90-'Geometry Calculator'!T14))+T8 -> 1154.1932 | U17: =U8+(SQRT((T16-T9)^2+(T17-T8)^2)+'Geometry Calculator'!W4)*COS(RADIANS(360-('Geometry Calculator'!T14+'Geometry Calculator'!W5))) -> 1171.2983 | V17: =U17*COS(U20)-U16*SIN(U20) -> 1171.1973 | X17: =(X9-X16)*TAN(RADIANS(90-'Geometry Calculator'!X14))+X8 -> 1139.6402 | Y17: =Y8+(SQRT((X16-X9)^2+(X17-X8)^2)+'Geometry Calculator'!AA4)*COS(RADIANS(360-('Geometry Calculator'!X14+'Geometry Calculator'!AA5))) -> 1157.3159 | Z17: =Y17*COS(Y20)-Y16*SIN(Y20) -> 1157.1944 | AB17: =(AB9-AB16)*TAN(RADIANS(90-'Sagged Hardtail Calculator'!D12))+AB8 -> 1197.2018 | AC17: =IF('Sagged Hardtail Calculator'!F6="Static",AB8+('Sagged Hardtail Calculator'!D29-'Sagged Hardtail Calculator'!F4*'Sagged Hardtail Calculator'!F5/100)*COS(RADIANS(360-'Sagged Hardtail Calculator'!D12)),AB8+('Sagged Hardtail Calculator'!D29+'Sagged Hardtail Calculator'!F4*'Sagged Hardtail Calculator'!F5/100)*COS(RADIANS(360-'Sagged Hardtail Calculator'!D12))) -> 1180.1265 | AD17: =AC17*COS(AC20)-AC16*SIN(AC20) -> 1180.1606
F18: Hx | H18: =H17+'Geometry Calculator'!H26*COS(RADIANS(90-'Geometry Calculator'!H14)) -> 1229.1335 | I18: =I17+'Geometry Calculator'!J26*COS(RADIANS(90-('Geometry Calculator'!H14+'Geometry Calculator'!K5))) -> 1263.7789 | J18: =I18*COS(I20)-I14*SIN(I20) -> 1263.7873 | L18: =L17+'Geometry Calculator'!L26*COS(RADIANS(90-'Geometry Calculator'!L14)) -> 1213.117 | M18: =M17+'Geometry Calculator'!N26*COS(RADIANS(90-('Geometry Calculator'!L14+'Geometry Calculator'!O5))) -> 1213.117 | N18: =M18*COS(M20)-M14*SIN(M20) -> 1213.117 | P18: =P17+'Geometry Calculator'!P26*COS(RADIANS(90-'Geometry Calculator'!P14)) -> 1145.8314 | Q18: =Q17+'Geometry Calculator'!R26*COS(RADIANS(90-('Geometry Calculator'!P14+'Geometry Calculator'!S5))) -> 1165.6803 | R18: =Q18*COS(Q20)-Q14*SIN(Q20) -> 1165.6845 | T18: =T17+'Geometry Calculator'!T26*COS(RADIANS(90-'Geometry Calculator'!T14)) -> 1192.7097 | U18: =U17+'Geometry Calculator'!V26*COS(RADIANS(90-('Geometry Calculator'!T14+'Geometry Calculator'!W5))) -> 1209.2068 | V18: =U18*COS(U20)-U14*SIN(U20) -> 1209.2413 | X18: =X17+'Geometry Calculator'!X26*COS(RADIANS(90-'Geometry Calculator'!X14)) -> 1186.9266 | Y18: =Y17+'Geometry Calculator'!Z26*COS(RADIANS(90-('Geometry Calculator'!X14+'Geometry Calculator'!AA5))) -> 1203.9067 | Z18: =Y18*COS(Y20)-Y14*SIN(Y20) -> 1203.9414 | AB18: =AB17+'Sagged Hardtail Calculator'!D24*COS(RADIANS(90-'Sagged Hardtail Calculator'!D12)) -> 1235.2667 | AC18: =AC17+'Sagged Hardtail Calculator'!E24*COS(RADIANS(90-('Sagged Hardtail Calculator'!D12))) -> 1218.1915 | AD18: =AC18*COS(AC20)-AC14*SIN(AC20) -> 1218.7417
F19: Fx | H19: =H18 -> 1229.1335 | J19: =J18 -> 1263.7873 | L19: =L18 -> 1213.117 | N19: =N18 -> 1213.117 | P19: =P18 -> 1145.8314 | R19: =R18 -> 1165.6845 | T19: =T18 -> 1192.7097 | V19: =V18 -> 1209.2413 | X19: =X18 -> 1186.9266 | Z19: =Z18 -> 1203.9414 | AB19: =AB18 -> 1235.2667 | AD19: =AD18 -> 1218.7417
F20: rotangle | H20: - | I20: =ASIN(('Geometry Calculator'!J11/2-'Geometry Calculator'!J10/2)/SQRT(I14^2+I18^2))-ASIN(I14/SQRT(I14^2+I18^2)) -> 0.012169465 | L20: - | M20: =ASIN(('Geometry Calculator'!N11/2-'Geometry Calculator'!N10/2)/SQRT(M14^2+M18^2))-ASIN(M14/SQRT(M14^2+M18^2)) -> 0 | P20: - | Q20: =ASIN(('Geometry Calculator'!R11/2-'Geometry Calculator'!R10/2)/SQRT(Q14^2+Q18^2))-ASIN(Q14/SQRT(Q14^2+Q18^2)) -> 0.020085652 | T20: - | U20: =ASIN(('Geometry Calculator'!V11/2-'Geometry Calculator'!V10/2)/SQRT(U14^2+U18^2))-ASIN(U14/SQRT(U14^2+U18^2)) -> -0.0075496123 | X20: - | Y20: =ASIN(('Geometry Calculator'!Z11/2-'Geometry Calculator'!Z10/2)/SQRT(Y14^2+Y18^2))-ASIN(Y14/SQRT(Y14^2+Y18^2)) -> -0.0075930626 | AB20: - | AC20: =ASIN(('Sagged Hardtail Calculator'!E9/2-'Sagged Hardtail Calculator'!E8/2)/SQRT(AC14^2+AC18^2))-ASIN(AC14/SQRT(AC14^2+AC18^2)) -> -0.030050316
F21: mASA | H21: =-TAN(RADIANS('Geometry Calculator'!H46)) -> -2.9042109 | J21: =-TAN(RADIANS('Geometry Calculator'!J46)) -> -2.7933127 | L21: =-TAN(RADIANS('Geometry Calculator'!L46)) -> -3.6058835 | N21: =-TAN(RADIANS('Geometry Calculator'!N46)) -> -3.6058835 | P21: =-TAN(RADIANS('Geometry Calculator'!P46)) -> -2.9042109 | R21: =-TAN(RADIANS('Geometry Calculator'!R46)) -> -2.7251359 | T21: =-TAN(RADIANS('Geometry Calculator'!T46)) -> -2.4261819 | V21: =-TAN(RADIANS('Geometry Calculator'!V46)) -> -2.4791423 | X21: =-TAN(RADIANS('Geometry Calculator'!X46)) -> -3.0776835 | Z21: =-TAN(RADIANS('Geometry Calculator'!Z46)) -> -3.1591034
F22: bASA | H22: =H12-H21*H13 -> 1439.5225 | J22: =J12-J21*J13 -> 1418.536 | L22: =L12-L21*L13 -> 1557.0875 | N22: =N12-N21*N13 -> 1557.0875 | P22: =P12-P21*P13 -> 1277.8093 | R22: =R12-R21*R13 -> 1207.6139 | T22: =T12-T21*T13 -> 1217.5166 | V22: =V12-V21*V13 -> 1240.2694 | X22: =X12-X21*X13 -> 1543.8133 | Z22: =Z12-Z21*Z13 -> 1580.8003
F23: Jy | H23: =IF('Geometry Calculator'!H27>0,'Geometry Calculator'!H27-(H3-H5),'Geometry Calculator'!H16-75) -> 330 | I23: =H23 -> 330 | J23: =I24*SIN(I20)+I23*COS(I20) -> 334.74635 | L23: =IF('Geometry Calculator'!L27>0,'Geometry Calculator'!L27-(L3-L5),'Geometry Calculator'!L16-75) -> 263 | M23: =L23 -> 263 | N23: =M24*SIN(M20)+M23*COS(M20) -> 263 | P23: =IF('Geometry Calculator'!P27>0,'Geometry Calculator'!P27-(P3-P5),'Geometry Calculator'!P16-75) -> 362 | Q23: =P23 -> 362 | R23: =Q24*SIN(Q20)+Q23*COS(Q20) -> 368.26033 | T23: =IF('Geometry Calculator'!T27>0,'Geometry Calculator'!T27-(T3-T5),'Geometry Calculator'!T16-75) -> 389 | U23: =T23 -> 389 | V23: =U24*SIN(U20)+U23*COS(U20) -> 386.41082 | X23: =IF('Geometry Calculator'!X27>0,'Geometry Calculator'!X27-(X3-X5),'Geometry Calculator'!X16-75) -> 362.5 | Y23: =X23 -> 362.5 | Z23: =Y24*SIN(Y20)+Y23*COS(Y20) -> 359.57512
F24: Jx | H24: =(H23-H22)/H21 -> 382.03925 | I24: =H24+'Geometry Calculator'!K8 -> 392.03925 | J24: =I24*COS(I20)-I23*SIN(I20) -> 387.99439 | L24: =(L23-L22)/L21 -> 358.88222 | M24: =L24+'Geometry Calculator'!O8 -> 358.88222 | N24: =M24*COS(M20)-M23*SIN(M20) -> 358.88222 | P24: =(P23-P22)/P21 -> 315.33842 | Q24: =P24+'Geometry Calculator'!S8 -> 315.33842 | R24: =Q24*COS(Q20)-Q23*SIN(Q20) -> 308.00429 | T24: =(T23-T22)/T21 -> 341.4899 | U24: =T24+'Geometry Calculator'!W8 -> 341.4899 | V24: =U24*COS(U20)-U23*SIN(U20) -> 344.41694 | X24: =(X23-X22)/X21 -> 383.83194 | Y24: =X24+'Geometry Calculator'!AA8 -> 383.83194 | Z24: =Y24*COS(Y20)-Y23*SIN(Y20) -> 386.57334
F25: Condition on seat angles | H25: {=_xlfn.IFS(AND('Geometry Calculator'!H15<=90,'Geometry Calculator'!H46>'Geometry Calculator'!H15),1,AND('Geometry Calculator'!H15>=90,'Geometry Calculator'!H46<'Geometry Calculator'!H15),2,TRUE,3)} -> 3 | L25: {=_xlfn.IFS(AND('Geometry Calculator'!L15<=90,'Geometry Calculator'!L46>'Geometry Calculator'!L15),1,AND('Geometry Calculator'!L15>=90,'Geometry Calculator'!L46<'Geometry Calculator'!L15),2,TRUE,3)} -> 3 | P25: {=_xlfn.IFS(AND('Geometry Calculator'!P15<=90,'Geometry Calculator'!P46>'Geometry Calculator'!P15),1,AND('Geometry Calculator'!P15>=90,'Geometry Calculator'!P46<'Geometry Calculator'!P15),2,TRUE,3)} -> 3 | T25: {=_xlfn.IFS(AND('Geometry Calculator'!T15<=90,'Geometry Calculator'!T46>'Geometry Calculator'!T15),1,AND('Geometry Calculator'!T15>=90,'Geometry Calculator'!T46<'Geometry Calculator'!T15),2,TRUE,3)} -> 3 | X25: {=_xlfn.IFS(AND('Geometry Calculator'!X15<=90,'Geometry Calculator'!X46>'Geometry Calculator'!X15),1,AND('Geometry Calculator'!X15>=90,'Geometry Calculator'!X46<'Geometry Calculator'!X15),2,TRUE,3)} -> 3
F26: Ix | H26: {=_xlfn.IFS(H25=1,(H7+0.8*ABS((H23-H7)/(H24-H6))*H6-H22)/(H21+0.8*ABS((H23-H7)/(H24-H6))),H25=2,(H7-0.8*ABS((H23-H7)/(H24-H6))*H6-H22)/(H21-0.8*ABS((H23-H7)/(H24-H6))),H25=3,H6)} -> 436.4806 | I26: =H26+'Geometry Calculator'!K8 -> 446.4806 | J26: =I26*COS(I20)-I27*SIN(I20) -> 444.35577 | L26: {=_xlfn.IFS(L25=1,(L7+0.8*ABS((L23-L7)/(L24-L6))*L6-L22)/(L21+0.8*ABS((L23-L7)/(L24-L6))),L25=2,(L7-0.8*ABS((L23-L7)/(L24-L6))*L6-L22)/(L21-0.8*ABS((L23-L7)/(L24-L6))),L25=3,L6)} -> 424.45141 | M26: =L26+'Geometry Calculator'!O8 -> 424.45141 | N26: =M26*COS(M20)-M27*SIN(M20) -> 424.45141 | P26: {=_xlfn.IFS(P25=1,(P7+0.8*ABS((P23-P7)/(P24-P6))*P6-P22)/(P21+0.8*ABS((P23-P7)/(P24-P6))),P25=2,(P7-0.8*ABS((P23-P7)/(P24-P6))*P6-P22)/(P21-0.8*ABS((P23-P7)/(P24-P6))),P25=3,P6)} -> 411.33928 | Q26: =P26+'Geometry Calculator'!S8 -> 411.33928 | R26: =Q26*COS(Q20)-Q27*SIN(Q20) -> 409.58543 | T26: {=_xlfn.IFS(T25=1,(T7+0.8*ABS((T23-T7)/(T24-T6))*T6-T22)/(T21+0.8*ABS((T23-T7)/(T24-T6))),T25=2,(T7-0.8*ABS((T23-T7)/(T24-T6))*T6-T22)/(T21-0.8*ABS((T23-T7)/(T24-T6))),T25=3,T6)} -> 433.58967 | U26: =T26+'Geometry Calculator'!W8 -> 433.58967 | V26: =U26*COS(U20)-U27*SIN(U20) -> 434.82713 | X26: {=_xlfn.IFS(X25=1,(X7+0.8*ABS((X23-X7)/(X24-X6))*X6-X22)/(X21+0.8*ABS((X23-X7)/(X24-X6))),X25=2,(X7-0.8*ABS((X23-X7)/(X24-X6))*X6-X22)/(X21-0.8*ABS((X23-X7)/(X24-X6))),X25=3,X6)} -> 469.85929 | Y26: =X26+'Geometry Calculator'!AA8 -> 469.85929 | Z26: =Y26*COS(Y20)-Y27*SIN(Y20) -> 470.58784
F27: Iy | H27: =IF('Geometry Calculator'!H46=90,0.8*H23,H21*H26+H22) -> 171.89085 | I27: =H27 -> 171.89085 | J27: =I26*SIN(I20)+I27*COS(I20) -> 177.31142 | L27: =IF('Geometry Calculator'!L46=90,0.8*L23,L21*L26+L22) -> 26.565136 | M27: =L27 -> 26.565136 | N27: =M26*SIN(M20)+M27*COS(M20) -> 26.565136 | P27: =IF('Geometry Calculator'!P46=90,0.8*P23,P21*P26+P22) -> 83.193262 | Q27: =P27 -> 83.193262 | R27: =Q26*SIN(Q20)+Q27*COS(Q20) -> 91.437944 | T27: =IF('Geometry Calculator'!T46=90,0.8*T23,T21*T26+T22) -> 165.54922 | U27: =T27 -> 165.54922 | V27: =U26*SIN(U20)+U27*COS(U20) -> 162.2711 | X27: =IF('Geometry Calculator'!X46=90,0.8*X23,X21*X26+X22) -> 97.735064 | Y27: =X27 -> 97.735064 | Z27: =Y26*SIN(Y20)+Y27*COS(Y20) -> 94.16461
