Workbook

Sheet Notes - Read Me
A1: General Notes
B2: This calculator was made in Microsoft Excel. It has not been tested in other spreadsheet software but is likely to have performance issues, particularly with displaying the bikes correctly. It is highly recommended to use Microsoft Excel and to keep the worksheet protections enabled. Cells that perform calculations are protected as read-only to prevent accidental modification to the background math and to minimize the amount of button-pressing required to move around to the input cells. This functionality is only guaranteed to work correctly in Microsoft Excel.
B3: These calculators are updated when necessary. Version notes are listed in the top left of the Geometry Calculator. Check madscientistmtb.com for the latest version.
B4: Cells in white are for user entry. Gray cells are automatically calculated and should not be changed.
A6: Notes referenced in the calculator
A7: 1 | B7: Bikes that come stock with mixed wheels can present a challenge for reverse engineering the bike geometry, since the calculations are premised on the basis that bottom bracket drop can be measured from a horizontal line drawn forward from the rear hub. With mixed wheels, this line is actually sloped upward. A sloped line introduces too many unknowns to the calculations, so an iterative approach is needed. The best case scenario is that the manufacturer provides bottom bracket drop with respect to front and rear axles, which will yield the most accurate results. The alternative, where only a single value is given will likely not be 100% accurate but will be close enough to work with. The following instructions apply to bikes that come stock with mixed wheels: Steps for stock mixed wheel bikes where bottom bracket drop is given with respect to both front and rear axles: -Enter the Bottom Bracket Drop - Rear value into the calculator. -Modify the Rear Wheel Diameter until the calculated Bottom Bracket Height matches the manufacturer's published value. -Modify the Front Wheel Diameter until the calculated Bottom Bracket Drop - Front value matches the manufacturer's value. Steps for stock mixed wheel bikes where bottom bracket drop is given as a single value (at the bottom bracket): -Enter the complete bike geometry as listed except for the bottom bracket drop. -Enter a smaller value in the Bottom Bracket Drop - Rear field until the calculated Bottom Bracket Drop - True field matches the published value. -Modify the Rear Wheel Diameter until the calculated Bottom Bracket Height matches the manufacturer's published value. -If the calculated axle-to-crown dimension seems off, then modify the front wheel diameter until you think you've got the results close enough. The results from this method will always be approximate.
A8: 2 | B8: Some manufacturers provide the Chainstay Length and others use Rear Center. Those two measurements are slightly different by definition: Chainstay Length is the length of a line connecting the rear axle and the bottom bracket while Rear Center is strictly the horizontal distance between those two points. Select the appropriate one from the dropdown and enter that value into the calculator.
A9: 3 | B9: Standover required only for graphical representation of the bike. It is not used in any calculations and can be estimated or even ignored if not known.
A10: 4 | B10: The cockpit entries are only required if you want to calculate or compare bike fit parameters. Select N for the "Display Cockpit" dropdown and ignore all fields below it if you only want to compare frame geometry.
A11: 5 | B11: The entries noted as "Needed for RAD" are the minimum cockpit requirements to be filled out to calculate the RAD measurement.
A12: 6 | B12: RAD and RAAD are calculated from the center of the bottom bracket to the top of the grips, since the common way of measuring in practice requires running a string on top of the grips, between the middles of the two grips.

Sheet Geometry Calculator
D2: Mad Scientist MTB Geometry Calculator Compare stock and modified geometry for up to 5 bikes.
D3: Tire Diameter Estimator | G3: Units | H3: Bike 1 Base Geometry | J3: Bike 1 Modified Geometry | L3: Bike 2 Base Geometry | N3: Bike 2 Modified Geometry | P3: Bike 3 Base Geometry | R3: Bike 3 Modified Geometry | T3: Bike 4 Base Geometry | V3: Bike 4 Modified Geometry | X3: Bike 5 Base Geometry | Z3: Bike 5 Modified Geometry
J4: +/- Fork Travel/Axle-to-Crown (mm) | K4: 20 | N4: +/- Fork Travel/Axle-to-Crown (mm) | O4: 0 | R4: +/- Fork Travel/Axle-to-Crown (mm) | S4: 20 | V4: +/- Fork Travel/Axle-to-Crown (mm) | W4: 0 | Z4: +/- Fork Travel/Axle-to-Crown (mm) | AA4: 0
B5: Mad Scientist MTB | D5: Wheel Size | E5: 29 (700C) | G5: in | J5: +/- Angle Headset (°) | K5: -2 | N5: +/- Angle Headset (°) | O5: 0 | R5: +/- Angle Headset (°) | S5: -1.5 | V5: +/- Angle Headset (°) | W5: -2 | Z5: +/- Angle Headset (°) | AA5: -2
B6: Ontario, Canada | D6: Tire Width | E6: 2.4 | G6: mm | J6: +/- Reach Adjust Headset (mm) | K6: 0 | N6: +/- Reach Adjust Headset (mm) | O6: 0 | R6: +/- Reach Adjust Headset (mm) | S6: 0 | V6: +/- Reach Adjust Headset (mm) | W6: 0 | Z6: +/- Reach Adjust Headset (mm) | AA6: 0
B7: adam@madscientistmtb.com | D7: Bead Seat Diameter | E7: =VLOOKUP(E5,'Background calcs'!G466:H470,2,FALSE) -> 622 | G7: mm | J7: +/- Lower Headset Cup (mm) | K7: 0 | N7: +/- Lower Headset Cup (mm) | O7: 0 | R7: +/- Lower Headset Cup (mm) | S7: 0 | V7: +/- Lower Headset Cup (mm) | W7: 0 | Z7: +/- Lower Headset Cup (mm) | AA7: 0
B8: Version 1.0 | C8: 46217 | D8: Estimated Tire Diameter | E8: =E7+2*E6*25.4 -> 743.92 | G8: mm | J8: +/- Rear Center Length (mm) | K8: 10 | N8: +/- Rear Center Length (mm) | O8: 0 | R8: +/- Rear Center Length (mm) | S8: 0 | V8: +/- Rear Center Length (mm) | W8: 0 | Z8: +/- Rear Center Length (mm) | AA8: 0
B9: Geometry Parameters | D9: Bike Description (Make/Model/Size/etc.) | G9: - | H9: Year/Make/Model/Size/etc. 1 | J9: =H9&" Modified" -> Year/Make/Model/Size/etc. 1 Modified | L9: Year/Make/Model/Size/etc. 2 | N9: =L9&" Modified" -> Year/Make/Model/Size/etc. 2 Modified | P9: Year/Make/Model/Size/etc. 3 | R9: =P9&" Modified" -> Year/Make/Model/Size/etc. 3 Modified | T9: Year/Make/Model/Size/etc. 4 | V9: =T9&" Modified" -> Year/Make/Model/Size/etc. 4 Modified | X9: Year/Make/Model/Size/etc. 5 | Z9: =X9&" Modified" -> Year/Make/Model/Size/etc. 5 Modified
D10: Rear Tire DiameterNote 1 | G10: mm | H10: 740 | J10: 740 | L10: 754 | N10: 754 | P10: 726 | R10: 726 | T10: 744 | V10: 744 | X10: 765 | Z10: 765
D11: Front Tire DiameterNote 1 | G11: mm | H11: 740 | J11: 754 | L11: 754 | N11: 754 | P11: 726 | R11: 749 | T11: 744 | V11: 744 | X11: 765 | Z11: 765
D12: Reach | G12: mm | H12: 455 | J12: ='Background calcs'!J10-'Background calcs'!J6 -> 443.5762 | L12: 470 | N12: ='Background calcs'!N10-'Background calcs'!N6 -> 470 | P12: 450 | R12: ='Background calcs'!R10-'Background calcs'!R6 -> 434.50744 | T12: 462 | V12: ='Background calcs'!V10-'Background calcs'!V6 -> 463.08055 | X12: 415 | Z12: ='Background calcs'!Z10-'Background calcs'!Z6 -> 415.49654
D13: Stack | G13: mm | H13: 627 | J13: ='Background calcs'!J11-'Background calcs'!J7 -> 630.6406 | L13: 639 | N13: ='Background calcs'!N11-'Background calcs'!N7 -> 639 | P13: 623 | R13: ='Background calcs'!R11-'Background calcs'!R7 -> 630.67686 | T13: 613 | V13: ='Background calcs'!V11-'Background calcs'!V7 -> 607.98957 | X13: 623 | Z13: ='Background calcs'!Z11-'Background calcs'!Z7 -> 618.16236
D14: Head Angle | G14: ° | H14: 64.5 | J14: =H14-DEGREES('Background calcs'!I20)+K5 -> 61.802741 | L14: 65 | N14: =L14-DEGREES('Background calcs'!M20)+O5 -> 65 | P14: 68 | R14: =P14-DEGREES('Background calcs'!Q20)+S5 -> 65.349177 | T14: 66.5 | V14: =T14-DEGREES('Background calcs'!U20)+W5 -> 64.932561 | X14: 68 | Z14: =X14-DEGREES('Background calcs'!Y20)+AA5 -> 66.43505
D15: Effective Seat Tube Angle | G15: ° | H15: 76.6 | J15: =H15-DEGREES('Background calcs'!I20) -> 75.902741 | L15: 76.4 | N15: =L15-DEGREES('Background calcs'!M20) -> 76.4 | P15: 75 | R15: =P15-DEGREES('Background calcs'!Q20) -> 73.849177 | T15: 74.5 | V15: =T15-DEGREES('Background calcs'!U20) -> 74.932561 | X15: 75 | Z15: =X15-DEGREES('Background calcs'!Y20) -> 75.43505
D16: Seat Tube Length | G16: mm | H16: 420 | J16: =H16 -> 420 | L16: 410 | N16: =L16 -> 410 | P16: 420 | R16: =P16 -> 420 | T16: 464 | V16: =T16 -> 464 | X16: 470 | Z16: =X16 -> 470
D17: Manufacturer's Rear Dimension MethodNote 2 | G17: - | H17: Chainstay Length | J17: =H17 -> Chainstay Length | L17: Chainstay Length | N17: =L17 -> Chainstay Length | P17: Chainstay Length | R17: =P17 -> Chainstay Length | T17: Chainstay Length | V17: =T17 -> Chainstay Length | X17: Chainstay Length | Z17: =X17 -> Chainstay Length
D18: Rear Dimension Value (Chainstay Length or Rear Center Length) | G18: mm | H18: 437 | J18: N/A | L18: 428 | N18: N/A | P18: 415 | R18: N/A | T18: 435 | V18: N/A | X18: 470 | Z18: N/A
D19: Chainstay Length | G19: mm | H19: =IF(H17="Chainstay Length",H18,SQRT(H20^2+H21^2)) -> 437 | J19: =SQRT(('Background calcs'!J2-'Background calcs'!J6)^2+('Background calcs'!J3-'Background calcs'!J7)^2) -> 446.98838 | L19: =IF(L17="Chainstay Length",L18,SQRT(L20^2+L21^2)) -> 428 | N19: =SQRT(('Background calcs'!N2-'Background calcs'!N6)^2+('Background calcs'!N3-'Background calcs'!N7)^2) -> 428 | P19: =IF(P17="Chainstay Length",P18,SQRT(P20^2+P21^2)) -> 415 | R19: =SQRT(('Background calcs'!R2-'Background calcs'!R6)^2+('Background calcs'!R3-'Background calcs'!R7)^2) -> 415 | T19: =IF(T17="Chainstay Length",T18,SQRT(T20^2+T21^2)) -> 435 | V19: =SQRT(('Background calcs'!V2-'Background calcs'!V6)^2+('Background calcs'!V3-'Background calcs'!V7)^2) -> 435 | X19: =IF(X17="Chainstay Length",X18,SQRT(X20^2+X21^2)) -> 470 | Z19: =SQRT(('Background calcs'!Z2-'Background calcs'!Z6)^2+('Background calcs'!Z3-'Background calcs'!Z7)^2) -> 470
D20: Rear Center Length | G20: mm | H20: =IF(H17="Chainstay Length",SQRT(H19^2-H21^2),H18) -> 436.4806 | J20: ='Background calcs'!J6-'Background calcs'!J2 -> 446.70674 | L20: =IF(L17="Chainstay Length",SQRT(L19^2-L21^2),L18) -> 424.45141 | N20: ='Background calcs'!N6-'Background calcs'!N2 -> 424.45141 | P20: =IF(P17="Chainstay Length",SQRT(P19^2-P21^2),P18) -> 411.33928 | R20: ='Background calcs'!R6-'Background calcs'!R2 -> 412.36094 | T20: =IF(T17="Chainstay Length",SQRT(T19^2-T21^2),T18) -> 433.58967 | V20: ='Background calcs'!V6-'Background calcs'!V2 -> 433.31308 | X20: =IF(X17="Chainstay Length",SQRT(X19^2-X21^2),X18) -> 469.85929 | Z20: ='Background calcs'!Z6-'Background calcs'!Z2 -> 469.75842
D21: Bottom Bracket Drop - RearNote 1 | G21: mm | H21: 21.3 | J21: ='Background calcs'!J3-'Background calcs'!J7 -> 15.865127 | L21: 55 | N21: ='Background calcs'!N3-'Background calcs'!N7 -> 55 | P21: 55 | R21: ='Background calcs'!R3-'Background calcs'!R7 -> 46.727444 | T21: 35 | V21: ='Background calcs'!V3-'Background calcs'!V7 -> 38.272405 | X21: 11.5 | Z21: ='Background calcs'!Z3-'Background calcs'!Z7 -> 15.067305
D22: Bottom Bracket Drop - FrontNote 1 | G22: mm | H22: ='Background calcs'!H14-'Background calcs'!H7 -> 21.3 | J22: ='Background calcs'!J14-'Background calcs'!J7 -> 22.865127 | L22: ='Background calcs'!L14-'Background calcs'!L7 -> 55 | N22: ='Background calcs'!N14-'Background calcs'!N7 -> 55 | P22: ='Background calcs'!P14-'Background calcs'!P7 -> 55 | R22: ='Background calcs'!R14-'Background calcs'!R7 -> 58.227444 | T22: ='Background calcs'!T14-'Background calcs'!T7 -> 35 | V22: ='Background calcs'!V14-'Background calcs'!V7 -> 38.272405 | X22: ='Background calcs'!X14-'Background calcs'!X7 -> 11.5 | Z22: ='Background calcs'!Z14-'Background calcs'!Z7 -> 15.067305
D23: Bottom Bracket Drop - TrueNote 1 | G23: mm | H23: =('Background calcs'!H14-'Background calcs'!H3)/('Background calcs'!H18-'Background calcs'!H2)*('Background calcs'!H6-'Background calcs'!H2)+'Background calcs'!H3-'Background calcs'!H7 -> 21.3 | J23: =('Background calcs'!J14-'Background calcs'!J3)/('Background calcs'!J18-'Background calcs'!J2)*('Background calcs'!J6-'Background calcs'!J2)+'Background calcs'!J3-'Background calcs'!J7 -> 18.339394 | L23: =('Background calcs'!L14-'Background calcs'!L3)/('Background calcs'!L18-'Background calcs'!L2)*('Background calcs'!L6-'Background calcs'!L2)+'Background calcs'!L3-'Background calcs'!L7 -> 55 | N23: =('Background calcs'!N14-'Background calcs'!N3)/('Background calcs'!N18-'Background calcs'!N2)*('Background calcs'!N6-'Background calcs'!N2)+'Background calcs'!N3-'Background calcs'!N7 -> 55 | P23: =('Background calcs'!P14-'Background calcs'!P3)/('Background calcs'!P18-'Background calcs'!P2)*('Background calcs'!P6-'Background calcs'!P2)+'Background calcs'!P3-'Background calcs'!P7 -> 55 | R23: =('Background calcs'!R14-'Background calcs'!R3)/('Background calcs'!R18-'Background calcs'!R2)*('Background calcs'!R6-'Background calcs'!R2)+'Background calcs'!R3-'Background calcs'!R7 -> 50.795569 | T23: =('Background calcs'!T14-'Background calcs'!T3)/('Background calcs'!T18-'Background calcs'!T2)*('Background calcs'!T6-'Background calcs'!T2)+'Background calcs'!T3-'Background calcs'!T7 -> 35 | V23: =('Background calcs'!V14-'Background calcs'!V3)/('Background calcs'!V18-'Background calcs'!V2)*('Background calcs'!V6-'Background calcs'!V2)+'Background calcs'!V3-'Background calcs'!V7 -> 38.272405 | X23: =('Background calcs'!X14-'Background calcs'!X3)/('Background calcs'!X18-'Background calcs'!X2)*('Background calcs'!X6-'Background calcs'!X2)+'Background calcs'!X3-'Background calcs'!X7 -> 11.5 | Z23: =('Background calcs'!Z14-'Background calcs'!Z3)/('Background calcs'!Z18-'Background calcs'!Z2)*('Background calcs'!Z6-'Background calcs'!Z2)+'Background calcs'!Z3-'Background calcs'!Z7 -> 15.067305
D24: Bottom Bracket HeightNote 1 | G24: mm | H24: =H10/2-H21 -> 348.7 | J24: ='Background calcs'!J7-'Background calcs'!J15 -> 354.13487 | L24: =L10/2-L21 -> 322 | N24: ='Background calcs'!N7-'Background calcs'!N15 -> 322 | P24: =P10/2-P21 -> 308 | R24: ='Background calcs'!R7-'Background calcs'!R15 -> 316.27256 | T24: =T10/2-T21 -> 337 | V24: ='Background calcs'!V7-'Background calcs'!V15 -> 333.72759 | X24: =X10/2-X21 -> 371 | Z24: ='Background calcs'!Z7-'Background calcs'!Z15 -> 367.43269
D25: Head Tube Length | G25: mm | H25: 120 | J25: =H25 -> 120 | L25: 120 | N25: =L25 -> 120 | P25: 120 | R25: =P25 -> 120 | T25: 110 | V25: =T25 -> 110 | X25: 130 | Z25: =X25 -> 130
D26: Fork Offset/Rake | G26: mm | H26: 44 | J26: 42 | L26: 42 | N26: 42 | P26: 51 | R26: 51 | T26: 42 | V26: 42 | X26: 51 | Z26: 51
D27: StandoverNote 3 | G27: mm | H27: 700 | J27: ='Background calcs'!J23+J10/2 -> 704.74635 | L27: 640 | N27: ='Background calcs'!N23+N10/2 -> 640 | P27: 725 | R27: ='Background calcs'!R23+R10/2 -> 731.26033 | T27: 761 | V27: ='Background calcs'!V23+V10/2 -> 758.41082 | X27: 745 | Z27: ='Background calcs'!Z23+Z10/2 -> 742.07512
D28: Calculated Wheelbase | G28: mm | H28: ='Background calcs'!H19-'Background calcs'!H4 -> 1229.1335 | J28: ='Background calcs'!J19-'Background calcs'!J4 -> 1263.7873 | L28: ='Background calcs'!L19-'Background calcs'!L4 -> 1213.117 | N28: ='Background calcs'!N19-'Background calcs'!N4 -> 1213.117 | P28: ='Background calcs'!P19-'Background calcs'!P4 -> 1145.8314 | R28: ='Background calcs'!R19-'Background calcs'!R4 -> 1165.6845 | T28: ='Background calcs'!T19-'Background calcs'!T4 -> 1192.7097 | V28: ='Background calcs'!V19-'Background calcs'!V4 -> 1209.2413 | X28: ='Background calcs'!X19-'Background calcs'!X4 -> 1186.9266 | Z28: ='Background calcs'!Z19-'Background calcs'!Z4 -> 1203.9414
D29: Calculated Front Center | G29: mm | H29: ='Background calcs'!H19-'Background calcs'!H6 -> 792.65294 | J29: ='Background calcs'!J19-'Background calcs'!J6 -> 817.08057 | L29: ='Background calcs'!L19-'Background calcs'!L6 -> 788.66554 | N29: ='Background calcs'!N19-'Background calcs'!N6 -> 788.66554 | P29: ='Background calcs'!P19-'Background calcs'!P6 -> 734.49217 | R29: ='Background calcs'!R19-'Background calcs'!R6 -> 753.32357 | T29: ='Background calcs'!T19-'Background calcs'!T6 -> 759.12008 | V29: ='Background calcs'!V19-'Background calcs'!V6 -> 775.92822 | X29: ='Background calcs'!X19-'Background calcs'!X6 -> 717.06731 | Z29: ='Background calcs'!Z19-'Background calcs'!Z6 -> 734.183
D30: Calculated Effective Top Tube Length | G30: mm | H30: ='Background calcs'!H10-'Background calcs'!H13 -> 604.37247 | J30: ='Background calcs'!J10-'Background calcs'!J13 -> 600.56767 | L30: ='Background calcs'!L10-'Background calcs'!L13 -> 624.59037 | N30: ='Background calcs'!N10-'Background calcs'!N13 -> 624.59037 | P30: ='Background calcs'!P10-'Background calcs'!P13 -> 616.93235 | R30: ='Background calcs'!R10-'Background calcs'!R13 -> 613.91864 | T30: ='Background calcs'!T10-'Background calcs'!T13 -> 631.99995 | V30: ='Background calcs'!V10-'Background calcs'!V13 -> 628.44778 | X30: ='Background calcs'!X10-'Background calcs'!X13 -> 581.93235 | Z30: ='Background calcs'!Z10-'Background calcs'!Z13 -> 577.69364
D31: Calculated Span | G31: mm | H31: =SQRT(('Background calcs'!H6-'Background calcs'!H10)^2+('Background calcs'!H7-'Background calcs'!H11)^2) -> 774.69607 | J31: =SQRT(('Background calcs'!J6-'Background calcs'!J10)^2+('Background calcs'!J7-'Background calcs'!J11)^2) -> 771.01712 | L31: =SQRT(('Background calcs'!L6-'Background calcs'!L10)^2+('Background calcs'!L7-'Background calcs'!L11)^2) -> 793.23452 | N31: =SQRT(('Background calcs'!N6-'Background calcs'!N10)^2+('Background calcs'!N7-'Background calcs'!N11)^2) -> 793.23452 | P31: =SQRT(('Background calcs'!P6-'Background calcs'!P10)^2+('Background calcs'!P7-'Background calcs'!P11)^2) -> 768.52391 | R31: =SQRT(('Background calcs'!R6-'Background calcs'!R10)^2+('Background calcs'!R7-'Background calcs'!R11)^2) -> 765.86554 | T31: =SQRT(('Background calcs'!T6-'Background calcs'!T10)^2+('Background calcs'!T7-'Background calcs'!T11)^2) -> 767.60211 | V31: =SQRT(('Background calcs'!V6-'Background calcs'!V10)^2+('Background calcs'!V7-'Background calcs'!V11)^2) -> 764.26103 | X31: =SQRT(('Background calcs'!X6-'Background calcs'!X10)^2+('Background calcs'!X7-'Background calcs'!X11)^2) -> 748.56797 | Z31: =SQRT(('Background calcs'!Z6-'Background calcs'!Z10)^2+('Background calcs'!Z7-'Background calcs'!Z11)^2) -> 744.82352
D32: Calculated Axle-to-Crown Length + Lower Headset Cup Stack | G32: mm | H32: =SQRT(('Background calcs'!H8-'Background calcs'!H18)^2+('Background calcs'!H9-'Background calcs'!H14)^2) -> 573.74888 | J32: =SQRT(('Background calcs'!J8-'Background calcs'!J18)^2+('Background calcs'!J9-'Background calcs'!J14)^2) -> 593.54709 | L32: =SQRT(('Background calcs'!L8-'Background calcs'!L18)^2+('Background calcs'!L9-'Background calcs'!L14)^2) -> 545.57667 | N32: =SQRT(('Background calcs'!N8-'Background calcs'!N18)^2+('Background calcs'!N9-'Background calcs'!N14)^2) -> 545.57667 | P32: =SQRT(('Background calcs'!P8-'Background calcs'!P18)^2+('Background calcs'!P9-'Background calcs'!P14)^2) -> 515.74088 | R32: =SQRT(('Background calcs'!R8-'Background calcs'!R18)^2+('Background calcs'!R9-'Background calcs'!R14)^2) -> 535.64651 | T32: =SQRT(('Background calcs'!T8-'Background calcs'!T18)^2+('Background calcs'!T9-'Background calcs'!T14)^2) -> 540.17237 | V32: =SQRT(('Background calcs'!V8-'Background calcs'!V18)^2+('Background calcs'!V9-'Background calcs'!V14)^2) -> 540.17237 | X32: =SQRT(('Background calcs'!X8-'Background calcs'!X18)^2+('Background calcs'!X9-'Background calcs'!X14)^2) -> 552.48826 | Z32: =SQRT(('Background calcs'!Z8-'Background calcs'!Z18)^2+('Background calcs'!Z9-'Background calcs'!Z14)^2) -> 552.48826
D33: Calculated Trail | G33: mm | H33: =(H11/2*COS(RADIANS(H14))-H26)/SIN(RADIANS(H14)) -> 127.73209 | J33: =(J11/2*COS(RADIANS(J14))-J26)/SIN(RADIANS(J14)) -> 154.46694 | L33: =(L11/2*COS(RADIANS(L14))-L26)/SIN(RADIANS(L14)) -> 129.45611 | N33: =(N11/2*COS(RADIANS(N14))-N26)/SIN(RADIANS(N14)) -> 129.45611 | P33: =(P11/2*COS(RADIANS(P14))-P26)/SIN(RADIANS(P14)) -> 91.656248 | R33: =(R11/2*COS(RADIANS(R14))-R26)/SIN(RADIANS(R14)) -> 115.74762 | T33: =(T11/2*COS(RADIANS(T14))-T26)/SIN(RADIANS(T14)) -> 115.95168 | V33: =(V11/2*COS(RADIANS(V14))-V26)/SIN(RADIANS(V14)) -> 127.63245 | X33: =(X11/2*COS(RADIANS(X14))-X26)/SIN(RADIANS(X14)) -> 99.53476 | Z33: =(Z11/2*COS(RADIANS(Z14))-Z26)/SIN(RADIANS(Z14)) -> 111.1916
B34: Cockpit | D34: Display Cockpit (Y/N)Note 4 | G34: - | H34: Y | J34: Y | L34: Y | N34: Y | P34: Y | R34: Y | T34: Y | V34: Y | X34: Y | Z34: Y
C35: Needed for RADNote 5 | D35: Stem Length | G35: mm | H35: 40 | J35: 40 | L35: 40 | N35: 40 | P35: 45 | R35: 45 | T35: 40 | V35: 40 | X35: 50 | Z35: 50
D36: Stem Rise/Drop Angle | G36: ° | H36: 0 | J36: 0 | L36: 0 | N36: 0 | P36: 0 | R36: 0 | T36: 0 | V36: 0 | X36: 3 | Z36: 3
D37: Stack Height to Center of Stem Clamp | G37: mm | H37: 40 | J37: 50 | L37: 38 | N37: 38 | P37: 45 | R37: 45 | T37: 41 | V37: 41 | X37: 57 | Z37: 57
D38: Handlebar Rise | G38: mm | H38: 20 | J38: 20 | L38: 25 | N38: 25 | P38: 12 | R38: 12 | T38: 20 | V38: 20 | X38: 12 | Z38: 12
D39: Handlebar Backsweep Angle | G39: ° | H39: 8 | J39: 8 | L39: 9 | N39: 9 | P39: 9 | R39: 9 | T39: 9 | V39: 9 | X39: 9 | Z39: 9
D40: Handlebar Upsweep Angle | G40: ° | H40: 5 | J40: 5 | L40: 6 | N40: 6 | P40: 6 | R40: 6 | T40: 5 | V40: 5 | X40: 6 | Z40: 6
D41: Handlebar Roll - (0° is vertical, +ve forward) | G41: ° | H41: -15 | J41: -17 | L41: 0 | N41: 0 | P41: 0 | R41: 0 | T41: 0 | V41: 0 | X41: 0 | Z41: 0
D42: Length of Handlebar's Control Area On One Side | G42: mm | H42: 280 | J42: 280 | L42: 240 | N42: 240 | P42: 240 | R42: 240 | T42: 245 | V42: 245 | X42: 240 | Z42: 240
D43: Grip Length | G43: mm | H43: 130 | J43: 130 | L43: 134 | N43: 134 | P43: 134 | R43: 134 | T43: 134 | V43: 134 | X43: 134 | Z43: 134
D44: Grip Diameter | G44: mm | H44: 30 | J44: 30 | L44: 30 | N44: 30 | P44: 30 | R44: 30 | T44: 30 | V44: 30 | X44: 30 | Z44: 30
D45: Handlebar Width | G45: mm | H45: 760 | J45: 760 | L45: 775 | N45: 775 | P45: 780 | R45: 780 | T45: 790 | V45: 790 | X45: 774 | Z45: 774
C46: Needed For Seated Fit | D46: Actual Seat Angle | G46: ° | H46: 71 | J46: =H46-DEGREES('Background calcs'!I20) -> 70.302741 | L46: 74.5 | N46: =L46-DEGREES('Background calcs'!M20) -> 74.5 | P46: 71 | R46: =P46-DEGREES('Background calcs'!Q20) -> 69.849177 | T46: 67.6 | V46: =T46-DEGREES('Background calcs'!U20) -> 68.032561 | X46: 72 | Z46: =X46-DEGREES('Background calcs'!Y20) -> 72.43505
D47: Bottom Bracket to Saddle Distance at Ride Height | G47: mm | H47: 720 | J47: 720 | L47: 715 | N47: 715 | P47: 740 | R47: 740 | T47: 725 | V47: 725 | X47: 745 | Z47: 745
D48: Saddle Setback/Fore/Aft Fit Adjustment (+ve rearward) | G48: mm | H48: 20 | J48: 20 | L48: 0 | N48: 0 | P48: 0 | R48: 0 | T48: 10 | V48: 10 | X48: 0 | Z48: 0
D49: Crank Length | G49: mm | H49: 170 | J49: 170 | L49: 170 | N49: 170 | P49: 165 | R49: 165 | T49: 175 | V49: 175 | X49: 175 | Z49: 175
C50: Calculated Fit Parameters | D50: Calculated Effective Reach | G50: mm | H50: ='Background calcs'!H40-'Background calcs'!H6 -> 435.06405 | J50: ='Background calcs'!J40-'Background calcs'!J6 -> 415.3719 | L50: ='Background calcs'!L40-'Background calcs'!L6 -> 463.27791 | N50: ='Background calcs'!N40-'Background calcs'!N6 -> 463.27791 | P50: ='Background calcs'!P40-'Background calcs'!P6 -> 447.95107 | R50: ='Background calcs'!R40-'Background calcs'!R6 -> 429.7226 | T50: ='Background calcs'!T40-'Background calcs'!T6 -> 454.59432 | V50: ='Background calcs'!V40-'Background calcs'!V6 -> 454.20249 | X50: ='Background calcs'!X40-'Background calcs'!X6 -> 412.04791 | Z50: ='Background calcs'!Z40-'Background calcs'!Z6 -> 410.5151
D51: Calculated Effective Stack | G51: mm | H51: ='Background calcs'!H41-'Background calcs'!H7 -> 710.02739 | J51: ='Background calcs'!J41-'Background calcs'!J7 -> 721.93792 | L51: ='Background calcs'!L41-'Background calcs'!L7 -> 733.42785 | N51: ='Background calcs'!N41-'Background calcs'!N7 -> 733.42785 | P51: ='Background calcs'!P41-'Background calcs'!P7 -> 711.66399 | R51: ='Background calcs'!R41-'Background calcs'!R7 -> 720.4282 | T51: ='Background calcs'!T41-'Background calcs'!T7 -> 702.06315 | V51: ='Background calcs'!V41-'Background calcs'!V7 -> 697.58888 | X51: ='Background calcs'!X41-'Background calcs'!X7 -> 727.06382 | Z51: ='Background calcs'!Z41-'Background calcs'!Z7 -> 722.85301
D52: Calculated Effective Seat Angle with Saddle at Ride Height | G52: ° | H52: =IF('Background calcs'!H46<='Background calcs'!H6,ABS(DEGREES(ATAN(('Background calcs'!H47-'Background calcs'!H7)/('Background calcs'!H46-'Background calcs'!H6)))),180-ABS(DEGREES(ATAN(('Background calcs'!H47-'Background calcs'!H7)/('Background calcs'!H46-'Background calcs'!H6))))) -> 74.477871 | J52: =IF('Background calcs'!J46<='Background calcs'!J6,ABS(DEGREES(ATAN(('Background calcs'!J47-'Background calcs'!J7)/('Background calcs'!J46-'Background calcs'!J6)))),180-ABS(DEGREES(ATAN(('Background calcs'!J47-'Background calcs'!J7)/('Background calcs'!J46-'Background calcs'!J6))))) -> 73.78587 | L52: =IF('Background calcs'!L46<='Background calcs'!L6,ABS(DEGREES(ATAN(('Background calcs'!L47-'Background calcs'!L7)/('Background calcs'!L46-'Background calcs'!L6)))),180-ABS(DEGREES(ATAN(('Background calcs'!L47-'Background calcs'!L7)/('Background calcs'!L46-'Background calcs'!L6))))) -> 76.246977 | N52: =IF('Background calcs'!N46<='Background calcs'!N6,ABS(DEGREES(ATAN(('Background calcs'!N47-'Background calcs'!N7)/('Background calcs'!N46-'Background calcs'!N6)))),180-ABS(DEGREES(ATAN(('Background calcs'!N47-'Background calcs'!N7)/('Background calcs'!N46-'Background calcs'!N6))))) -> 76.246977 | P52: =IF('Background calcs'!P46<='Background calcs'!P6,ABS(DEGREES(ATAN(('Background calcs'!P47-'Background calcs'!P7)/('Background calcs'!P46-'Background calcs'!P6)))),180-ABS(DEGREES(ATAN(('Background calcs'!P47-'Background calcs'!P7)/('Background calcs'!P46-'Background calcs'!P6))))) -> 74.485681 | R52: =IF('Background calcs'!R46<='Background calcs'!R6,ABS(DEGREES(ATAN(('Background calcs'!R47-'Background calcs'!R7)/('Background calcs'!R46-'Background calcs'!R6)))),180-ABS(DEGREES(ATAN(('Background calcs'!R47-'Background calcs'!R7)/('Background calcs'!R46-'Background calcs'!R6))))) -> 73.334858 | T52: =IF('Background calcs'!T46<='Background calcs'!T6,ABS(DEGREES(ATAN(('Background calcs'!T47-'Background calcs'!T7)/('Background calcs'!T46-'Background calcs'!T6)))),180-ABS(DEGREES(ATAN(('Background calcs'!T47-'Background calcs'!T7)/('Background calcs'!T46-'Background calcs'!T6))))) -> 72.895523 | V52: =IF('Background calcs'!V46<='Background calcs'!V6,ABS(DEGREES(ATAN(('Background calcs'!V47-'Background calcs'!V7)/('Background calcs'!V46-'Background calcs'!V6)))),180-ABS(DEGREES(ATAN(('Background calcs'!V47-'Background calcs'!V7)/('Background calcs'!V46-'Background calcs'!V6))))) -> 73.326358 | X52: =IF('Background calcs'!X46<='Background calcs'!X6,ABS(DEGREES(ATAN(('Background calcs'!X47-'Background calcs'!X7)/('Background calcs'!X46-'Background calcs'!X6)))),180-ABS(DEGREES(ATAN(('Background calcs'!X47-'Background calcs'!X7)/('Background calcs'!X46-'Background calcs'!X6))))) -> 74.596926 | Z52: =IF('Background calcs'!Z46<='Background calcs'!Z6,ABS(DEGREES(ATAN(('Background calcs'!Z47-'Background calcs'!Z7)/('Background calcs'!Z46-'Background calcs'!Z6)))),180-ABS(DEGREES(ATAN(('Background calcs'!Z47-'Background calcs'!Z7)/('Background calcs'!Z46-'Background calcs'!Z6))))) -> 75.031976
D53: Calculated Seated Fit | G53: mm | H53: =SQRT(('Background calcs'!H46-'Background calcs'!H40)^2+('Background calcs'!H47-'Background calcs'!H41)^2) -> 629.20983 | J53: =SQRT(('Background calcs'!J46-'Background calcs'!J40)^2+('Background calcs'!J47-'Background calcs'!J41)^2) -> 618.42813 | L53: =SQRT(('Background calcs'!L46-'Background calcs'!L40)^2+('Background calcs'!L47-'Background calcs'!L41)^2) -> 634.45529 | N53: =SQRT(('Background calcs'!N46-'Background calcs'!N40)^2+('Background calcs'!N47-'Background calcs'!N41)^2) -> 634.45529 | P53: =SQRT(('Background calcs'!P46-'Background calcs'!P40)^2+('Background calcs'!P47-'Background calcs'!P41)^2) -> 645.88713 | R53: =SQRT(('Background calcs'!R46-'Background calcs'!R40)^2+('Background calcs'!R47-'Background calcs'!R41)^2) -> 642.04132 | T53: =SQRT(('Background calcs'!T46-'Background calcs'!T40)^2+('Background calcs'!T47-'Background calcs'!T41)^2) -> 668.70463 | V53: =SQRT(('Background calcs'!V46-'Background calcs'!V40)^2+('Background calcs'!V47-'Background calcs'!V41)^2) -> 663.02457 | X53: =SQRT(('Background calcs'!X46-'Background calcs'!X40)^2+('Background calcs'!X47-'Background calcs'!X41)^2) -> 609.98957 | Z53: =SQRT(('Background calcs'!Z46-'Background calcs'!Z40)^2+('Background calcs'!Z47-'Background calcs'!Z41)^2) -> 602.94178
D54: Calculated Saddle to 6 o'clock Pedal Distance | G54: mm | H54: =SQRT(('Background calcs'!H46-'Background calcs'!H6)^2+('Background calcs'!H47-('Background calcs'!H7-H49))^2) -> 890.05733 | J54: =SQRT(('Background calcs'!J46-'Background calcs'!J6)^2+('Background calcs'!J47-('Background calcs'!J7-J49))^2) -> 889.83365 | L54: =SQRT(('Background calcs'!L46-'Background calcs'!L6)^2+('Background calcs'!L47-('Background calcs'!L7-L49))^2) -> 881.05347 | N54: =SQRT(('Background calcs'!N46-'Background calcs'!N6)^2+('Background calcs'!N47-('Background calcs'!N7-N49))^2) -> 881.05347 | P54: =SQRT(('Background calcs'!P46-'Background calcs'!P6)^2+('Background calcs'!P47-('Background calcs'!P7-P49))^2) -> 900.07069 | R54: =SQRT(('Background calcs'!R46-'Background calcs'!R6)^2+('Background calcs'!R47-('Background calcs'!R7-R49))^2) -> 899.31524 | T54: =SQRT(('Background calcs'!T46-'Background calcs'!T6)^2+('Background calcs'!T47-('Background calcs'!T7-T49))^2) -> 896.61644 | V54: =SQRT(('Background calcs'!V46-'Background calcs'!V6)^2+('Background calcs'!V47-('Background calcs'!V7-V49))^2) -> 896.85461 | X54: =SQRT(('Background calcs'!X46-'Background calcs'!X6)^2+('Background calcs'!X47-('Background calcs'!X7-X49))^2) -> 914.89571 | Z54: =SQRT(('Background calcs'!Z46-'Background calcs'!Z6)^2+('Background calcs'!Z47-('Background calcs'!Z7-Z49))^2) -> 915.1791
D55: Calculated Rider Area Distance (RAD)Note 6 | G55: mm | H55: =SQRT(('Background calcs'!H40+H44/2-'Background calcs'!H6)^2+('Background calcs'!H41-'Background calcs'!H7)^2) -> 840.65245 | J55: =SQRT(('Background calcs'!J40+J44/2-'Background calcs'!J6)^2+('Background calcs'!J41-'Background calcs'!J7)^2) -> 840.48458 | L55: =SQRT(('Background calcs'!L40+L44/2-'Background calcs'!L6)^2+('Background calcs'!L41-'Background calcs'!L7)^2) -> 875.59475 | N55: =SQRT(('Background calcs'!N40+N44/2-'Background calcs'!N6)^2+('Background calcs'!N41-'Background calcs'!N7)^2) -> 875.59475 | P55: =SQRT(('Background calcs'!P40+P44/2-'Background calcs'!P6)^2+('Background calcs'!P41-'Background calcs'!P7)^2) -> 848.99313 | R55: =SQRT(('Background calcs'!R40+R44/2-'Background calcs'!R6)^2+('Background calcs'!R41-'Background calcs'!R7)^2) -> 846.63746 | T55: =SQRT(('Background calcs'!T40+T44/2-'Background calcs'!T6)^2+('Background calcs'!T41-'Background calcs'!T7)^2) -> 844.6369 | V55: =SQRT(('Background calcs'!V40+V44/2-'Background calcs'!V6)^2+('Background calcs'!V41-'Background calcs'!V7)^2) -> 840.70282 | X55: =SQRT(('Background calcs'!X40+X44/2-'Background calcs'!X6)^2+('Background calcs'!X41-'Background calcs'!X7)^2) -> 843.20324 | Z55: =SQRT(('Background calcs'!Z40+Z44/2-'Background calcs'!Z6)^2+('Background calcs'!Z41-'Background calcs'!Z7)^2) -> 838.7965
D56: Calculated Rider Area Angle in Degrees (RAAD or RAD Angle)Note 6 | G56: ° | H56: =DEGREES(ATAN(('Background calcs'!H41+H44/2-'Background calcs'!H7)/('Background calcs'!H40-'Background calcs'!H6))) -> 59.033477 | J56: =DEGREES(ATAN(('Background calcs'!J41+J44/2-'Background calcs'!J7)/('Background calcs'!J40-'Background calcs'!J6))) -> 60.592404 | L56: =DEGREES(ATAN(('Background calcs'!L41+L44/2-'Background calcs'!L7)/('Background calcs'!L40-'Background calcs'!L6))) -> 58.242433 | N56: =DEGREES(ATAN(('Background calcs'!N41+N44/2-'Background calcs'!N7)/('Background calcs'!N40-'Background calcs'!N6))) -> 58.242433 | P56: =DEGREES(ATAN(('Background calcs'!P41+P44/2-'Background calcs'!P7)/('Background calcs'!P40-'Background calcs'!P6))) -> 58.348298 | R56: =DEGREES(ATAN(('Background calcs'!R41+R44/2-'Background calcs'!R7)/('Background calcs'!R40-'Background calcs'!R6))) -> 59.701565 | T56: =DEGREES(ATAN(('Background calcs'!T41+T44/2-'Background calcs'!T7)/('Background calcs'!T40-'Background calcs'!T6))) -> 57.626655 | V56: =DEGREES(ATAN(('Background calcs'!V41+V44/2-'Background calcs'!V7)/('Background calcs'!V40-'Background calcs'!V6))) -> 57.486659 | X56: =DEGREES(ATAN(('Background calcs'!X41+X44/2-'Background calcs'!X7)/('Background calcs'!X40-'Background calcs'!X6))) -> 60.957774 | Z56: =DEGREES(ATAN(('Background calcs'!Z41+Z44/2-'Background calcs'!Z7)/('Background calcs'!Z40-'Background calcs'!Z6))) -> 60.909998
D57: Calculated Steering/Hands Offset | G57: mm | H57: ='Background calcs'!H40-'Background calcs'!H45 -> 19.666084 | J57: ='Background calcs'!J40-'Background calcs'!J45 -> 20.743278 | L57: ='Background calcs'!L40-'Background calcs'!L45 -> 37.31034 | N57: ='Background calcs'!N40-'Background calcs'!N45 -> 37.31034 | P57: ='Background calcs'!P40-'Background calcs'!P45 -> 33.773648 | R57: ='Background calcs'!R40-'Background calcs'!R45 -> 36.402873 | T57: ='Background calcs'!T40-'Background calcs'!T45 -> 31.320075 | V57: ='Background calcs'!V40-'Background calcs'!V45 -> 33.031249 | X57: ='Background calcs'!X40-'Background calcs'!X45 -> 39.092417 | Z57: ='Background calcs'!Z40-'Background calcs'!Z45 -> 40.680527
D58: Display Bike (Y/N) | G58: - | H58: Y | J58: Y | L58: N | N58: N | P58: N | R58: N | T58: N | V58: N | X58: N | Z58: N
D60: Bike Display Alignment | E60: Rear Axle

Sheet Sagged Hardtail Calculator
B2: Mad Scientist MTB Sagged Hardtail Geometry Calculator
B4: This calculator is intended for hardtails only. Hardtails naturally steepen when the rider sits on the saddle, so the sagged geometry provides a better comparison to full suspension static bike geometry. Use this calculator to convert between published static and calculated sagged geometry or vice versa. | E4: Fork Travel (mm) | F4: 140
E5: Sag (%) | F5: 30
E6: Manufacturer's Geometry Method | F6: Static
D7: ="Published "&F6&" Base Geometry"&"" -> Published Static Base Geometry | E7: =IF(F6="Static", "Calculated Sagged Geometry", "Calculated Static Geometry") -> Calculated Sagged Geometry
B8: Rear Tire DiameterNote 1 | C8: mm | D8: 750 | E8: =D8 -> 750
B9: Front Tire DiameterNote 1 | C9: mm | D9: 750 | E9: =D9 -> 750
B10: Reach | C10: mm | D10: 480 | E10: ='Background calcs'!AD10-'Background calcs'!AD6 -> 498.6821
B11: Stack | C11: mm | D11: 629 | E11: ='Background calcs'!AD11-'Background calcs'!AD7 -> 614.29404
B12: Head Angle | C12: ° | D12: 65 | E12: =D12-DEGREES('Background calcs'!AC20) -> 66.721756
B13: Effective Seat Tube Angle | C13: ° | D13: 76 | E13: =D13-DEGREES('Background calcs'!AC20) -> 77.721756
B14: Seat Tube Length | C14: mm | D14: 445 | E14: =D14 -> 445
B15: Manufacturer's Rear Dimension MethodNote 2 | C15: - | D15: Chainstay Length | E15: =D15 -> Chainstay Length
B16: Rear Dimension Value (Chainstay Length or Rear Center Length) | C16: mm | D16: 435 | E16: N/A
B17: Chainstay Length | C17: mm | D17: =IF(D15="Chainstay Length",D16,SQRT(D18^2+D19^2)) -> 435 | E17: =SQRT(('Background calcs'!AD2-'Background calcs'!AD6)^2+('Background calcs'!AD3-'Background calcs'!AD7)^2) -> 435
B18: Rear Center Length | C18: mm | D18: =IF(D15="Chainstay Length",SQRT(D17^2-D19^2),D16) -> 433.33705 | E18: ='Background calcs'!AD6-'Background calcs'!AD2 -> 431.99967
B19: Bottom Bracket Drop - RearNote 1 | C19: mm | D19: 38 | E19: ='Background calcs'!AD3-'Background calcs'!AD7 -> 51.0028
B20: Bottom Bracket Drop - FrontNote 1 | C20: mm | D20: ='Background calcs'!AB14-'Background calcs'!AB7 -> 38 | E20: ='Background calcs'!AD14-'Background calcs'!AD7 -> 51.0028
B21: Bottom Bracket Drop - TrueNote 1 | C21: mm | D21: =('Background calcs'!AB14-'Background calcs'!AB3)/('Background calcs'!AB18-'Background calcs'!AB2)*('Background calcs'!AB6-'Background calcs'!AB2)+'Background calcs'!AB3-'Background calcs'!AB7 -> 38 | E21: =('Background calcs'!AD14-'Background calcs'!AD3)/('Background calcs'!AD18-'Background calcs'!AD2)*('Background calcs'!AD6-'Background calcs'!AD2)+'Background calcs'!AD3-'Background calcs'!AD7 -> 51.0028
B22: Bottom Bracket HeightNote 1 | C22: mm | D22: =D8/2-D19 -> 337 | E22: ='Background calcs'!AD7-'Background calcs'!AD15 -> 323.9972
B23: Head Tube Length | C23: mm | D23: 120 | E23: =D23 -> 120
B24: Fork Offset/Rake | C24: mm | D24: 42 | E24: =D24 -> 42
B25: Calculated Wheelbase | C25: mm | D25: ='Background calcs'!AB19-'Background calcs'!AB4 -> 1235.2667 | E25: ='Background calcs'!AD19-'Background calcs'!AD4 -> 1218.7417
B26: Calculated Front Center | C26: mm | D26: ='Background calcs'!AB19-'Background calcs'!AB6 -> 801.9297 | E26: ='Background calcs'!AD19-'Background calcs'!AD6 -> 786.74203
B27: Calculated Effective Top Tube Length | C27: mm | D27: ='Background calcs'!AB10-'Background calcs'!AB13 -> 636.82731 | E27: ='Background calcs'!AD10-'Background calcs'!AD13 -> 636.5398
B28: Calculated Span | C28: mm | D28: =SQRT(('Background calcs'!AB6-'Background calcs'!AB10)^2+('Background calcs'!AB7-'Background calcs'!AB11)^2) -> 791.22753 | E28: =SQRT(('Background calcs'!AD6-'Background calcs'!AD10)^2+('Background calcs'!AD7-'Background calcs'!AD11)^2) -> 791.22753
B29: Calculated Axle-to-Crown Length + Lower Headset Cup Stack | C29: mm | D29: =SQRT(('Background calcs'!AB8-'Background calcs'!AB18)^2+('Background calcs'!AB9-'Background calcs'!AB14)^2) -> 553.27771 | E29: =SQRT(('Background calcs'!AD8-'Background calcs'!AD18)^2+('Background calcs'!AD9-'Background calcs'!AD14)^2) -> 512.9999
B30: Calculated Trail | C30: mm | D30: =(D9/2*COS(RADIANS(D12))-D24)/SIN(RADIANS(D12)) -> 128.5235 | E30: =(E9/2*COS(RADIANS(E12))-E24)/SIN(RADIANS(E12)) -> 115.60981

Sheet RAD Calculator
B2: Mad Scientist MTB RAD Calculator
B3: This calculator is provided to find the RAD measurement without going through the effort of inputting all bike data into the Geometry Calculator. This calculation is reduced to the minimum requirements to find RAD using the parameters listed in the Geometry Calculator.
B4: Reach | C4: mm | D4: 485
B5: Stack | C5: mm | D5: 628
B6: Head Angle | C6: (°) | D6: 64.7
B7: Stem Length | C7: mm | D7: 40
B8: Stem Rise/Drop Angle | C8: (°) | D8: 0
B9: Stack Height to Center of Stem Clamp | C9: mm | D9: 40
B10: Handlebar Rise | C10: mm | D10: 20
B11: Handlebar Backsweep Angle | C11: (°) | D11: 8
B12: Handlebar Upsweep Angle | C12: (°) | D12: 5
B13: Length of Handlebar's Control Area On One Side | C13: mm | D13: 280
B14: Handlebar Roll - (0° is vertical, +ve forward) | C14: (°) | D14: 0
B15: Grip Length | C15: mm | D15: 130
B16: Grip Diameter | C16: mm | D16: 34
B17: Calculated Rider Area Distance (RAD) | C17: mm | D17: =SQRT((D4+D9*COS(RADIANS(180-D6))+D7*COS(RADIANS(90+D8-D6))+((D13-D15/2)*SIN(RADIANS(-D11))*SIN(RADIANS(90-D12)))*COS(RADIANS(-D14))-(D10+(D13-D15/2)*COS(RADIANS(90-D12)))*SIN(RADIANS(-D14)))^2+(D5+D9*SIN(RADIANS(180-D6))+D7*SIN(RADIANS(90+D8-D6))+((D13-D15/2)*SIN(RADIANS(-D11))*SIN(RADIANS(90-D12)))*SIN(RADIANS(-D14))+(D10+(D13-D15/2)*COS(RADIANS(90-D12)))*COS(RADIANS(-D14))+D16/2)^2) -> 876.40539
B18: Calculated Rider Area Angle in Degrees (RAAD or RAD Angle) | C18: (°) | D18: =DEGREES(ATAN((D5+D9*SIN(RADIANS(180-D6))+D7*SIN(RADIANS(90+D8-D6))+((D13-D15/2)*SIN(RADIANS(-D11))*SIN(RADIANS(90-D12)))*SIN(RADIANS(-D14))+(D10+(D13-D15/2)*COS(RADIANS(90-D12)))*COS(RADIANS(-D14))+D16/2)/(D4+D9*COS(RADIANS(180-D6))+D7*COS(RADIANS(90+D8-D6))+((D13-D15/2)*SIN(RADIANS(-D11))*SIN(RADIANS(90-D12)))*COS(RADIANS(-D14))-(D10+(D13-D15/2)*COS(RADIANS(90-D12)))*SIN(RADIANS(-D14))))) -> 57.238519
B19: Calculated Steering/Hands Offset | C19: mm | D19: =D4+D9*COS(RADIANS(180-D6))+D7*COS(RADIANS(90+D8-D6))+((D13-D15/2)*SIN(RADIANS(-D11))*SIN(RADIANS(90-D12)))*COS(RADIANS(-D14))-(D10+(D13-D15/2)*COS(RADIANS(90-D12)))*SIN(RADIANS(-D14))-(D4+D9*COS(RADIANS(180-D6))+((D5+D9*SIN(RADIANS(180-D6))+D7*SIN(RADIANS(90+D8-D6))+((D13-D15/2)*SIN(RADIANS(-D11))*SIN(RADIANS(90-D12)))*SIN(RADIANS(-D14))+(D10+(D13-D15/2)*COS(RADIANS(90-D12)))*COS(RADIANS(-D14)))-(D5+D9*SIN(RADIANS(180-D6))))/TAN(RADIANS(180-D6))) -> 32.746992

Sheet Rigid Fork AtC Calculator
B2: Mad Scientist MTB Rigid Fork Axle-to-Crown Calculator
B3: To convert from a suspension fork to a rigid fork or vice versa, maintining the same static geometry the bike had with sag (i.e. suspension correction).
B4: Fork conversion | D4: From suspension fork to rigid fork
B5: =IF(D4="From suspension fork to rigid fork", "Current Suspension Fork Axle-to-Crown Length", "Current Rigid Fork Axle-to-Crown Length") -> Current Suspension Fork Axle-to-Crown Length | C5: mm | D5: 541
B6: Fork Travel | C6: mm | D6: 130
B7: Preferred Sag | C7: % | D7: 30
B8: =IF(D4="From suspension fork to rigid fork", "Ideal Rigid Fork Axle-To-Crown Length", "Ideal Suspension Fork Axle-to-Crown Length") -> Ideal Rigid Fork Axle-To-Crown Length | C8: mm | D8: =IF(D4="From suspension fork to rigid fork", D5-D7/100*D6, D5+D7/100*D6) -> 502

Sheet Tire Diameter Estimator
B2: Mad Scientist MTB Tire Diameter Estimator
B3: This is a simple model of a tire that assumes the profile is circular, so that the tire height is equal to the width you specify. It is usually close enough, but if you're looking for higher accuracy, roll the tire one revolution along a measuring tape and divide the measured length (the circumference) by pi.
B4: Tire Diameter Estimator | E4: Units
B6: Wheel Size | C6: 29 (700C) | E6: in
B7: Tire Width | C7: 2.4 | E7: mm
B8: Bead Seat Diameter | C8: =VLOOKUP(C6,'Background calcs'!G467:H471,2,FALSE) -> 622 | E8: mm
B9: Estimated Tire Diameter | C9: =C8+2*C7*25.4 -> 743.92 | E9: mm

Sheet Measurement Definitions
A40: Parameter | B40: Definition
A41: +/- Fork Travel/Axle-to-Crown | B41: Enter +/- 10 mm for each +/- 10 mm of change in travel if the same fork is being used. If using a different fork, compare the stated axle-to-crown dimensions from the manufacturer's specs and put the difference in mm in this field.
A42: +/- Angle Headset | B42: Enter negative (-) values for slackening head angle and positive values (+) for steepening head angle. Note that if your angleset requires replacing a ZS bottom cup with an EC cup, the additional stack height should be added to the "Change to Lower Headtube Stack Height" field.
A43: +/- Reach Adjust Headset | B43: Enter the manufacturer's stated change in reach. The change to the steerer tube position shows up in both the reach and stack because the head tube is at an angle.
A44: +/- Lower Headset Cup | B44: If adding/removing a taller crown race or changing the lower headset cup to/from ZS or EC cup, put the change in cup stack height in this field.
A45: +/- Rear Center Length | B45: For bikes with adjustable chainstays. Although the manufacturer will usually describe this feature as a range of chainstay lengths, it's actually the rear center measurement that is directly changing by the specified amount, as the translation of the axle is purely horizontal.
A46: Rear Tire Diameter | B46: Use the Tire Size Estimator above. If both wheels on the manufacturer's specs are the same size, then the accuracy of this value only affects the calculated trail measurement and bottom bracket height. If mixing wheel sizes, accuracy of the wheel size estimate becomes important as it will dictate changes in every calculated measurement.
A47: Front Tire Diameter | B47: Use the Tire Size Estimator linked above. If both wheels on the manufacturer's specs are the same size, then the accuracy of this value only affects the calculated trail measurement and bottom bracket height. If mixing wheel sizes, accuracy of the wheel size estimate becomes important as it will dictate changes in every calculated measurement
A48: Reach | B48: Horizontal distance between center of bottom bracket and steering axis at top of headtube.
A49: Stack | B49: Vertical distance between center of bottom bracket and top of headtube along steering axis.
A50: Head Angle | B50: Angle between the steering axis and a horizontal line drawn backward from the front axle.
A51: Effective Seat Tube Angle | B51: Angle between a line drawn from center of bottom bracket to the saddle rails (with the saddle rails set at the same height as the top of head tube) and a horizontal line drawn backward from the center of bottom bracket.
... A89: Calculated Steering/Hands Offset | B89: Another Lee McCormack measurement. Horizontal distance from middle of grip to steering axis at middle of grip height. Values are positive when center of grip is in front of the steering axis and negative when behind the steering axis.

Sheet Background calcs
H1: 1 | I1: 1m temp | J1: 1m | L1: 2 | M1: 2m temp | N1: 2m | P1: 3 | Q1: 3m temp | R1: 3m | T1: 4 | U1: 4m temp | V1: 4m | X1: 5 | Y1: 5m temp | Z1: 5m | AB1: A | AC1: Am_temp | AD1: Am
F2: Ax | H2: 0 | I2: 0 | J2: 0 | L2: 0 | M2: 0 | N2: 0 | P2: 0 | Q2: 0 | R2: 0 | T2: 0 | U2: 0 | V2: 0 | X2: 0 | Y2: 0 | Z2: 0 | AB2: 0 | AC2: 0 | AD2: 0
F3: Ay | H3: 0 | I3: 0 | J3: 0 | L3: 0 | M3: 0 | N3: 0 | P3: 0 | Q3: 0 | R3: 0 | T3: 0 | U3: 0 | V3: 0 | X3: 0 | Y3: 0 | Z3: 0 | AB3: 0 | AC3: 0 | AD3: 0
F4: Rx | H4: =H2 -> 0 | I4: =I2 -> 0 | J4: =J2 -> 0 | L4: =L2 -> 0 | M4: =M2 -> 0 | N4: =N2 -> 0 | P4: =P2 -> 0 | Q4: =Q2 -> 0 | R4: =R2 -> 0 | T4: =T2 -> 0 | U4: =U2 -> 0 | V4: =V2 -> 0 | X4: =X2 -> 0 | Y4: =Y2 -> 0 | Z4: =Z2 -> 0 | AB4: =AB2 -> 0 | AC4: =AC2 -> 0 | AD4: =AD2 -> 0
F5: Ry | H5: =H3-'Geometry Calculator'!H10/2 -> -370 | I5: =I3-'Geometry Calculator'!J10/2 -> -370 | J5: =-'Geometry Calculator'!J10/2 -> -370 | L5: =L3-'Geometry Calculator'!L10/2 -> -377 | M5: =M3-'Geometry Calculator'!N10/2 -> -377 | N5: =-'Geometry Calculator'!N10/2 -> -377 | P5: =P3-'Geometry Calculator'!P10/2 -> -363 | Q5: =Q3-'Geometry Calculator'!R10/2 -> -363 | R5: =-'Geometry Calculator'!R10/2 -> -363 | T5: =T3-'Geometry Calculator'!T10/2 -> -372 | U5: =U3-'Geometry Calculator'!V10/2 -> -372 | V5: =-'Geometry Calculator'!V10/2 -> -372 | X5: =X3-'Geometry Calculator'!X10/2 -> -382.5 | Y5: =Y3-'Geometry Calculator'!Z10/2 -> -382.5 | Z5: =-'Geometry Calculator'!Z10/2 -> -382.5 | AB5: =AB3-'Sagged Hardtail Calculator'!D8/2 -> -375 | AC5: =AC3-'Sagged Hardtail Calculator'!E8/2 -> -375 | AD5: =-'Sagged Hardtail Calculator'!E8/2 -> -375
F6: Bx | H6: =IF('Geometry Calculator'!H17="Chainstay Length",SQRT('Geometry Calculator'!H19^2-'Geometry Calculator'!H21^2),'Geometry Calculator'!H20) -> 436.4806 | I6: =H6+'Geometry Calculator'!K8 -> 446.4806 | J6: =I6*COS(I20)-I7*SIN(I20) -> 446.70674 | L6: =IF('Geometry Calculator'!L17="Chainstay Length",SQRT('Geometry Calculator'!L19^2-'Geometry Calculator'!L21^2),'Geometry Calculator'!L20) -> 424.45141 | M6: =L6+'Geometry Calculator'!O8 -> 424.45141 | N6: =M6*COS(M20)-M7*SIN(M20) -> 424.45141 | P6: =IF('Geometry Calculator'!P17="Chainstay Length",SQRT('Geometry Calculator'!P19^2-'Geometry Calculator'!P21^2),'Geometry Calculator'!P20) -> 411.33928 | Q6: =P6+'Geometry Calculator'!S8 -> 411.33928 | R6: =Q6*COS(Q20)-Q7*SIN(Q20) -> 412.36094 | T6: =IF('Geometry Calculator'!T17="Chainstay Length",SQRT('Geometry Calculator'!T19^2-'Geometry Calculator'!T21^2),'Geometry Calculator'!T20) -> 433.58967 | U6: =T6+'Geometry Calculator'!W8 -> 433.58967 | V6: =U6*COS(U20)-U7*SIN(U20) -> 433.31308 | X6: =IF('Geometry Calculator'!X17="Chainstay Length",SQRT('Geometry Calculator'!X19^2-'Geometry Calculator'!X21^2),'Geometry Calculator'!X20) -> 469.85929 | Y6: =X6+'Geometry Calculator'!AA8 -> 469.85929 | Z6: =Y6*COS(Y20)-Y7*SIN(Y20) -> 469.75842 | AB6: =IF('Sagged Hardtail Calculator'!D15="Chainstay Length",SQRT('Sagged Hardtail Calculator'!D17^2-'Sagged Hardtail Calculator'!D19^2),'Sagged Hardtail Calculator'!D18) -> 433.33705 | AC6: =AB6 -> 433.33705 | AD6: =AC6*COS(AC20)-AC7*SIN(AC20) -> 431.99967
F7: By | H7: =H3-'Geometry Calculator'!H21 -> -21.3 | I7: =H7 -> -21.3 | J7: =I6*SIN(I20)+I7*COS(I20) -> -15.865127 | L7: =L3-'Geometry Calculator'!L21 -> -55 | M7: =L7 -> -55 | N7: =M6*SIN(M20)+M7*COS(M20) -> -55 | P7: =P3-'Geometry Calculator'!P21 -> -55 | Q7: =P7 -> -55 | R7: =Q6*SIN(Q20)+Q7*COS(Q20) -> -46.727444 | T7: =T3-'Geometry Calculator'!T21 -> -35 | U7: =T7 -> -35 | V7: =U6*SIN(U20)+U7*COS(U20) -> -38.272405 | X7: =X3-'Geometry Calculator'!X21 -> -11.5 | Y7: =X7 -> -11.5 | Z7: =Y6*SIN(Y20)+Y7*COS(Y20) -> -15.067305 | AB7: =AB3-'Sagged Hardtail Calculator'!D19 -> -38 | AC7: =AB7 -> -38 | AD7: =AC6*SIN(AC20)+AC7*COS(AC20) -> -51.0028
F8: Ex | H8: =H6+'Geometry Calculator'!H12+'Geometry Calculator'!H25*COS(RADIANS(360-'Geometry Calculator'!H14)) -> 943.14193 | I8: =H8+'Geometry Calculator'!K8+'Geometry Calculator'!K6*COS(RADIANS(90-'Geometry Calculator'!H14))+'Geometry Calculator'!K7*COS(RADIANS(360-'Geometry Calculator'!H14)) -> 953.14193 | J8: =I8*COS(I20)-I9*SIN(I20) -> 947.01853 | L8: =L6+'Geometry Calculator'!L12+'Geometry Calculator'!L25*COS(RADIANS(360-'Geometry Calculator'!L14)) -> 945.1656 | M8: =L8+'Geometry Calculator'!O8+'Geometry Calculator'!O6*COS(RADIANS(90-'Geometry Calculator'!L14))+'Geometry Calculator'!O7*COS(RADIANS(360-'Geometry Calculator'!L14)) -> 945.1656 | N8: =M8*COS(M20)-M9*SIN(M20) -> 945.1656 | P8: =P6+'Geometry Calculator'!P12+'Geometry Calculator'!P25*COS(RADIANS(360-'Geometry Calculator'!P14)) -> 906.29207 | Q8: =P8+'Geometry Calculator'!S8+'Geometry Calculator'!S6*COS(RADIANS(90-'Geometry Calculator'!P14))+'Geometry Calculator'!S7*COS(RADIANS(360-'Geometry Calculator'!P14)) -> 906.29207 | R8: =Q8*COS(Q20)-Q9*SIN(Q20) -> 896.936 | T8: =T6+'Geometry Calculator'!T12+'Geometry Calculator'!T25*COS(RADIANS(360-'Geometry Calculator'!T14)) -> 939.45207 | U8: =T8+'Geometry Calculator'!W8+'Geometry Calculator'!W6*COS(RADIANS(90-'Geometry Calculator'!T14))+'Geometry Calculator'!W7*COS(RADIANS(360-'Geometry Calculator'!T14)) -> 939.45207 | V8: =U8*COS(U20)-U9*SIN(U20) -> 943.02736 | X8: =X6+'Geometry Calculator'!X12+'Geometry Calculator'!X25*COS(RADIANS(360-'Geometry Calculator'!X14)) -> 933.55814 | Y8: =X8+'Geometry Calculator'!AA8+'Geometry Calculator'!AA6*COS(RADIANS(90-'Geometry Calculator'!X14))+'Geometry Calculator'!AA7*COS(RADIANS(360-'Geometry Calculator'!X14)) -> 933.55814 | Z8: =Y8*COS(Y20)-Y9*SIN(Y20) -> 937.25913 | AB8: =AB6+'Sagged Hardtail Calculator'!D10+'Sagged Hardtail Calculator'!D23*COS(RADIANS(360-'Sagged Hardtail Calculator'!D12)) -> 964.05124 | AC8: =AB8 -> 964.05124 | AD8: =AC8*COS(AC20)-AC9*SIN(AC20) -> 978.10537
F9: Ey | H9: =H7+'Geometry Calculator'!H13+'Geometry Calculator'!H25*SIN(RADIANS(360-'Geometry Calculator'!H14)) -> 497.38977 | I9: =H9+'Geometry Calculator'!K6*SIN(RADIANS(90-'Geometry Calculator'!H14))+'Geometry Calculator'!K7*SIN(RADIANS(360-'Geometry Calculator'!H14)) -> 497.38977 | J9: =I8*SIN(I20)+I9*COS(I20) -> 508.95188 | L9: =L7+'Geometry Calculator'!L13+'Geometry Calculator'!L25*SIN(RADIANS(360-'Geometry Calculator'!L14)) -> 475.24307 | M9: =L9+'Geometry Calculator'!O6*SIN(RADIANS(90-'Geometry Calculator'!L14))+'Geometry Calculator'!O7*SIN(RADIANS(360-'Geometry Calculator'!L14)) -> 475.24307 | N9: =M8*SIN(M20)+M9*COS(M20) -> 475.24307 | P9: =P7+'Geometry Calculator'!P13+'Geometry Calculator'!P25*SIN(RADIANS(360-'Geometry Calculator'!P14)) -> 456.73794 | Q9: =P9+'Geometry Calculator'!S6*SIN(RADIANS(90-'Geometry Calculator'!P14))+'Geometry Calculator'!S7*SIN(RADIANS(360-'Geometry Calculator'!P14)) -> 456.73794 | R9: =Q8*SIN(Q20)+Q9*COS(Q20) -> 474.84805 | T9: =T7+'Geometry Calculator'!T13+'Geometry Calculator'!T25*SIN(RADIANS(360-'Geometry Calculator'!T14)) -> 477.12339 | U9: =T9+'Geometry Calculator'!W6*SIN(RADIANS(90-'Geometry Calculator'!T14))+'Geometry Calculator'!W7*SIN(RADIANS(360-'Geometry Calculator'!T14)) -> 477.12339 | V9: =U8*SIN(U20)+U9*COS(U20) -> 470.01736 | X9: =X7+'Geometry Calculator'!X13+'Geometry Calculator'!X25*SIN(RADIANS(360-'Geometry Calculator'!X14)) -> 490.9661 | Y9: =X9+'Geometry Calculator'!AA6*SIN(RADIANS(90-'Geometry Calculator'!X14))+'Geometry Calculator'!AA7*SIN(RADIANS(360-'Geometry Calculator'!X14)) -> 490.9661 | Z9: =Y8*SIN(Y20)+Y9*COS(Y20) -> 483.86345 | AB9: =AB7+'Sagged Hardtail Calculator'!D11+'Sagged Hardtail Calculator'!D23*SIN(RADIANS(360-'Sagged Hardtail Calculator'!D12)) -> 482.24307 | AC9: =AB9 -> 482.24307 | AD9: =AC8*SIN(AC20)+AC9*COS(AC20) -> 453.05966
F10: Dx | H10: =H8+'Geometry Calculator'!H25*COS(RADIANS(180-'Geometry Calculator'!H14)) -> 891.4806 | I10: =I8+('Geometry Calculator'!H25+'Geometry Calculator'!K7)/COS(RADIANS('Geometry Calculator'!K5))*COS(RADIANS(180-('Geometry Calculator'!H14+'Geometry Calculator'!K5))) -> 897.69832 | J10: =I10*COS(I20)-I11*SIN(I20) -> 890.28294 | L10: =L8+'Geometry Calculator'!L25*COS(RADIANS(180-'Geometry Calculator'!L14)) -> 894.45141 | M10: =M8+('Geometry Calculator'!L25+'Geometry Calculator'!O7)/COS(RADIANS('Geometry Calculator'!O5))*COS(RADIANS(180-('Geometry Calculator'!L14+'Geometry Calculator'!O5))) -> 894.45141 | N10: =M10*COS(M20)-M11*SIN(M20) -> 894.45141 | P10: =P8+'Geometry Calculator'!P25*COS(RADIANS(180-'Geometry Calculator'!P14)) -> 861.33928 | Q10: =Q8+('Geometry Calculator'!P25+'Geometry Calculator'!S7)/COS(RADIANS('Geometry Calculator'!S5))*COS(RADIANS(180-('Geometry Calculator'!P14+'Geometry Calculator'!S5))) -> 858.42578 | R10: =Q10*COS(Q20)-Q11*SIN(Q20) -> 846.86838 | T10: =T8+'Geometry Calculator'!T25*COS(RADIANS(180-'Geometry Calculator'!T14)) -> 895.58967 | U10: =U8+('Geometry Calculator'!T25+'Geometry Calculator'!W7)/COS(RADIANS('Geometry Calculator'!W5))*COS(RADIANS(180-('Geometry Calculator'!T14+'Geometry Calculator'!W5))) -> 892.06698 | V10: =U10*COS(U20)-U11*SIN(U20) -> 896.39363 | X10: =X8+'Geometry Calculator'!X25*COS(RADIANS(180-'Geometry Calculator'!X14)) -> 884.85929 | Y10: =Y8+('Geometry Calculator'!X25+'Geometry Calculator'!AA7)/COS(RADIANS('Geometry Calculator'!AA5))*COS(RADIANS(180-('Geometry Calculator'!X14+'Geometry Calculator'!AA5))) -> 880.65015 | Z10: =Y10*COS(Y20)-Y11*SIN(Y20) -> 885.25496 | AB10: =AB8+'Sagged Hardtail Calculator'!D23*COS(RADIANS(180-'Sagged Hardtail Calculator'!D12)) -> 913.33705 | AC10: =AC8+('Sagged Hardtail Calculator'!D23)*COS(RADIANS(180-('Sagged Hardtail Calculator'!D12))) -> 913.33705 | AD10: =AC10*COS(AC20)-AC11*SIN(AC20) -> 930.68176
F11: Dy | H11: =H9+'Geometry Calculator'!H25*SIN(RADIANS(180-'Geometry Calculator'!H14)) -> 605.7 | I11: =I9+('Geometry Calculator'!H25+'Geometry Calculator'!K7)/COS(RADIANS('Geometry Calculator'!K5))*SIN(RADIANS(180-('Geometry Calculator'!H14+'Geometry Calculator'!K5))) -> 603.89595 | J11: =I10*SIN(I20)+I11*COS(I20) -> 614.77547 | L11: =L9+'Geometry Calculator'!L25*SIN(RADIANS(180-'Geometry Calculator'!L14)) -> 584 | M11: =M9+('Geometry Calculator'!L25+'Geometry Calculator'!O7)/COS(RADIANS('Geometry Calculator'!O5))*SIN(RADIANS(180-('Geometry Calculator'!L14+'Geometry Calculator'!O5))) -> 584 | N11: =M10*SIN(M20)+M11*COS(M20) -> 584 | P11: =P9+'Geometry Calculator'!P25*SIN(RADIANS(180-'Geometry Calculator'!P14)) -> 568 | Q11: =Q9+('Geometry Calculator'!P25+'Geometry Calculator'!S7)/COS(RADIANS('Geometry Calculator'!S5))*SIN(RADIANS(180-('Geometry Calculator'!P14+'Geometry Calculator'!S5))) -> 566.82287 | R11: =Q10*SIN(Q20)+Q11*COS(Q20) -> 583.94942 | T11: =T9+'Geometry Calculator'!T25*SIN(RADIANS(180-'Geometry Calculator'!T14)) -> 578 | U11: =U9+('Geometry Calculator'!T25+'Geometry Calculator'!W7)/COS(RADIANS('Geometry Calculator'!W5))*SIN(RADIANS(180-('Geometry Calculator'!T14+'Geometry Calculator'!W5))) -> 576.46829 | V11: =U10*SIN(U20)+U11*COS(U20) -> 569.71717 | X11: =X9+'Geometry Calculator'!X25*SIN(RADIANS(180-'Geometry Calculator'!X14)) -> 611.5 | Y11: =Y9+('Geometry Calculator'!X25+'Geometry Calculator'!AA7)/COS(RADIANS('Geometry Calculator'!AA5))*SIN(RADIANS(180-('Geometry Calculator'!X14+'Geometry Calculator'!AA5))) -> 609.7994 | Z11: =Y10*SIN(Y20)+Y11*COS(Y20) -> 603.09505 | AB11: =AB9+'Sagged Hardtail Calculator'!D23*SIN(RADIANS(180-'Sagged Hardtail Calculator'!D12)) -> 591 | AC11: =AC9+('Sagged Hardtail Calculator'!D23)*SIN(RADIANS(180-('Sagged Hardtail Calculator'!D12))) -> 591 | AD11: =AC10*SIN(AC20)+AC11*COS(AC20) -> 563.29124
F12: Ky | H12: =H11 -> 605.7 | I12: =H12 -> 605.7 | J12: =I13*SIN(I20)+I12*COS(I20) -> 609.27071 | L12: =L11 -> 584 | M12: =L12 -> 584 | N12: =M13*SIN(M20)+M12*COS(M20) -> 584 | P12: =P11 -> 568 | Q12: =P12 -> 568 | R12: =Q13*SIN(Q20)+Q12*COS(Q20) -> 572.79417 | T12: =T11 -> 578 | U12: =T12 -> 578 | V12: =U13*SIN(U20)+U12*COS(U20) -> 575.99355 | X12: =X11 -> 611.5 | Y12: =X12 -> 611.5 | Z12: =Y13*SIN(Y20)+Y12*COS(Y20) -> 609.18225 | AB12: =AB11 -> 591 | AC12: =AB12 -> 591 | AD12: =AC13*SIN(AC20)+AC12*COS(AC20) -> 582.42522
F13: Kx | H13: =H6-(H12-H7)/TAN(RADIANS('Geometry Calculator'!H15)) -> 287.10813 | I13: =H13+'Geometry Calculator'!K8 -> 297.10813 | J13: =I13*COS(I20)-I12*SIN(I20) -> 289.71526 | L13: =L6-(L12-L7)/TAN(RADIANS('Geometry Calculator'!L15)) -> 269.86104 | M13: =L13+'Geometry Calculator'!O8 -> 269.86104 | N13: =M13*COS(M20)-M12*SIN(M20) -> 269.86104 | P13: =P6-(P12-P7)/TAN(RADIANS('Geometry Calculator'!P15)) -> 244.40693 | Q13: =P13+'Geometry Calculator'!S8 -> 244.40693 | R13: =Q13*COS(Q20)-Q12*SIN(Q20) -> 232.94975 | T13: =T6-(T12-T7)/TAN(RADIANS('Geometry Calculator'!T15)) -> 263.58972 | U13: =T13+'Geometry Calculator'!W8 -> 263.58972 | V13: =U13*COS(U20)-U12*SIN(U20) -> 267.94584 | X13: =X6-(X12-X7)/TAN(RADIANS('Geometry Calculator'!X15)) -> 302.92694 | Y13: =X13+'Geometry Calculator'!AA8 -> 302.92694 | Z13: =Y13*COS(Y20)-Y12*SIN(Y20) -> 307.56132 | AB13: =AB6-(AB12-AB7)/TAN(RADIANS('Sagged Hardtail Calculator'!D13)) -> 276.50974 | AC13: =AB13 -> 276.50974 | AD13: =AC13*COS(AC20)-AC12*SIN(AC20) -> 294.14196
F14: Hy | H14: =H15+'Geometry Calculator'!H11/2 -> 0 | I14: =I16+'Geometry Calculator'!J26*SIN(RADIANS(90-('Geometry Calculator'!H14+'Geometry Calculator'!K5))) -> -8.3797544 | J14: =I18*SIN(I20)+I14*COS(I20) -> 7 | L14: =L15+'Geometry Calculator'!L11/2 -> 0 | M14: =M16+'Geometry Calculator'!N26*SIN(RADIANS(90-('Geometry Calculator'!L14+'Geometry Calculator'!O5))) -> 0 | N14: =M18*SIN(M20)+M14*COS(M20) -> 0 | P14: =P15+'Geometry Calculator'!P11/2 -> 0 | Q14: =Q16+'Geometry Calculator'!R26*SIN(RADIANS(90-('Geometry Calculator'!P14+'Geometry Calculator'!S5))) -> -11.914279 | R14: =Q18*SIN(Q20)+Q14*COS(Q20) -> 11.5 | T14: =T15+'Geometry Calculator'!T11/2 -> 0 | U14: =U16+'Geometry Calculator'!V26*SIN(RADIANS(90-('Geometry Calculator'!T14+'Geometry Calculator'!W5))) -> 9.1292163 | V14: =U18*SIN(U20)+U14*COS(U20) -> 0 | X14: =X15+'Geometry Calculator'!X11/2 -> 0 | Y14: =Y16+'Geometry Calculator'!Z26*SIN(RADIANS(90-('Geometry Calculator'!X14+'Geometry Calculator'!AA5))) -> 9.1415147 | Z14: =Y18*SIN(Y20)+Y14*COS(Y20) -> 0 | AB14: =AB15+'Sagged Hardtail Calculator'!D9/2 -> 0 | AC14: =AC16+'Sagged Hardtail Calculator'!E24*SIN(RADIANS(90-('Sagged Hardtail Calculator'!D12))) -> 36.618062 | AD14: =AC18*SIN(AC20)+AC14*COS(AC20) -> 0
F15: Fy | H15: =H5 -> -370 | J15: =J14-'Geometry Calculator'!J11/2 -> -370 | L15: =L5 -> -377 | N15: =N14-'Geometry Calculator'!N11/2 -> -377 | P15: =P5 -> -363 | R15: =R14-'Geometry Calculator'!R11/2 -> -363 | T15: =T5 -> -372 | V15: =V14-'Geometry Calculator'!V11/2 -> -372 | X15: =X5 -> -382.5 | Z15: =Z14-'Geometry Calculator'!Z11/2 -> -382.5 | AB15: =AB5 -> -375 | AD15: =AD14-'Sagged Hardtail Calculator'!E9/2 -> -375
F16: Gy | H16: =H14+'Geometry Calculator'!H26*SIN(RADIANS(270-'Geometry Calculator'!H14)) -> -18.942488 | I16: =I9+(SQRT((H16-H9)^2+(H17-H8)^2)+'Geometry Calculator'!K4)*SIN(RADIANS(360-('Geometry Calculator'!H14+'Geometry Calculator'!K5))) -> -27.773196 | J16: =I17*SIN(I20)+I16*COS(I20) -> -12.845361 | L16: =L14+'Geometry Calculator'!L26*SIN(RADIANS(270-'Geometry Calculator'!L14)) -> -17.749967 | M16: =M9+(SQRT((L16-L9)^2+(L17-L8)^2)+'Geometry Calculator'!O4)*SIN(RADIANS(360-('Geometry Calculator'!L14+'Geometry Calculator'!O5))) -> -17.749967 | N16: =M17*SIN(M20)+M16*COS(M20) -> -17.749967 | P16: =P14+'Geometry Calculator'!P26*SIN(RADIANS(270-'Geometry Calculator'!P14)) -> -19.104936 | Q16: =Q9+(SQRT((P16-P9)^2+(P17-P8)^2)+'Geometry Calculator'!S4)*SIN(RADIANS(360-('Geometry Calculator'!P14+'Geometry Calculator'!S5))) -> -32.250481 | R16: =Q17*SIN(Q20)+Q16*COS(Q20) -> -9.7714446 | T16: =T14+'Geometry Calculator'!T26*SIN(RADIANS(270-'Geometry Calculator'!T14)) -> -16.747461 | U16: =U9+(SQRT((T16-T9)^2+(T17-T8)^2)+'Geometry Calculator'!W4)*SIN(RADIANS(360-('Geometry Calculator'!T14+'Geometry Calculator'!W5))) -> -8.9522498 | V16: =U17*SIN(U20)+U16*COS(U20) -> -17.794758 | X16: =X14+'Geometry Calculator'!X26*SIN(RADIANS(270-'Geometry Calculator'!X14)) -> -19.104936 | Y16: =Y9+(SQRT((X16-X9)^2+(X17-X8)^2)+'Geometry Calculator'!AA4)*SIN(RADIANS(360-('Geometry Calculator'!X14+'Geometry Calculator'!AA5))) -> -11.602054 | Z16: =Y17*SIN(Y20)+Y16*COS(Y20) -> -20.389207 | AB16: =AB14+'Sagged Hardtail Calculator'!D24*SIN(RADIANS(270-'Sagged Hardtail Calculator'!D12)) -> -17.749967 | AC16: =IF('Sagged Hardtail Calculator'!F6="Static",AB9+('Sagged Hardtail Calculator'!D29-'Sagged Hardtail Calculator'!F4*'Sagged Hardtail Calculator'!F5/100)*SIN(RADIANS(360-'Sagged Hardtail Calculator'!D12)),AB9+('Sagged Hardtail Calculator'!D29+'Sagged Hardtail Calculator'!F4*'Sagged Hardtail Calculator'!F5/100)*SIN(RADIANS(360-'Sagged Hardtail Calculator'!D12))) -> 18.868095 | AD16: =AC17*SIN(AC20)+AC16*COS(AC20) -> -16.598262
F17: Gx | H17: =(H9-H16)*TAN(RADIANS(90-'Geometry Calculator'!H14))+H8 -> 1189.4198 | I17: =I8+(SQRT((H16-H9)^2+(H17-H8)^2)+'Geometry Calculator'!K4)*COS(RADIANS(360-('Geometry Calculator'!H14+'Geometry Calculator'!K5))) -> 1226.5245 | J17: =I17*COS(I20)-I16*SIN(I20) -> 1226.7716 | L17: =(L9-L16)*TAN(RADIANS(90-'Geometry Calculator'!L14))+L8 -> 1175.052 | M17: =M8+(SQRT((L16-L9)^2+(L17-L8)^2)+'Geometry Calculator'!O4)*COS(RADIANS(360-('Geometry Calculator'!L14+'Geometry Calculator'!O5))) -> 1175.052 | N17: =M17*COS(M20)-M16*SIN(M20) -> 1175.052 | P17: =(P9-P16)*TAN(RADIANS(90-'Geometry Calculator'!P14))+P8 -> 1098.5451 | Q17: =Q8+(SQRT((P16-P9)^2+(P17-P8)^2)+'Geometry Calculator'!S4)*COS(RADIANS(360-('Geometry Calculator'!P14+'Geometry Calculator'!S5))) -> 1118.9103 | R17: =Q17*COS(Q20)-Q16*SIN(Q20) -> 1119.3323 | T17: =(T9-T16)*TAN(RADIANS(90-'Geometry Calculator'!T14))+T8 -> 1154.1932 | U17: =U8+(SQRT((T16-T9)^2+(T17-T8)^2)+'Geometry Calculator'!W4)*COS(RADIANS(360-('Geometry Calculator'!T14+'Geometry Calculator'!W5))) -> 1171.2983 | V17: =U17*COS(U20)-U16*SIN(U20) -> 1171.1973 | X17: =(X9-X16)*TAN(RADIANS(90-'Geometry Calculator'!X14))+X8 -> 1139.6402 | Y17: =Y8+(SQRT((X16-X9)^2+(X17-X8)^2)+'Geometry Calculator'!AA4)*COS(RADIANS(360-('Geometry Calculator'!X14+'Geometry Calculator'!AA5))) -> 1157.3159 | Z17: =Y17*COS(Y20)-Y16*SIN(Y20) -> 1157.1944 | AB17: =(AB9-AB16)*TAN(RADIANS(90-'Sagged Hardtail Calculator'!D12))+AB8 -> 1197.2018 | AC17: =IF('Sagged Hardtail Calculator'!F6="Static",AB8+('Sagged Hardtail Calculator'!D29-'Sagged Hardtail Calculator'!F4*'Sagged Hardtail Calculator'!F5/100)*COS(RADIANS(360-'Sagged Hardtail Calculator'!D12)),AB8+('Sagged Hardtail Calculator'!D29+'Sagged Hardtail Calculator'!F4*'Sagged Hardtail Calculator'!F5/100)*COS(RADIANS(360-'Sagged Hardtail Calculator'!D12))) -> 1180.1265 | AD17: =AC17*COS(AC20)-AC16*SIN(AC20) -> 1180.1606
F18: Hx | H18: =H17+'Geometry Calculator'!H26*COS(RADIANS(90-'Geometry Calculator'!H14)) -> 1229.1335 | I18: =I17+'Geometry Calculator'!J26*COS(RADIANS(90-('Geometry Calculator'!H14+'Geometry Calculator'!K5))) -> 1263.7789 | J18: =I18*COS(I20)-I14*SIN(I20) -> 1263.7873 | L18: =L17+'Geometry Calculator'!L26*COS(RADIANS(90-'Geometry Calculator'!L14)) -> 1213.117 | M18: =M17+'Geometry Calculator'!N26*COS(RADIANS(90-('Geometry Calculator'!L14+'Geometry Calculator'!O5))) -> 1213.117 | N18: =M18*COS(M20)-M14*SIN(M20) -> 1213.117 | P18: =P17+'Geometry Calculator'!P26*COS(RADIANS(90-'Geometry Calculator'!P14)) -> 1145.8314 | Q18: =Q17+'Geometry Calculator'!R26*COS(RADIANS(90-('Geometry Calculator'!P14+'Geometry Calculator'!S5))) -> 1165.6803 | R18: =Q18*COS(Q20)-Q14*SIN(Q20) -> 1165.6845 | T18: =T17+'Geometry Calculator'!T26*COS(RADIANS(90-'Geometry Calculator'!T14)) -> 1192.7097 | U18: =U17+'Geometry Calculator'!V26*COS(RADIANS(90-('Geometry Calculator'!T14+'Geometry Calculator'!W5))) -> 1209.2068 | V18: =U18*COS(U20)-U14*SIN(U20) -> 1209.2413 | X18: =X17+'Geometry Calculator'!X26*COS(RADIANS(90-'Geometry Calculator'!X14)) -> 1186.9266 | Y18: =Y17+'Geometry Calculator'!Z26*COS(RADIANS(90-('Geometry Calculator'!X14+'Geometry Calculator'!AA5))) -> 1203.9067 | Z18: =Y18*COS(Y20)-Y14*SIN(Y20) -> 1203.9414 | AB18: =AB17+'Sagged Hardtail Calculator'!D24*COS(RADIANS(90-'Sagged Hardtail Calculator'!D12)) -> 1235.2667 | AC18: =AC17+'Sagged Hardtail Calculator'!E24*COS(RADIANS(90-('Sagged Hardtail Calculator'!D12))) -> 1218.1915 | AD18: =AC18*COS(AC20)-AC14*SIN(AC20) -> 1218.7417
F19: Fx | H19: =H18 -> 1229.1335 | J19: =J18 -> 1263.7873 | L19: =L18 -> 1213.117 | N19: =N18 -> 1213.117 | P19: =P18 -> 1145.8314 | R19: =R18 -> 1165.6845 | T19: =T18 -> 1192.7097 | V19: =V18 -> 1209.2413 | X19: =X18 -> 1186.9266 | Z19: =Z18 -> 1203.9414 | AB19: =AB18 -> 1235.2667 | AD19: =AD18 -> 1218.7417
F20: rotangle | H20: - | I20: =ASIN(('Geometry Calculator'!J11/2-'Geometry Calculator'!J10/2)/SQRT(I14^2+I18^2))-ASIN(I14/SQRT(I14^2+I18^2)) -> 0.012169465 | L20: - | M20: =ASIN(('Geometry Calculator'!N11/2-'Geometry Calculator'!N10/2)/SQRT(M14^2+M18^2))-ASIN(M14/SQRT(M14^2+M18^2)) -> 0 | P20: - | Q20: =ASIN(('Geometry Calculator'!R11/2-'Geometry Calculator'!R10/2)/SQRT(Q14^2+Q18^2))-ASIN(Q14/SQRT(Q14^2+Q18^2)) -> 0.020085652 | T20: - | U20: =ASIN(('Geometry Calculator'!V11/2-'Geometry Calculator'!V10/2)/SQRT(U14^2+U18^2))-ASIN(U14/SQRT(U14^2+U18^2)) -> -0.0075496123 | X20: - | Y20: =ASIN(('Geometry Calculator'!Z11/2-'Geometry Calculator'!Z10/2)/SQRT(Y14^2+Y18^2))-ASIN(Y14/SQRT(Y14^2+Y18^2)) -> -0.0075930626 | AB20: - | AC20: =ASIN(('Sagged Hardtail Calculator'!E9/2-'Sagged Hardtail Calculator'!E8/2)/SQRT(AC14^2+AC18^2))-ASIN(AC14/SQRT(AC14^2+AC18^2)) -> -0.030050316
F21: mASA | H21: =-TAN(RADIANS('Geometry Calculator'!H46)) -> -2.9042109 | J21: =-TAN(RADIANS('Geometry Calculator'!J46)) -> -2.7933127 | L21: =-TAN(RADIANS('Geometry Calculator'!L46)) -> -3.6058835 | N21: =-TAN(RADIANS('Geometry Calculator'!N46)) -> -3.6058835 | P21: =-TAN(RADIANS('Geometry Calculator'!P46)) -> -2.9042109 | R21: =-TAN(RADIANS('Geometry Calculator'!R46)) -> -2.7251359 | T21: =-TAN(RADIANS('Geometry Calculator'!T46)) -> -2.4261819 | V21: =-TAN(RADIANS('Geometry Calculator'!V46)) -> -2.4791423 | X21: =-TAN(RADIANS('Geometry Calculator'!X46)) -> -3.0776835 | Z21: =-TAN(RADIANS('Geometry Calculator'!Z46)) -> -3.1591034
F22: bASA | H22: =H12-H21*H13 -> 1439.5225 | J22: =J12-J21*J13 -> 1418.536 | L22: =L12-L21*L13 -> 1557.0875 | N22: =N12-N21*N13 -> 1557.0875 | P22: =P12-P21*P13 -> 1277.8093 | R22: =R12-R21*R13 -> 1207.6139 | T22: =T12-T21*T13 -> 1217.5166 | V22: =V12-V21*V13 -> 1240.2694 | X22: =X12-X21*X13 -> 1543.8133 | Z22: =Z12-Z21*Z13 -> 1580.8003
F23: Jy | H23: =IF('Geometry Calculator'!H27>0,'Geometry Calculator'!H27-(H3-H5),'Geometry Calculator'!H16-75) -> 330 | I23: =H23 -> 330 | J23: =I24*SIN(I20)+I23*COS(I20) -> 334.74635 | L23: =IF('Geometry Calculator'!L27>0,'Geometry Calculator'!L27-(L3-L5),'Geometry Calculator'!L16-75) -> 263 | M23: =L23 -> 263 | N23: =M24*SIN(M20)+M23*COS(M20) -> 263 | P23: =IF('Geometry Calculator'!P27>0,'Geometry Calculator'!P27-(P3-P5),'Geometry Calculator'!P16-75) -> 362 | Q23: =P23 -> 362 | R23: =Q24*SIN(Q20)+Q23*COS(Q20) -> 368.26033 | T23: =IF('Geometry Calculator'!T27>0,'Geometry Calculator'!T27-(T3-T5),'Geometry Calculator'!T16-75) -> 389 | U23: =T23 -> 389 | V23: =U24*SIN(U20)+U23*COS(U20) -> 386.41082 | X23: =IF('Geometry Calculator'!X27>0,'Geometry Calculator'!X27-(X3-X5),'Geometry Calculator'!X16-75) -> 362.5 | Y23: =X23 -> 362.5 | Z23: =Y24*SIN(Y20)+Y23*COS(Y20) -> 359.57512
F24: Jx | H24: =(H23-H22)/H21 -> 382.03925 | I24: =H24+'Geometry Calculator'!K8 -> 392.03925 | J24: =I24*COS(I20)-I23*SIN(I20) -> 387.99439 | L24: =(L23-L22)/L21 -> 358.88222 | M24: =L24+'Geometry Calculator'!O8 -> 358.88222 | N24: =M24*COS(M20)-M23*SIN(M20) -> 358.88222 | P24: =(P23-P22)/P21 -> 315.33842 | Q24: =P24+'Geometry Calculator'!S8 -> 315.33842 | R24: =Q24*COS(Q20)-Q23*SIN(Q20) -> 308.00429 | T24: =(T23-T22)/T21 -> 341.4899 | U24: =T24+'Geometry Calculator'!W8 -> 341.4899 | V24: =U24*COS(U20)-U23*SIN(U20) -> 344.41694 | X24: =(X23-X22)/X21 -> 383.83194 | Y24: =X24+'Geometry Calculator'!AA8 -> 383.83194 | Z24: =Y24*COS(Y20)-Y23*SIN(Y20) -> 386.57334
F25: Condition on seat angles | H25: {=_xlfn.IFS(AND('Geometry Calculator'!H15<=90,'Geometry Calculator'!H46>'Geometry Calculator'!H15),1,AND('Geometry Calculator'!H15>=90,'Geometry Calculator'!H46<'Geometry Calculator'!H15),2,TRUE,3)} -> 3 | L25: {=_xlfn.IFS(AND('Geometry Calculator'!L15<=90,'Geometry Calculator'!L46>'Geometry Calculator'!L15),1,AND('Geometry Calculator'!L15>=90,'Geometry Calculator'!L46<'Geometry Calculator'!L15),2,TRUE,3)} -> 3 | P25: {=_xlfn.IFS(AND('Geometry Calculator'!P15<=90,'Geometry Calculator'!P46>'Geometry Calculator'!P15),1,AND('Geometry Calculator'!P15>=90,'Geometry Calculator'!P46<'Geometry Calculator'!P15),2,TRUE,3)} -> 3 | T25: {=_xlfn.IFS(AND('Geometry Calculator'!T15<=90,'Geometry Calculator'!T46>'Geometry Calculator'!T15),1,AND('Geometry Calculator'!T15>=90,'Geometry Calculator'!T46<'Geometry Calculator'!T15),2,TRUE,3)} -> 3 | X25: {=_xlfn.IFS(AND('Geometry Calculator'!X15<=90,'Geometry Calculator'!X46>'Geometry Calculator'!X15),1,AND('Geometry Calculator'!X15>=90,'Geometry Calculator'!X46<'Geometry Calculator'!X15),2,TRUE,3)} -> 3
F26: Ix | H26: {=_xlfn.IFS(H25=1,(H7+0.8*ABS((H23-H7)/(H24-H6))*H6-H22)/(H21+0.8*ABS((H23-H7)/(H24-H6))),H25=2,(H7-0.8*ABS((H23-H7)/(H24-H6))*H6-H22)/(H21-0.8*ABS((H23-H7)/(H24-H6))),H25=3,H6)} -> 436.4806 | I26: =H26+'Geometry Calculator'!K8 -> 446.4806 | J26: =I26*COS(I20)-I27*SIN(I20) -> 444.35577 | L26: {=_xlfn.IFS(L25=1,(L7+0.8*ABS((L23-L7)/(L24-L6))*L6-L22)/(L21+0.8*ABS((L23-L7)/(L24-L6))),L25=2,(L7-0.8*ABS((L23-L7)/(L24-L6))*L6-L22)/(L21-0.8*ABS((L23-L7)/(L24-L6))),L25=3,L6)} -> 424.45141 | M26: =L26+'Geometry Calculator'!O8 -> 424.45141 | N26: =M26*COS(M20)-M27*SIN(M20) -> 424.45141 | P26: {=_xlfn.IFS(P25=1,(P7+0.8*ABS((P23-P7)/(P24-P6))*P6-P22)/(P21+0.8*ABS((P23-P7)/(P24-P6))),P25=2,(P7-0.8*ABS((P23-P7)/(P24-P6))*P6-P22)/(P21-0.8*ABS((P23-P7)/(P24-P6))),P25=3,P6)} -> 411.33928 | Q26: =P26+'Geometry Calculator'!S8 -> 411.33928 | R26: =Q26*COS(Q20)-Q27*SIN(Q20) -> 409.58543 | T26: {=_xlfn.IFS(T25=1,(T7+0.8*ABS((T23-T7)/(T24-T6))*T6-T22)/(T21+0.8*ABS((T23-T7)/(T24-T6))),T25=2,(T7-0.8*ABS((T23-T7)/(T24-T6))*T6-T22)/(T21-0.8*ABS((T23-T7)/(T24-T6))),T25=3,T6)} -> 433.58967 | U26: =T26+'Geometry Calculator'!W8 -> 433.58967 | V26: =U26*COS(U20)-U27*SIN(U20) -> 434.82713 | X26: {=_xlfn.IFS(X25=1,(X7+0.8*ABS((X23-X7)/(X24-X6))*X6-X22)/(X21+0.8*ABS((X23-X7)/(X24-X6))),X25=2,(X7-0.8*ABS((X23-X7)/(X24-X6))*X6-X22)/(X21-0.8*ABS((X23-X7)/(X24-X6))),X25=3,X6)} -> 469.85929 | Y26: =X26+'Geometry Calculator'!AA8 -> 469.85929 | Z26: =Y26*COS(Y20)-Y27*SIN(Y20) -> 470.58784
F27: Iy | H27: =IF('Geometry Calculator'!H46=90,0.8*H23,H21*H26+H22) -> 171.89085 | I27: =H27 -> 171.89085 | J27: =I26*SIN(I20)+I27*COS(I20) -> 177.31142 | L27: =IF('Geometry Calculator'!L46=90,0.8*L23,L21*L26+L22) -> 26.565136 | M27: =L27 -> 26.565136 | N27: =M26*SIN(M20)+M27*COS(M20) -> 26.565136 | P27: =IF('Geometry Calculator'!P46=90,0.8*P23,P21*P26+P22) -> 83.193262 | Q27: =P27 -> 83.193262 | R27: =Q26*SIN(Q20)+Q27*COS(Q20) -> 91.437944 | T27: =IF('Geometry Calculator'!T46=90,0.8*T23,T21*T26+T22) -> 165.54922 | U27: =T27 -> 165.54922 | V27: =U26*SIN(U20)+U27*COS(U20) -> 162.2711 | X27: =IF('Geometry Calculator'!X46=90,0.8*X23,X21*X26+X22) -> 97.735064 | Y27: =X27 -> 97.735064 | Z27: =Y26*SIN(Y20)+Y27*COS(Y20) -> 94.16461
F28: Cy | H28: =((2*H7*H21^2)+2*H6*H21+2*H22+SQRT((-2*H7*H21^2-2*H6*H21-2*H22)^2-4*(H21^2+1)*(H7^2*H21^2+H6^2*H21^2+2*H6*H22*H21+H22^2-H21^2*'Geometry Calculator'!H16^2)))/(2*(H21^2+1)) -> 391.81679 | I28: =H28 -> 391.81679 | J28: =I29*SIN(I20)+I28*COS(I20) -> 396.29955 | L28: =((2*L7*L21^2)+2*L6*L21+2*L22+SQRT((-2*L7*L21^2-2*L6*L21-2*L22)^2-4*(L21^2+1)*(L7^2*L21^2+L6^2*L21^2+2*L6*L22*L21+L22^2-L21^2*'Geometry Calculator'!L16^2)))/(2*(L21^2+1)) -> 345.35483 | M28: =L28 -> 345.35483 | N28: =M29*SIN(M20)+M28*COS(M20) -> 345.35483 | P28: =((2*P7*P21^2)+2*P6*P21+2*P22+SQRT((-2*P7*P21^2-2*P6*P21-2*P22)^2-4*(P21^2+1)*(P7^2*P21^2+P6^2*P21^2+2*P6*P22*P21+P22^2-P21^2*'Geometry Calculator'!P16^2)))/(2*(P21^2+1)) -> 354.48047 | Q28: =P28 -> 354.48047 | R28: =Q29*SIN(Q20)+Q28*COS(Q20) -> 360.79433 | T28: =((2*T7*T21^2)+2*T6*T21+2*T22+SQRT((-2*T7*T21^2-2*T6*T21-2*T22)^2-4*(T21^2+1)*(T7^2*T21^2+T6^2*T21^2+2*T6*T22*T21+T22^2-T21^2*'Geometry Calculator'!T16^2)))/(2*(T21^2+1)) -> 417.25324 | U28: =T28 -> 417.25324 | V28: =U29*SIN(U20)+U28*COS(U20) -> 414.75117 | X28: =((2*X7*X21^2)+2*X6*X21+2*X22+SQRT((-2*X7*X21^2-2*X6*X21-2*X22)^2-4*(X21^2+1)*(X7^2*X21^2+X6^2*X21^2+2*X6*X22*X21+X22^2-X21^2*'Geometry Calculator'!X16^2)))/(2*(X21^2+1)) -> 444.77326 | Y28: =X28 -> 444.77326 | Z28: =Y29*SIN(Y20)+Y28*COS(Y20) -> 442.04898
F29: Cx | H29: =(H28-H22)/H21 -> 360.75402 | I29: =H29+'Geometry Calculator'!K8 -> 370.75402 | J29: =I29*COS(I20)-I28*SIN(I20) -> 365.95848 | L29: =(L28-L22)/L21 -> 336.0432 | M29: =L29+'Geometry Calculator'!O8 -> 336.0432 | N29: =M29*COS(M20)-M28*SIN(M20) -> 336.0432 | P29: =(P28-P22)/P21 -> 317.9276 | Q29: =P29+'Geometry Calculator'!S8 -> 317.9276 | R29: =Q29*COS(Q20)-Q28*SIN(Q20) -> 310.74398 | T29: =(T28-T22)/T21 -> 329.84476 | U29: =T29+'Geometry Calculator'!W8 -> 329.84476 | V29: =U29*COS(U20)-U28*SIN(U20) -> 332.98543 | X29: =(X28-X22)/X21 -> 357.09974 | Y29: =X29+'Geometry Calculator'!AA8 -> 357.09974 | Z29: =Y29*COS(Y20)-Y28*SIN(Y20) -> 360.46661
F30: Mx | H30: =H10+'Geometry Calculator'!H37*COS(RADIANS(180-'Geometry Calculator'!H14)) -> 874.26015 | I30: =I10+'Geometry Calculator'!J37*COS(RADIANS(180-('Geometry Calculator'!H14+'Geometry Calculator'!K5))) -> 874.61089 | J30: =I30*COS(I20)-I31*SIN(I20) -> 866.65751 | L30: =L10+'Geometry Calculator'!L37*COS(RADIANS(180-'Geometry Calculator'!L14)) -> 878.39192 | M30: =M10+'Geometry Calculator'!N37*COS(RADIANS(180-('Geometry Calculator'!L14+'Geometry Calculator'!O5))) -> 878.39192 | N30: =M30*COS(M20)-M31*SIN(M20) -> 878.39192 | P30: =P10+'Geometry Calculator'!P37*COS(RADIANS(180-'Geometry Calculator'!P14)) -> 844.48198 | Q30: =Q10+'Geometry Calculator'!R37*COS(RADIANS(180-('Geometry Calculator'!P14+'Geometry Calculator'!S5))) -> 840.48207 | R30: =Q30*COS(Q20)-Q31*SIN(Q20) -> 828.09946 | T30: =T10+'Geometry Calculator'!T37*COS(RADIANS(180-'Geometry Calculator'!T14)) -> 879.24096 | U30: =U10+'Geometry Calculator'!V37*COS(RADIANS(180-('Geometry Calculator'!T14+'Geometry Calculator'!W5))) -> 874.41602 | V30: =U30*COS(U20)-U31*SIN(U20) -> 879.02255 | X30: =X10+'Geometry Calculator'!X37*COS(RADIANS(180-'Geometry Calculator'!X14)) -> 863.50671 | Y30: =Y10+'Geometry Calculator'!Z37*COS(RADIANS(180-('Geometry Calculator'!X14+'Geometry Calculator'!AA5))) -> 857.46616 | Z30: =Y30*COS(Y20)-Y31*SIN(Y20) -> 862.46703
F31: My | H31: =H11+'Geometry Calculator'!H37*SIN(RADIANS(180-'Geometry Calculator'!H14)) -> 641.80341 | I31: =I11+'Geometry Calculator'!J37*SIN(RADIANS(180-('Geometry Calculator'!H14+'Geometry Calculator'!K5))) -> 648.24649 | J31: =I30*SIN(I20)+I31*COS(I20) -> 658.84177 | L31: =L11+'Geometry Calculator'!L37*SIN(RADIANS(180-'Geometry Calculator'!L14)) -> 618.4397 | M31: =M11+'Geometry Calculator'!N37*SIN(RADIANS(180-('Geometry Calculator'!L14+'Geometry Calculator'!O5))) -> 618.4397 | N31: =M30*SIN(M20)+M31*COS(M20) -> 618.4397 | P31: =P11+'Geometry Calculator'!P37*SIN(RADIANS(180-'Geometry Calculator'!P14)) -> 609.72327 | Q31: =Q11+'Geometry Calculator'!R37*SIN(RADIANS(180-('Geometry Calculator'!P14+'Geometry Calculator'!S5))) -> 608.09057 | R31: =Q30*SIN(Q20)+Q31*COS(Q20) -> 624.84841 | T31: =T11+'Geometry Calculator'!T37*SIN(RADIANS(180-'Geometry Calculator'!T14)) -> 615.59946 | U31: =U11+'Geometry Calculator'!V37*SIN(RADIANS(180-('Geometry Calculator'!T14+'Geometry Calculator'!W5))) -> 613.47429 | V31: =U30*SIN(U20)+U31*COS(U20) -> 606.85537 | X31: =X11+'Geometry Calculator'!X37*SIN(RADIANS(180-'Geometry Calculator'!X14)) -> 664.34948 | Y31: =Y11+'Geometry Calculator'!Z37*SIN(RADIANS(180-('Geometry Calculator'!X14+'Geometry Calculator'!AA5))) -> 661.87149 | Z31: =Y30*SIN(Y20)+Y31*COS(Y20) -> 655.34168
F32: Nx | H32: =H30+'Geometry Calculator'!H35*COS(RADIANS(90+'Geometry Calculator'!H36-'Geometry Calculator'!H14)) -> 910.36356 | I32: =I30+'Geometry Calculator'!J35*COS(RADIANS(90+'Geometry Calculator'!J36-('Geometry Calculator'!H14+'Geometry Calculator'!K5))) -> 910.09132 | J32: =I32*COS(I20)-I33*SIN(I20) -> 901.91055 | L32: =L30+'Geometry Calculator'!L35*COS(RADIANS(90+'Geometry Calculator'!L36-'Geometry Calculator'!L14)) -> 914.64423 | M32: =M30+'Geometry Calculator'!N35*COS(RADIANS(90+'Geometry Calculator'!N36-('Geometry Calculator'!L14+'Geometry Calculator'!O5))) -> 914.64423 | N32: =M32*COS(M20)-M33*SIN(M20) -> 914.64423 | P32: =P30+'Geometry Calculator'!P35*COS(RADIANS(90+'Geometry Calculator'!P36-'Geometry Calculator'!P14)) -> 886.20525 | Q32: =Q30+'Geometry Calculator'!R35*COS(RADIANS(90+'Geometry Calculator'!R36-('Geometry Calculator'!P14+'Geometry Calculator'!S5))) -> 881.74977 | R32: =Q32*COS(Q20)-Q33*SIN(Q20) -> 868.99845 | T32: =T30+'Geometry Calculator'!T35*COS(RADIANS(90+'Geometry Calculator'!T36-'Geometry Calculator'!T14)) -> 915.92336 | U32: =U30+'Geometry Calculator'!V35*COS(RADIANS(90+'Geometry Calculator'!V36-('Geometry Calculator'!T14+'Geometry Calculator'!W5))) -> 910.51944 | V32: =U32*COS(U20)-U33*SIN(U20) -> 915.25494 | X32: =X30+'Geometry Calculator'!X35*COS(RADIANS(90+'Geometry Calculator'!X36-'Geometry Calculator'!X14)) -> 908.8221 | Y32: =Y30+'Geometry Calculator'!Z35*COS(RADIANS(90+'Geometry Calculator'!Z36-('Geometry Calculator'!X14+'Geometry Calculator'!AA5))) -> 902.01649 | Z32: =Y32*COS(Y20)-Y33*SIN(Y20) -> 907.18843
F33: Ny | H33: =H31+'Geometry Calculator'!H35*SIN(RADIANS(90+'Geometry Calculator'!H36-'Geometry Calculator'!H14)) -> 659.02386 | I33: =I31+'Geometry Calculator'!J35*SIN(RADIANS(90+'Geometry Calculator'!J36-('Geometry Calculator'!H14+'Geometry Calculator'!K5))) -> 666.71643 | J33: =I32*SIN(I20)+I33*COS(I20) -> 677.74212 | L33: =L31+'Geometry Calculator'!L35*SIN(RADIANS(90+'Geometry Calculator'!L36-'Geometry Calculator'!L14)) -> 635.34443 | M33: =M31+'Geometry Calculator'!N35*SIN(RADIANS(90+'Geometry Calculator'!N36-('Geometry Calculator'!L14+'Geometry Calculator'!O5))) -> 635.34443 | N33: =M32*SIN(M20)+M33*COS(M20) -> 635.34443 | P33: =P31+'Geometry Calculator'!P35*SIN(RADIANS(90+'Geometry Calculator'!P36-'Geometry Calculator'!P14)) -> 626.58057 | Q33: =Q31+'Geometry Calculator'!R35*SIN(RADIANS(90+'Geometry Calculator'!R36-('Geometry Calculator'!P14+'Geometry Calculator'!S5))) -> 626.03428 | R33: =Q32*SIN(Q20)+Q33*COS(Q20) -> 643.61733 | T33: =T31+'Geometry Calculator'!T35*SIN(RADIANS(90+'Geometry Calculator'!T36-'Geometry Calculator'!T14)) -> 631.54943 | U33: =U31+'Geometry Calculator'!V35*SIN(RADIANS(90+'Geometry Calculator'!V36-('Geometry Calculator'!T14+'Geometry Calculator'!W5))) -> 630.69473 | V33: =U32*SIN(U20)+U33*COS(U20) -> 623.80275 | X33: =X31+'Geometry Calculator'!X35*SIN(RADIANS(90+'Geometry Calculator'!X36-'Geometry Calculator'!X14)) -> 685.48039 | Y33: =Y31+'Geometry Calculator'!Z35*SIN(RADIANS(90+'Geometry Calculator'!Z36-('Geometry Calculator'!X14+'Geometry Calculator'!AA5))) -> 684.57101 | Z33: =Y32*SIN(Y20)+Y33*COS(Y20) -> 677.70228
F34: bar rotated knuckle x (Qx) | H34: =H32+'Geometry Calculator'!H38*COS(RADIANS(90-'Geometry Calculator'!H41)) -> 905.18718 | J34: =J32+'Geometry Calculator'!J38*COS(RADIANS(90-'Geometry Calculator'!J41)) -> 896.06312 | L34: =L32+'Geometry Calculator'!L38*COS(RADIANS(90-'Geometry Calculator'!L41)) -> 914.64423 | N34: =N32+'Geometry Calculator'!N38*COS(RADIANS(90-'Geometry Calculator'!N41)) -> 914.64423 | P34: =P32+'Geometry Calculator'!P38*COS(RADIANS(90-'Geometry Calculator'!P41)) -> 886.20525 | R34: =R32+'Geometry Calculator'!R38*COS(RADIANS(90-'Geometry Calculator'!R41)) -> 868.99845 | T34: =T32+'Geometry Calculator'!T38*COS(RADIANS(90-'Geometry Calculator'!T41)) -> 915.92336 | V34: =V32+'Geometry Calculator'!V38*COS(RADIANS(90-'Geometry Calculator'!V41)) -> 915.25494 | X34: =X32+'Geometry Calculator'!X38*COS(RADIANS(90-'Geometry Calculator'!X41)) -> 908.8221 | Z34: =Z32+'Geometry Calculator'!Z38*COS(RADIANS(90-'Geometry Calculator'!Z41)) -> 907.18843
F35: bar rotated knuckle y (Qy) | H35: =H33+'Geometry Calculator'!H38*SIN(RADIANS(90-'Geometry Calculator'!H41)) -> 678.34237 | J35: =J33+'Geometry Calculator'!J38*SIN(RADIANS(90-'Geometry Calculator'!J41)) -> 696.86821 | L35: =L33+'Geometry Calculator'!L38*SIN(RADIANS(90-'Geometry Calculator'!L41)) -> 660.34443 | N35: =N33+'Geometry Calculator'!N38*SIN(RADIANS(90-'Geometry Calculator'!N41)) -> 660.34443 | P35: =P33+'Geometry Calculator'!P38*SIN(RADIANS(90-'Geometry Calculator'!P41)) -> 638.58057 | R35: =R33+'Geometry Calculator'!R38*SIN(RADIANS(90-'Geometry Calculator'!R41)) -> 655.61733 | T35: =T33+'Geometry Calculator'!T38*SIN(RADIANS(90-'Geometry Calculator'!T41)) -> 651.54943 | V35: =V33+'Geometry Calculator'!V38*SIN(RADIANS(90-'Geometry Calculator'!V41)) -> 643.80275 | X35: =X33+'Geometry Calculator'!X38*SIN(RADIANS(90-'Geometry Calculator'!X41)) -> 697.48039 | Z35: =Z33+'Geometry Calculator'!Z38*SIN(RADIANS(90-'Geometry Calculator'!Z41)) -> 689.70228
F36: bar rotated knuckle z (Qz) left | H36: =H56-('Geometry Calculator'!H42)*COS(RADIANS('Geometry Calculator'!H39))*SIN(RADIANS(90-'Geometry Calculator'!H40)) -> 103.78006 | J36: =J56-('Geometry Calculator'!J42)*COS(RADIANS('Geometry Calculator'!J39))*SIN(RADIANS(90-'Geometry Calculator'!J40)) -> 103.78006 | L36: =L56-('Geometry Calculator'!L42)*COS(RADIANS('Geometry Calculator'!L39))*SIN(RADIANS(90-'Geometry Calculator'!L40)) -> 151.75336 | N36: =N56-('Geometry Calculator'!N42)*COS(RADIANS('Geometry Calculator'!N39))*SIN(RADIANS(90-'Geometry Calculator'!N40)) -> 151.75336 | P36: =P56-('Geometry Calculator'!P42)*COS(RADIANS('Geometry Calculator'!P39))*SIN(RADIANS(90-'Geometry Calculator'!P40)) -> 154.25336 | R36: =R56-('Geometry Calculator'!R42)*COS(RADIANS('Geometry Calculator'!R39))*SIN(RADIANS(90-'Geometry Calculator'!R40)) -> 154.25336 | T36: =T56-('Geometry Calculator'!T42)*COS(RADIANS('Geometry Calculator'!T39))*SIN(RADIANS(90-'Geometry Calculator'!T40)) -> 153.93718 | V36: =V56-('Geometry Calculator'!V42)*COS(RADIANS('Geometry Calculator'!V39))*SIN(RADIANS(90-'Geometry Calculator'!V40)) -> 153.93718 | X36: =X56-('Geometry Calculator'!X42)*COS(RADIANS('Geometry Calculator'!X39))*SIN(RADIANS(90-'Geometry Calculator'!X40)) -> 151.25336 | Z36: =Z56-('Geometry Calculator'!Z42)*COS(RADIANS('Geometry Calculator'!Z39))*SIN(RADIANS(90-'Geometry Calculator'!Z40)) -> 151.25336
F37: bar rotated knuckle z (Qz) right | H37: =-H36 -> -103.78006 | J37: =-J36 -> -103.78006 | L37: =-L36 -> -151.75336 | N37: =-N36 -> -151.75336 | P37: =-P36 -> -154.25336 | R37: =-R36 -> -154.25336 | T37: =-T36 -> -153.93718 | V37: =-V36 -> -153.93718 | X37: =-X36 -> -151.25336 | Z37: =-Z36 -> -151.25336
F38: Ox placeholder orthogonal x | H38: =('Geometry Calculator'!H42-'Geometry Calculator'!H43/2)*SIN(RADIANS(-'Geometry Calculator'!H39))*SIN(RADIANS(90-'Geometry Calculator'!H40)) -> -29.808354 | J38: =('Geometry Calculator'!J42-'Geometry Calculator'!J43/2)*SIN(RADIANS(-'Geometry Calculator'!J39))*SIN(RADIANS(90-'Geometry Calculator'!J40)) -> -29.808354 | L38: =('Geometry Calculator'!L42-'Geometry Calculator'!L43/2)*SIN(RADIANS(-'Geometry Calculator'!L39))*SIN(RADIANS(90-'Geometry Calculator'!L40)) -> -26.914908 | N38: =('Geometry Calculator'!N42-'Geometry Calculator'!N43/2)*SIN(RADIANS(-'Geometry Calculator'!N39))*SIN(RADIANS(90-'Geometry Calculator'!N40)) -> -26.914908 | P38: =('Geometry Calculator'!P42-'Geometry Calculator'!P43/2)*SIN(RADIANS(-'Geometry Calculator'!P39))*SIN(RADIANS(90-'Geometry Calculator'!P40)) -> -26.914908 | R38: =('Geometry Calculator'!R42-'Geometry Calculator'!R43/2)*SIN(RADIANS(-'Geometry Calculator'!R39))*SIN(RADIANS(90-'Geometry Calculator'!R40)) -> -26.914908 | T38: =('Geometry Calculator'!T42-'Geometry Calculator'!T43/2)*SIN(RADIANS(-'Geometry Calculator'!T39))*SIN(RADIANS(90-'Geometry Calculator'!T40)) -> -27.739375 | V38: =('Geometry Calculator'!V42-'Geometry Calculator'!V43/2)*SIN(RADIANS(-'Geometry Calculator'!V39))*SIN(RADIANS(90-'Geometry Calculator'!V40)) -> -27.739375 | X38: =('Geometry Calculator'!X42-'Geometry Calculator'!X43/2)*SIN(RADIANS(-'Geometry Calculator'!X39))*SIN(RADIANS(90-'Geometry Calculator'!X40)) -> -26.914908 | Z38: =('Geometry Calculator'!Z42-'Geometry Calculator'!Z43/2)*SIN(RADIANS(-'Geometry Calculator'!Z39))*SIN(RADIANS(90-'Geometry Calculator'!Z40)) -> -26.914908
F39: Oy placeholder orthogonal y | H39: ='Geometry Calculator'!H38+('Geometry Calculator'!H42-'Geometry Calculator'!H43/2)*COS(RADIANS(90-'Geometry Calculator'!H40)) -> 38.738485 | J39: ='Geometry Calculator'!J38+('Geometry Calculator'!J42-'Geometry Calculator'!J43/2)*COS(RADIANS(90-'Geometry Calculator'!J40)) -> 38.738485 | L39: ='Geometry Calculator'!L38+('Geometry Calculator'!L42-'Geometry Calculator'!L43/2)*COS(RADIANS(90-'Geometry Calculator'!L40)) -> 43.083424 | N39: ='Geometry Calculator'!N38+('Geometry Calculator'!N42-'Geometry Calculator'!N43/2)*COS(RADIANS(90-'Geometry Calculator'!N40)) -> 43.083424 | P39: ='Geometry Calculator'!P38+('Geometry Calculator'!P42-'Geometry Calculator'!P43/2)*COS(RADIANS(90-'Geometry Calculator'!P40)) -> 30.083424 | R39: ='Geometry Calculator'!R38+('Geometry Calculator'!R42-'Geometry Calculator'!R43/2)*COS(RADIANS(90-'Geometry Calculator'!R40)) -> 30.083424 | T39: ='Geometry Calculator'!T38+('Geometry Calculator'!T42-'Geometry Calculator'!T43/2)*COS(RADIANS(90-'Geometry Calculator'!T40)) -> 35.513722 | V39: ='Geometry Calculator'!V38+('Geometry Calculator'!V42-'Geometry Calculator'!V43/2)*COS(RADIANS(90-'Geometry Calculator'!V40)) -> 35.513722 | X39: ='Geometry Calculator'!X38+('Geometry Calculator'!X42-'Geometry Calculator'!X43/2)*COS(RADIANS(90-'Geometry Calculator'!X40)) -> 30.083424 | Z39: ='Geometry Calculator'!Z38+('Geometry Calculator'!Z42-'Geometry Calculator'!Z43/2)*COS(RADIANS(90-'Geometry Calculator'!Z40)) -> 30.083424
F40: Ox rotated x | H40: =H32+H38*COS(RADIANS(-'Geometry Calculator'!H41))-H39*SIN(RADIANS(-'Geometry Calculator'!H41)) -> 871.54465 | J40: =J32+J38*COS(RADIANS(-'Geometry Calculator'!J41))-J39*SIN(RADIANS(-'Geometry Calculator'!J41)) -> 862.07864 | L40: =L32+L38*COS(RADIANS(-'Geometry Calculator'!L41))-L39*SIN(RADIANS(-'Geometry Calculator'!L41)) -> 887.72932 | N40: =N32+N38*COS(RADIANS(-'Geometry Calculator'!N41))-N39*SIN(RADIANS(-'Geometry Calculator'!N41)) -> 887.72932 | P40: =P32+P38*COS(RADIANS(-'Geometry Calculator'!P41))-P39*SIN(RADIANS(-'Geometry Calculator'!P41)) -> 859.29035 | R40: =R32+R38*COS(RADIANS(-'Geometry Calculator'!R41))-R39*SIN(RADIANS(-'Geometry Calculator'!R41)) -> 842.08354 | T40: =T32+T38*COS(RADIANS(-'Geometry Calculator'!T41))-T39*SIN(RADIANS(-'Geometry Calculator'!T41)) -> 888.18398 | V40: =V32+V38*COS(RADIANS(-'Geometry Calculator'!V41))-V39*SIN(RADIANS(-'Geometry Calculator'!V41)) -> 887.51557 | X40: =X32+X38*COS(RADIANS(-'Geometry Calculator'!X41))-X39*SIN(RADIANS(-'Geometry Calculator'!X41)) -> 881.90719 | Z40: =Z32+Z38*COS(RADIANS(-'Geometry Calculator'!Z41))-Z39*SIN(RADIANS(-'Geometry Calculator'!Z41)) -> 880.27352
F41: Oy rotated y | H41: =H33+H38*SIN(RADIANS(-'Geometry Calculator'!H41))+H39*COS(RADIANS(-'Geometry Calculator'!H41)) -> 688.72739 | J41: =J33+J38*SIN(RADIANS(-'Geometry Calculator'!J41))+J39*COS(RADIANS(-'Geometry Calculator'!J41)) -> 706.07279 | L41: =L33+L38*SIN(RADIANS(-'Geometry Calculator'!L41))+L39*COS(RADIANS(-'Geometry Calculator'!L41)) -> 678.42785 | N41: =N33+N38*SIN(RADIANS(-'Geometry Calculator'!N41))+N39*COS(RADIANS(-'Geometry Calculator'!N41)) -> 678.42785 | P41: =P33+P38*SIN(RADIANS(-'Geometry Calculator'!P41))+P39*COS(RADIANS(-'Geometry Calculator'!P41)) -> 656.66399 | R41: =R33+R38*SIN(RADIANS(-'Geometry Calculator'!R41))+R39*COS(RADIANS(-'Geometry Calculator'!R41)) -> 673.70076 | T41: =T33+T38*SIN(RADIANS(-'Geometry Calculator'!T41))+T39*COS(RADIANS(-'Geometry Calculator'!T41)) -> 667.06315 | V41: =V33+V38*SIN(RADIANS(-'Geometry Calculator'!V41))+V39*COS(RADIANS(-'Geometry Calculator'!V41)) -> 659.31648 | X41: =X33+X38*SIN(RADIANS(-'Geometry Calculator'!X41))+X39*COS(RADIANS(-'Geometry Calculator'!X41)) -> 715.56382 | Z41: =Z33+Z38*SIN(RADIANS(-'Geometry Calculator'!Z41))+Z39*COS(RADIANS(-'Geometry Calculator'!Z41)) -> 707.7857
F42: Oz rotated z | H42: =H56-('Geometry Calculator'!H43/2)*COS(RADIANS(-'Geometry Calculator'!H39))*SIN(RADIANS(90-'Geometry Calculator'!H40)) -> 315.87751 | J42: =J56-('Geometry Calculator'!J43/2)*COS(RADIANS(-'Geometry Calculator'!J39))*SIN(RADIANS(90-'Geometry Calculator'!J40)) -> 315.87751 | L42: =L56-('Geometry Calculator'!L43/2)*COS(RADIANS(-'Geometry Calculator'!L39))*SIN(RADIANS(90-'Geometry Calculator'!L40)) -> 321.6874 | N42: =N56-('Geometry Calculator'!N43/2)*COS(RADIANS(-'Geometry Calculator'!N39))*SIN(RADIANS(90-'Geometry Calculator'!N40)) -> 321.6874 | P42: =P56-('Geometry Calculator'!P43/2)*COS(RADIANS(-'Geometry Calculator'!P39))*SIN(RADIANS(90-'Geometry Calculator'!P40)) -> 324.1874 | R42: =R56-('Geometry Calculator'!R43/2)*COS(RADIANS(-'Geometry Calculator'!R39))*SIN(RADIANS(90-'Geometry Calculator'!R40)) -> 324.1874 | T42: =T56-('Geometry Calculator'!T43/2)*COS(RADIANS(-'Geometry Calculator'!T39))*SIN(RADIANS(90-'Geometry Calculator'!T40)) -> 329.0767 | V42: =V56-('Geometry Calculator'!V43/2)*COS(RADIANS(-'Geometry Calculator'!V39))*SIN(RADIANS(90-'Geometry Calculator'!V40)) -> 329.0767 | X42: =X56-('Geometry Calculator'!X43/2)*COS(RADIANS(-'Geometry Calculator'!X39))*SIN(RADIANS(90-'Geometry Calculator'!X40)) -> 321.1874 | Z42: =Z56-('Geometry Calculator'!Z43/2)*COS(RADIANS(-'Geometry Calculator'!Z39))*SIN(RADIANS(90-'Geometry Calculator'!Z40)) -> 321.1874
F43: Px | H43: =H6 -> 436.4806 | J43: =J6 -> 446.70674 | L43: =L6 -> 424.45141 | N43: =N6 -> 424.45141 | P43: =P6 -> 411.33928 | R43: =R6 -> 412.36094 | T43: =T6 -> 433.58967 | V43: =V6 -> 433.31308 | X43: =X6 -> 469.85929 | Z43: =Z6 -> 469.75842
F44: Py | H44: =H7-'Geometry Calculator'!H49 -> -191.3 | J44: =J7-'Geometry Calculator'!J49 -> -185.86513 | L44: =L7-'Geometry Calculator'!L49 -> -225 | N44: =N7-'Geometry Calculator'!N49 -> -225 | P44: =P7-'Geometry Calculator'!P49 -> -220 | R44: =R7-'Geometry Calculator'!R49 -> -211.72744 | T44: =T7-'Geometry Calculator'!T49 -> -210 | V44: =V7-'Geometry Calculator'!V49 -> -213.27241 | X44: =X7-'Geometry Calculator'!X49 -> -186.5 | Z44: =Z7-'Geometry Calculator'!Z49 -> -190.06731
F45: Steering axis x at grip height | H45: =H30+(H41-H31)/TAN(RADIANS(180-'Geometry Calculator'!H14)) -> 851.87856 | J45: =J30+(J41-J31)/TAN(RADIANS(180-'Geometry Calculator'!J14)) -> 841.33536 | L45: =L30+(L41-L31)/TAN(RADIANS(180-'Geometry Calculator'!L14)) -> 850.41898 | N45: =N30+(N41-N31)/TAN(RADIANS(180-'Geometry Calculator'!N14)) -> 850.41898 | P45: =P30+(P41-P31)/TAN(RADIANS(180-'Geometry Calculator'!P14)) -> 825.5167 | R45: =R30+(R41-R31)/TAN(RADIANS(180-'Geometry Calculator'!R14)) -> 805.68067 | T45: =T30+(T41-T31)/TAN(RADIANS(180-'Geometry Calculator'!T14)) -> 856.86391 | V45: =V30+(V41-V31)/TAN(RADIANS(180-'Geometry Calculator'!V14)) -> 854.48432 | X45: =X30+(X41-X31)/TAN(RADIANS(180-'Geometry Calculator'!X14)) -> 842.81478 | Z45: =Z30+(Z41-Z31)/TAN(RADIANS(180-'Geometry Calculator'!Z14)) -> 839.59299
F46: mid saddle x | H46: =H48-'Geometry Calculator'!H48 -> 242.43773 | J46: =J48-'Geometry Calculator'!J48 -> 244.17479 | L46: =L48-'Geometry Calculator'!L48 -> 254.46936 | N46: =N48-'Geometry Calculator'!N48 -> 254.46936 | P46: =P48-'Geometry Calculator'!P48 -> 213.40467 | R46: =R48-'Geometry Calculator'!R48 -> 200.14541 | T46: =T48-'Geometry Calculator'!T48 -> 219.50979 | V46: =V48-'Geometry Calculator'!V48 -> 224.49111 | X46: =X48-'Geometry Calculator'!X48 -> 271.98144 | Z46: =Z48-'Geometry Calculator'!Z48 -> 277.33987
F47: mid saddle y | H47: =H49 -> 677.34804 | J47: =J49 -> 680.61322 | L47: =L49 -> 639.50061 | N47: =N49 -> 639.50061 | P47: =P49 -> 658.03709 | R47: =R49 -> 662.19044 | T47: =T49 -> 660.68412 | V47: =V49 -> 658.9326 | X47: =X49 -> 706.74046 | Z47: =Z49 -> 704.65493
F48: seatpost top at ride height x | H48: =IF('Geometry Calculator'!H46=90,H13,(H49-H22)/H21) -> 262.43773 | J48: =IF('Geometry Calculator'!J46=90,J13,(J49-J22)/J21) -> 264.17479 | L48: =IF('Geometry Calculator'!L46=90,L13,(L49-L22)/L21) -> 254.46936 | N48: =IF('Geometry Calculator'!N46=90,N13,(N49-N22)/N21) -> 254.46936 | P48: =IF('Geometry Calculator'!P46=90,P13,(P49-P22)/P21) -> 213.40467 | R48: =IF('Geometry Calculator'!R46=90,R13,(R49-R22)/R21) -> 200.14541 | T48: =IF('Geometry Calculator'!T46=90,T13,(T49-T22)/T21) -> 229.50979 | V48: =IF('Geometry Calculator'!V46=90,V13,(V49-V22)/V21) -> 234.49111 | X48: =IF('Geometry Calculator'!X46=90,X13,(X49-X22)/X21) -> 271.98144 | Z48: =IF('Geometry Calculator'!Z46=90,Z13,(Z49-Z22)/Z21) -> 277.33987
F49: seat post top at ride height y | H49: =IF(((-(-2*H21^2*H7-2*H6*H21-2*H22)+SQRT((-2*H21^2*H7-2*H6*H21-2*H22)^2-4*(H21^2+1)*(H21^2*H7^2+H21^2*H6^2+2*H6*H22*H21+H22^2-H21^2*'Geometry Calculator'!H47^2)))/(2*(H21^2+1)))>0,(-(-2*H21^2*H7-2*H6*H21-2*H22)+SQRT((-2*H21^2*H7-2*H6*H21-2*H22)^2-4*(H21^2+1)*(H21^2*H7^2+H21^2*H6^2+2*H6*H22*H21+H22^2-H21^2*'Geometry Calculator'!H47^2)))/(2*(H21^2+1)),(-(-2*H21^2*H7-2*H6*H21-2*H22)-SQRT((-2*H21^2*H7-2*H6*H21-2*H22)^2-4*(H21^2+1)*(H21^2*H7^2+H21^2*H6^2+2*H6*H22*H21+H22^2-H21^2*'Geometry Calculator'!H47^2)))/(2*(H21^2+1))) -> 677.34804 | J49: =IF(((-(-2*J21^2*J7-2*J6*J21-2*J22)+SQRT((-2*J21^2*J7-2*J6*J21-2*J22)^2-4*(J21^2+1)*(J21^2*J7^2+J21^2*J6^2+2*J6*J22*J21+J22^2-J21^2*'Geometry Calculator'!J47^2)))/(2*(J21^2+1)))>0,(-(-2*J21^2*J7-2*J6*J21-2*J22)+SQRT((-2*J21^2*J7-2*J6*J21-2*J22)^2-4*(J21^2+1)*(J21^2*J7^2+J21^2*J6^2+2*J6*J22*J21+J22^2-J21^2*'Geometry Calculator'!J47^2)))/(2*(J21^2+1)),(-(-2*J21^2*J7-2*J6*J21-2*J22)-SQRT((-2*J21^2*J7-2*J6*J21-2*J22)^2-4*(J21^2+1)*(J21^2*J7^2+J21^2*J6^2+2*J6*J22*J21+J22^2-J21^2*'Geometry Calculator'!J47^2)))/(2*(J21^2+1))) -> 680.61322 | L49: =IF(((-(-2*L21^2*L7-2*L6*L21-2*L22)+SQRT((-2*L21^2*L7-2*L6*L21-2*L22)^2-4*(L21^2+1)*(L21^2*L7^2+L21^2*L6^2+2*L6*L22*L21+L22^2-L21^2*'Geometry Calculator'!L47^2)))/(2*(L21^2+1)))>0,(-(-2*L21^2*L7-2*L6*L21-2*L22)+SQRT((-2*L21^2*L7-2*L6*L21-2*L22)^2-4*(L21^2+1)*(L21^2*L7^2+L21^2*L6^2+2*L6*L22*L21+L22^2-L21^2*'Geometry Calculator'!L47^2)))/(2*(L21^2+1)),(-(-2*L21^2*L7-2*L6*L21-2*L22)-SQRT((-2*L21^2*L7-2*L6*L21-2*L22)^2-4*(L21^2+1)*(L21^2*L7^2+L21^2*L6^2+2*L6*L22*L21+L22^2-L21^2*'Geometry Calculator'!L47^2)))/(2*(L21^2+1))) -> 639.50061 | N49: =IF(((-(-2*N21^2*N7-2*N6*N21-2*N22)+SQRT((-2*N21^2*N7-2*N6*N21-2*N22)^2-4*(N21^2+1)*(N21^2*N7^2+N21^2*N6^2+2*N6*N22*N21+N22^2-N21^2*'Geometry Calculator'!N47^2)))/(2*(N21^2+1)))>0,(-(-2*N21^2*N7-2*N6*N21-2*N22)+SQRT((-2*N21^2*N7-2*N6*N21-2*N22)^2-4*(N21^2+1)*(N21^2*N7^2+N21^2*N6^2+2*N6*N22*N21+N22^2-N21^2*'Geometry Calculator'!N47^2)))/(2*(N21^2+1)),(-(-2*N21^2*N7-2*N6*N21-2*N22)-SQRT((-2*N21^2*N7-2*N6*N21-2*N22)^2-4*(N21^2+1)*(N21^2*N7^2+N21^2*N6^2+2*N6*N22*N21+N22^2-N21^2*'Geometry Calculator'!N47^2)))/(2*(N21^2+1))) -> 639.50061 | P49: =IF(((-(-2*P21^2*P7-2*P6*P21-2*P22)+SQRT((-2*P21^2*P7-2*P6*P21-2*P22)^2-4*(P21^2+1)*(P21^2*P7^2+P21^2*P6^2+2*P6*P22*P21+P22^2-P21^2*'Geometry Calculator'!P47^2)))/(2*(P21^2+1)))>0,(-(-2*P21^2*P7-2*P6*P21-2*P22)+SQRT((-2*P21^2*P7-2*P6*P21-2*P22)^2-4*(P21^2+1)*(P21^2*P7^2+P21^2*P6^2+2*P6*P22*P21+P22^2-P21^2*'Geometry Calculator'!P47^2)))/(2*(P21^2+1)),(-(-2*P21^2*P7-2*P6*P21-2*P22)-SQRT((-2*P21^2*P7-2*P6*P21-2*P22)^2-4*(P21^2+1)*(P21^2*P7^2+P21^2*P6^2+2*P6*P22*P21+P22^2-P21^2*'Geometry Calculator'!P47^2)))/(2*(P21^2+1))) -> 658.03709 | R49: =IF(((-(-2*R21^2*R7-2*R6*R21-2*R22)+SQRT((-2*R21^2*R7-2*R6*R21-2*R22)^2-4*(R21^2+1)*(R21^2*R7^2+R21^2*R6^2+2*R6*R22*R21+R22^2-R21^2*'Geometry Calculator'!R47^2)))/(2*(R21^2+1)))>0,(-(-2*R21^2*R7-2*R6*R21-2*R22)+SQRT((-2*R21^2*R7-2*R6*R21-2*R22)^2-4*(R21^2+1)*(R21^2*R7^2+R21^2*R6^2+2*R6*R22*R21+R22^2-R21^2*'Geometry Calculator'!R47^2)))/(2*(R21^2+1)),(-(-2*R21^2*R7-2*R6*R21-2*R22)-SQRT((-2*R21^2*R7-2*R6*R21-2*R22)^2-4*(R21^2+1)*(R21^2*R7^2+R21^2*R6^2+2*R6*R22*R21+R22^2-R21^2*'Geometry Calculator'!R47^2)))/(2*(R21^2+1))) -> 662.19044 | T49: =IF(((-(-2*T21^2*T7-2*T6*T21-2*T22)+SQRT((-2*T21^2*T7-2*T6*T21-2*T22)^2-4*(T21^2+1)*(T21^2*T7^2+T21^2*T6^2+2*T6*T22*T21+T22^2-T21^2*'Geometry Calculator'!T47^2)))/(2*(T21^2+1)))>0,(-(-2*T21^2*T7-2*T6*T21-2*T22)+SQRT((-2*T21^2*T7-2*T6*T21-2*T22)^2-4*(T21^2+1)*(T21^2*T7^2+T21^2*T6^2+2*T6*T22*T21+T22^2-T21^2*'Geometry Calculator'!T47^2)))/(2*(T21^2+1)),(-(-2*T21^2*T7-2*T6*T21-2*T22)-SQRT((-2*T21^2*T7-2*T6*T21-2*T22)^2-4*(T21^2+1)*(T21^2*T7^2+T21^2*T6^2+2*T6*T22*T21+T22^2-T21^2*'Geometry Calculator'!T47^2)))/(2*(T21^2+1))) -> 660.68412 | V49: =IF(((-(-2*V21^2*V7-2*V6*V21-2*V22)+SQRT((-2*V21^2*V7-2*V6*V21-2*V22)^2-4*(V21^2+1)*(V21^2*V7^2+V21^2*V6^2+2*V6*V22*V21+V22^2-V21^2*'Geometry Calculator'!V47^2)))/(2*(V21^2+1)))>0,(-(-2*V21^2*V7-2*V6*V21-2*V22)+SQRT((-2*V21^2*V7-2*V6*V21-2*V22)^2-4*(V21^2+1)*(V21^2*V7^2+V21^2*V6^2+2*V6*V22*V21+V22^2-V21^2*'Geometry Calculator'!V47^2)))/(2*(V21^2+1)),(-(-2*V21^2*V7-2*V6*V21-2*V22)-SQRT((-2*V21^2*V7-2*V6*V21-2*V22)^2-4*(V21^2+1)*(V21^2*V7^2+V21^2*V6^2+2*V6*V22*V21+V22^2-V21^2*'Geometry Calculator'!V47^2)))/(2*(V21^2+1))) -> 658.9326 | X49: =IF(((-(-2*X21^2*X7-2*X6*X21-2*X22)+SQRT((-2*X21^2*X7-2*X6*X21-2*X22)^2-4*(X21^2+1)*(X21^2*X7^2+X21^2*X6^2+2*X6*X22*X21+X22^2-X21^2*'Geometry Calculator'!X47^2)))/(2*(X21^2+1)))>0,(-(-2*X21^2*X7-2*X6*X21-2*X22)+SQRT((-2*X21^2*X7-2*X6*X21-2*X22)^2-4*(X21^2+1)*(X21^2*X7^2+X21^2*X6^2+2*X6*X22*X21+X22^2-X21^2*'Geometry Calculator'!X47^2)))/(2*(X21^2+1)),(-(-2*X21^2*X7-2*X6*X21-2*X22)-SQRT((-2*X21^2*X7-2*X6*X21-2*X22)^2-4*(X21^2+1)*(X21^2*X7^2+X21^2*X6^2+2*X6*X22*X21+X22^2-X21^2*'Geometry Calculator'!X47^2)))/(2*(X21^2+1))) -> 706.74046 | Z49: =IF(((-(-2*Z21^2*Z7-2*Z6*Z21-2*Z22)+SQRT((-2*Z21^2*Z7-2*Z6*Z21-2*Z22)^2-4*(Z21^2+1)*(Z21^2*Z7^2+Z21^2*Z6^2+2*Z6*Z22*Z21+Z22^2-Z21^2*'Geometry Calculator'!Z47^2)))/(2*(Z21^2+1)))>0,(-(-2*Z21^2*Z7-2*Z6*Z21-2*Z22)+SQRT((-2*Z21^2*Z7-2*Z6*Z21-2*Z22)^2-4*(Z21^2+1)*(Z21^2*Z7^2+Z21^2*Z6^2+2*Z6*Z22*Z21+Z22^2-Z21^2*'Geometry Calculator'!Z47^2)))/(2*(Z21^2+1)),(-(-2*Z21^2*Z7-2*Z6*Z21-2*Z22)-SQRT((-2*Z21^2*Z7-2*Z6*Z21-2*Z22)^2-4*(Z21^2+1)*(Z21^2*Z7^2+Z21^2*Z6^2+2*Z6*Z22*Z21+Z22^2-Z21^2*'Geometry Calculator'!Z47^2)))/(2*(Z21^2+1))) -> 704.65493
F50: seatpost top at effective height x | H50: =IF('Geometry Calculator'!H46=90,H13,(H51-H22)/H21) -> 287.10813 | J50: =IF('Geometry Calculator'!J46=90,J13,(J51-J22)/J21) -> 287.74457 | L50: =IF('Geometry Calculator'!L46=90,L13,(L51-L22)/L21) -> 269.86104 | N50: =IF('Geometry Calculator'!N46=90,N13,(N51-N22)/N21) -> 269.86104 | P50: =IF('Geometry Calculator'!P46=90,P13,(P51-P22)/P21) -> 244.40693 | R50: =IF('Geometry Calculator'!R46=90,R13,(R51-R22)/R21) -> 228.85628 | T50: =IF('Geometry Calculator'!T46=90,T13,(T51-T22)/T21) -> 263.58972 | V50: =IF('Geometry Calculator'!V46=90,V13,(V51-V22)/V21) -> 270.47752 | X50: =IF('Geometry Calculator'!X46=90,X13,(X51-X22)/X21) -> 302.92694 | Z50: =IF('Geometry Calculator'!Z46=90,Z13,(Z51-Z22)/Z21) -> 309.4882
F51: seat post top at effective height y | H51: =H11 -> 605.7 | J51: =J11 -> 614.77547 | L51: =L11 -> 584 | N51: =N11 -> 584 | P51: =P11 -> 568 | R51: =R11 -> 583.94942 | T51: =T11 -> 578 | V51: =V11 -> 569.71717 | X51: =X11 -> 611.5 | Z51: =Z11 -> 603.09505
F52: End grip x orthogonal | H52: ='Geometry Calculator'!H42*SIN(RADIANS(-'Geometry Calculator'!H39))*SIN(RADIANS(90-'Geometry Calculator'!H40)) -> -38.820181 | J52: ='Geometry Calculator'!J42*SIN(RADIANS(-'Geometry Calculator'!J39))*SIN(RADIANS(90-'Geometry Calculator'!J40)) -> -38.820181 | L52: ='Geometry Calculator'!L42*SIN(RADIANS(-'Geometry Calculator'!L39))*SIN(RADIANS(90-'Geometry Calculator'!L40)) -> -37.3386 | N52: ='Geometry Calculator'!N42*SIN(RADIANS(-'Geometry Calculator'!N39))*SIN(RADIANS(90-'Geometry Calculator'!N40)) -> -37.3386 | P52: ='Geometry Calculator'!P42*SIN(RADIANS(-'Geometry Calculator'!P39))*SIN(RADIANS(90-'Geometry Calculator'!P40)) -> -37.3386 | R52: ='Geometry Calculator'!R42*SIN(RADIANS(-'Geometry Calculator'!R39))*SIN(RADIANS(90-'Geometry Calculator'!R40)) -> -37.3386 | T52: ='Geometry Calculator'!T42*SIN(RADIANS(-'Geometry Calculator'!T39))*SIN(RADIANS(90-'Geometry Calculator'!T40)) -> -38.1806 | V52: ='Geometry Calculator'!V42*SIN(RADIANS(-'Geometry Calculator'!V39))*SIN(RADIANS(90-'Geometry Calculator'!V40)) -> -38.1806 | X52: ='Geometry Calculator'!X42*SIN(RADIANS(-'Geometry Calculator'!X39))*SIN(RADIANS(90-'Geometry Calculator'!X40)) -> -37.3386 | Z52: ='Geometry Calculator'!Z42*SIN(RADIANS(-'Geometry Calculator'!Z39))*SIN(RADIANS(90-'Geometry Calculator'!Z40)) -> -37.3386
F53: End grip y orthogonal | H53: ='Geometry Calculator'!H38+'Geometry Calculator'!H42*COS(RADIANS(90-'Geometry Calculator'!H40)) -> 44.403608 | J53: ='Geometry Calculator'!J38+'Geometry Calculator'!J42*COS(RADIANS(90-'Geometry Calculator'!J40)) -> 44.403608 | L53: ='Geometry Calculator'!L38+'Geometry Calculator'!L42*COS(RADIANS(90-'Geometry Calculator'!L40)) -> 50.086831 | N53: ='Geometry Calculator'!N38+'Geometry Calculator'!N42*COS(RADIANS(90-'Geometry Calculator'!N40)) -> 50.086831 | P53: ='Geometry Calculator'!P38+'Geometry Calculator'!P42*COS(RADIANS(90-'Geometry Calculator'!P40)) -> 37.086831 | R53: ='Geometry Calculator'!R38+'Geometry Calculator'!R42*COS(RADIANS(90-'Geometry Calculator'!R40)) -> 37.086831 | T53: ='Geometry Calculator'!T38+'Geometry Calculator'!T42*COS(RADIANS(90-'Geometry Calculator'!T40)) -> 41.353157 | V53: ='Geometry Calculator'!V38+'Geometry Calculator'!V42*COS(RADIANS(90-'Geometry Calculator'!V40)) -> 41.353157 | X53: ='Geometry Calculator'!X38+'Geometry Calculator'!X42*COS(RADIANS(90-'Geometry Calculator'!X40)) -> 37.086831 | Z53: ='Geometry Calculator'!Z38+'Geometry Calculator'!Z42*COS(RADIANS(90-'Geometry Calculator'!Z40)) -> 37.086831
F54: End grip x rotated | H54: =H32+H52*COS(RADIANS(-'Geometry Calculator'!H41))-H53*SIN(RADIANS(-'Geometry Calculator'!H41)) -> 861.37365 | J54: =J32+J52*COS(RADIANS(-'Geometry Calculator'!J41))-J53*SIN(RADIANS(-'Geometry Calculator'!J41)) -> 851.80427 | L54: =L32+L52*COS(RADIANS(-'Geometry Calculator'!L41))-L53*SIN(RADIANS(-'Geometry Calculator'!L41)) -> 877.30563 | N54: =N32+N52*COS(RADIANS(-'Geometry Calculator'!N41))-N53*SIN(RADIANS(-'Geometry Calculator'!N41)) -> 877.30563 | P54: =P32+P52*COS(RADIANS(-'Geometry Calculator'!P41))-P53*SIN(RADIANS(-'Geometry Calculator'!P41)) -> 848.86665 | R54: =R32+R52*COS(RADIANS(-'Geometry Calculator'!R41))-R53*SIN(RADIANS(-'Geometry Calculator'!R41)) -> 831.65985 | T54: =T32+T52*COS(RADIANS(-'Geometry Calculator'!T41))-T53*SIN(RADIANS(-'Geometry Calculator'!T41)) -> 877.74276 | V54: =V32+V52*COS(RADIANS(-'Geometry Calculator'!V41))-V53*SIN(RADIANS(-'Geometry Calculator'!V41)) -> 877.07434 | X54: =X32+X52*COS(RADIANS(-'Geometry Calculator'!X41))-X53*SIN(RADIANS(-'Geometry Calculator'!X41)) -> 871.4835 | Z54: =Z32+Z52*COS(RADIANS(-'Geometry Calculator'!Z41))-Z53*SIN(RADIANS(-'Geometry Calculator'!Z41)) -> 869.84983
F55: End grip y rotated | H55: =H33+H52*SIN(RADIANS(-'Geometry Calculator'!H41))+H53*COS(RADIANS(-'Geometry Calculator'!H41)) -> 691.86704 | J55: =J33+J52*SIN(RADIANS(-'Geometry Calculator'!J41))+J53*COS(RADIANS(-'Geometry Calculator'!J41)) -> 708.85557 | L55: =L33+L52*SIN(RADIANS(-'Geometry Calculator'!L41))+L53*COS(RADIANS(-'Geometry Calculator'!L41)) -> 685.43126 | N55: =N33+N52*SIN(RADIANS(-'Geometry Calculator'!N41))+N53*COS(RADIANS(-'Geometry Calculator'!N41)) -> 685.43126 | P55: =P33+P52*SIN(RADIANS(-'Geometry Calculator'!P41))+P53*COS(RADIANS(-'Geometry Calculator'!P41)) -> 663.6674 | R55: =R33+R52*SIN(RADIANS(-'Geometry Calculator'!R41))+R53*COS(RADIANS(-'Geometry Calculator'!R41)) -> 680.70416 | T55: =T33+T52*SIN(RADIANS(-'Geometry Calculator'!T41))+T53*COS(RADIANS(-'Geometry Calculator'!T41)) -> 672.90258 | V55: =V33+V52*SIN(RADIANS(-'Geometry Calculator'!V41))+V53*COS(RADIANS(-'Geometry Calculator'!V41)) -> 665.15591 | X55: =X33+X52*SIN(RADIANS(-'Geometry Calculator'!X41))+X53*COS(RADIANS(-'Geometry Calculator'!X41)) -> 722.56722 | Z55: =Z33+Z52*SIN(RADIANS(-'Geometry Calculator'!Z41))+Z53*COS(RADIANS(-'Geometry Calculator'!Z41)) -> 714.78911
F56: End grip z rotated left | H56: ='Geometry Calculator'!H45/2 -> 380 | J56: ='Geometry Calculator'!J45/2 -> 380 | L56: ='Geometry Calculator'!L45/2 -> 387.5 | N56: ='Geometry Calculator'!N45/2 -> 387.5 | P56: ='Geometry Calculator'!P45/2 -> 390 | R56: ='Geometry Calculator'!R45/2 -> 390 | T56: ='Geometry Calculator'!T45/2 -> 395 | V56: ='Geometry Calculator'!V45/2 -> 395 | X56: ='Geometry Calculator'!X45/2 -> 387 | Z56: ='Geometry Calculator'!Z45/2 -> 387
F57: End grip z rotated right | H57: =-H56 -> -380 | J57: =-J56 -> -380 | L57: =-L56 -> -387.5 | N57: =-N56 -> -387.5 | P57: =-P56 -> -390 | R57: =-R56 -> -390 | T57: =-T56 -> -395 | V57: =-V56 -> -395 | X57: =-X56 -> -387 | Z57: =-Z56 -> -387
F58: Start of grip x orthogonal | H58: =('Geometry Calculator'!H42-'Geometry Calculator'!H43)*SIN(RADIANS(-'Geometry Calculator'!H39))*SIN(RADIANS(90-'Geometry Calculator'!H40)) -> -20.796526 | J58: =('Geometry Calculator'!J42-'Geometry Calculator'!J43)*SIN(RADIANS(-'Geometry Calculator'!J39))*SIN(RADIANS(90-'Geometry Calculator'!J40)) -> -20.796526 | L58: =('Geometry Calculator'!L42-'Geometry Calculator'!L43)*SIN(RADIANS(-'Geometry Calculator'!L39))*SIN(RADIANS(90-'Geometry Calculator'!L40)) -> -16.491215 | N58: =('Geometry Calculator'!N42-'Geometry Calculator'!N43)*SIN(RADIANS(-'Geometry Calculator'!N39))*SIN(RADIANS(90-'Geometry Calculator'!N40)) -> -16.491215 | P58: =('Geometry Calculator'!P42-'Geometry Calculator'!P43)*SIN(RADIANS(-'Geometry Calculator'!P39))*SIN(RADIANS(90-'Geometry Calculator'!P40)) -> -16.491215 | R58: =('Geometry Calculator'!R42-'Geometry Calculator'!R43)*SIN(RADIANS(-'Geometry Calculator'!R39))*SIN(RADIANS(90-'Geometry Calculator'!R40)) -> -16.491215 | T58: =('Geometry Calculator'!T42-'Geometry Calculator'!T43)*SIN(RADIANS(-'Geometry Calculator'!T39))*SIN(RADIANS(90-'Geometry Calculator'!T40)) -> -17.298149 | V58: =('Geometry Calculator'!V42-'Geometry Calculator'!V43)*SIN(RADIANS(-'Geometry Calculator'!V39))*SIN(RADIANS(90-'Geometry Calculator'!V40)) -> -17.298149 | X58: =('Geometry Calculator'!X42-'Geometry Calculator'!X43)*SIN(RADIANS(-'Geometry Calculator'!X39))*SIN(RADIANS(90-'Geometry Calculator'!X40)) -> -16.491215 | Z58: =('Geometry Calculator'!Z42-'Geometry Calculator'!Z43)*SIN(RADIANS(-'Geometry Calculator'!Z39))*SIN(RADIANS(90-'Geometry Calculator'!Z40)) -> -16.491215
F59: Start of grip y orthogonal | H59: ='Geometry Calculator'!H38+('Geometry Calculator'!H42-'Geometry Calculator'!H43)*COS(RADIANS(90-'Geometry Calculator'!H40)) -> 33.073361 | J59: ='Geometry Calculator'!J38+('Geometry Calculator'!J42-'Geometry Calculator'!J43)*COS(RADIANS(90-'Geometry Calculator'!J40)) -> 33.073361 | L59: ='Geometry Calculator'!L38+('Geometry Calculator'!L42-'Geometry Calculator'!L43)*COS(RADIANS(90-'Geometry Calculator'!L40)) -> 36.080017 | N59: ='Geometry Calculator'!N38+('Geometry Calculator'!N42-'Geometry Calculator'!N43)*COS(RADIANS(90-'Geometry Calculator'!N40)) -> 36.080017 | P59: ='Geometry Calculator'!P38+('Geometry Calculator'!P42-'Geometry Calculator'!P43)*COS(RADIANS(90-'Geometry Calculator'!P40)) -> 23.080017 | R59: ='Geometry Calculator'!R38+('Geometry Calculator'!R42-'Geometry Calculator'!R43)*COS(RADIANS(90-'Geometry Calculator'!R40)) -> 23.080017 | T59: ='Geometry Calculator'!T38+('Geometry Calculator'!T42-'Geometry Calculator'!T43)*COS(RADIANS(90-'Geometry Calculator'!T40)) -> 29.674287 | V59: ='Geometry Calculator'!V38+('Geometry Calculator'!V42-'Geometry Calculator'!V43)*COS(RADIANS(90-'Geometry Calculator'!V40)) -> 29.674287 | X59: ='Geometry Calculator'!X38+('Geometry Calculator'!X42-'Geometry Calculator'!X43)*COS(RADIANS(90-'Geometry Calculator'!X40)) -> 23.080017 | Z59: ='Geometry Calculator'!Z38+('Geometry Calculator'!Z42-'Geometry Calculator'!Z43)*COS(RADIANS(90-'Geometry Calculator'!Z40)) -> 23.080017
F60: Start of grip x rotated | H60: =H32+H58*COS(RADIANS(-'Geometry Calculator'!H41))-H59*SIN(RADIANS(-'Geometry Calculator'!H41)) -> 881.71565 | J60: =J32+J58*COS(RADIANS(-'Geometry Calculator'!J41))-J59*SIN(RADIANS(-'Geometry Calculator'!J41)) -> 872.35302 | L60: =L32+L58*COS(RADIANS(-'Geometry Calculator'!L41))-L59*SIN(RADIANS(-'Geometry Calculator'!L41)) -> 898.15301 | N60: =N32+N58*COS(RADIANS(-'Geometry Calculator'!N41))-N59*SIN(RADIANS(-'Geometry Calculator'!N41)) -> 898.15301 | P60: =P32+P58*COS(RADIANS(-'Geometry Calculator'!P41))-P59*SIN(RADIANS(-'Geometry Calculator'!P41)) -> 869.71404 | R60: =R32+R58*COS(RADIANS(-'Geometry Calculator'!R41))-R59*SIN(RADIANS(-'Geometry Calculator'!R41)) -> 852.50724 | T60: =T32+T58*COS(RADIANS(-'Geometry Calculator'!T41))-T59*SIN(RADIANS(-'Geometry Calculator'!T41)) -> 898.62521 | V60: =V32+V58*COS(RADIANS(-'Geometry Calculator'!V41))-V59*SIN(RADIANS(-'Geometry Calculator'!V41)) -> 897.95679 | X60: =X32+X58*COS(RADIANS(-'Geometry Calculator'!X41))-X59*SIN(RADIANS(-'Geometry Calculator'!X41)) -> 892.33089 | Z60: =Z32+Z58*COS(RADIANS(-'Geometry Calculator'!Z41))-Z59*SIN(RADIANS(-'Geometry Calculator'!Z41)) -> 890.69721
F61: Start of grip y rotated | H61: =H33+H58*SIN(RADIANS(-'Geometry Calculator'!H41))+H59*COS(RADIANS(-'Geometry Calculator'!H41)) -> 685.58773 | J61: =J33+J58*SIN(RADIANS(-'Geometry Calculator'!J41))+J59*COS(RADIANS(-'Geometry Calculator'!J41)) -> 703.29001 | L61: =L33+L58*SIN(RADIANS(-'Geometry Calculator'!L41))+L59*COS(RADIANS(-'Geometry Calculator'!L41)) -> 671.42444 | N61: =N33+N58*SIN(RADIANS(-'Geometry Calculator'!N41))+N59*COS(RADIANS(-'Geometry Calculator'!N41)) -> 671.42444 | P61: =P33+P58*SIN(RADIANS(-'Geometry Calculator'!P41))+P59*COS(RADIANS(-'Geometry Calculator'!P41)) -> 649.66059 | R61: =R33+R58*SIN(RADIANS(-'Geometry Calculator'!R41))+R59*COS(RADIANS(-'Geometry Calculator'!R41)) -> 666.69735 | T61: =T33+T58*SIN(RADIANS(-'Geometry Calculator'!T41))+T59*COS(RADIANS(-'Geometry Calculator'!T41)) -> 661.22371 | V61: =V33+V58*SIN(RADIANS(-'Geometry Calculator'!V41))+V59*COS(RADIANS(-'Geometry Calculator'!V41)) -> 653.47704 | X61: =X33+X58*SIN(RADIANS(-'Geometry Calculator'!X41))+X59*COS(RADIANS(-'Geometry Calculator'!X41)) -> 708.56041 | Z61: =Z33+Z58*SIN(RADIANS(-'Geometry Calculator'!Z41))+Z59*COS(RADIANS(-'Geometry Calculator'!Z41)) -> 700.7823
F62: Start of grip z rotated left | H62: =H56-('Geometry Calculator'!H43)*COS(RADIANS(-'Geometry Calculator'!H39))*SIN(RADIANS(90-'Geometry Calculator'!H40)) -> 251.75503 | J62: =J56-('Geometry Calculator'!J43)*COS(RADIANS(-'Geometry Calculator'!J39))*SIN(RADIANS(90-'Geometry Calculator'!J40)) -> 251.75503 | L62: =L56-('Geometry Calculator'!L43)*COS(RADIANS(-'Geometry Calculator'!L39))*SIN(RADIANS(90-'Geometry Calculator'!L40)) -> 255.87479 | N62: =N56-('Geometry Calculator'!N43)*COS(RADIANS(-'Geometry Calculator'!N39))*SIN(RADIANS(90-'Geometry Calculator'!N40)) -> 255.87479 | P62: =P56-('Geometry Calculator'!P43)*COS(RADIANS(-'Geometry Calculator'!P39))*SIN(RADIANS(90-'Geometry Calculator'!P40)) -> 258.37479 | R62: =R56-('Geometry Calculator'!R43)*COS(RADIANS(-'Geometry Calculator'!R39))*SIN(RADIANS(90-'Geometry Calculator'!R40)) -> 258.37479 | T62: =T56-('Geometry Calculator'!T43)*COS(RADIANS(-'Geometry Calculator'!T39))*SIN(RADIANS(90-'Geometry Calculator'!T40)) -> 263.15339 | V62: =V56-('Geometry Calculator'!V43)*COS(RADIANS(-'Geometry Calculator'!V39))*SIN(RADIANS(90-'Geometry Calculator'!V40)) -> 263.15339 | X62: =X56-('Geometry Calculator'!X43)*COS(RADIANS(-'Geometry Calculator'!X39))*SIN(RADIANS(90-'Geometry Calculator'!X40)) -> 255.37479 | Z62: =Z56-('Geometry Calculator'!Z43)*COS(RADIANS(-'Geometry Calculator'!Z39))*SIN(RADIANS(90-'Geometry Calculator'!Z40)) -> 255.37479
F63: Start of grip z rotated right | H63: =-H62 -> -251.75503 | J63: =-J62 -> -251.75503 | L63: =-L62 -> -255.87479 | N63: =-N62 -> -255.87479 | P63: =-P62 -> -258.37479 | R63: =-R62 -> -258.37479 | T63: =-T62 -> -263.15339 | V63: =-V62 -> -263.15339 | X63: =-X62 -> -255.37479 | Z63: =-Z62 -> -255.37479
F65: Ax plot | H65: =H2+H$145 -> 0 | J65: =J2+J$145 -> 0 | L65: =L2+L$145 -> -100000 | N65: =N2+N$145 -> -100000 | P65: =P2+P$145 -> -100000 | R65: =R2+R$145 -> -100000 | T65: =T2+T$145 -> -100000 | V65: =V2+V$145 -> -100000 | X65: =X2+X$145 -> -100000 | Z65: =Z2+Z$145 -> -100000
F66: Ay plot | H66: =H3+H$146 -> 0 | J66: =J3+J$146 -> 0 | L66: =L3+L$146 -> -100000 | N66: =N3+N$146 -> -100000 | P66: =P3+P$146 -> -100000 | R66: =R3+R$146 -> -100000 | T66: =T3+T$146 -> -100000 | V66: =V3+V$146 -> -100000 | X66: =X3+X$146 -> -100000 | Z66: =Z3+Z$146 -> -100000
F67: Rx plot | H67: =H4+H$145 -> 0 | J67: =J4+J$145 -> 0 | L67: =L4+L$145 -> -100000 | N67: =N4+N$145 -> -100000 | P67: =P4+P$145 -> -100000 | R67: =R4+R$145 -> -100000 | T67: =T4+T$145 -> -100000 | V67: =V4+V$145 -> -100000 | X67: =X4+X$145 -> -100000 | Z67: =Z4+Z$145 -> -100000
F68: Ry plot | H68: =H5+H$146 -> -370 | J68: =J5+J$146 -> -370 | L68: =L5+L$146 -> -100377 | N68: =N5+N$146 -> -100377 | P68: =P5+P$146 -> -100363 | R68: =R5+R$146 -> -100363 | T68: =T5+T$146 -> -100372 | V68: =V5+V$146 -> -100372 | X68: =X5+X$146 -> -100382.5 | Z68: =Z5+Z$146 -> -100382.5
F69: Bx plot | H69: =H6+H$145 -> 436.4806 | J69: =J6+J$145 -> 446.70674 | L69: =L6+L$145 -> -99575.549 | N69: =N6+N$145 -> -99575.549 | P69: =P6+P$145 -> -99588.661 | R69: =R6+R$145 -> -99587.639 | T69: =T6+T$145 -> -99566.41 | V69: =V6+V$145 -> -99566.687 | X69: =X6+X$145 -> -99530.141 | Z69: =Z6+Z$145 -> -99530.242
F70: By plot | H70: =H7+H$146 -> -21.3 | J70: =J7+J$146 -> -15.865127 | L70: =L7+L$146 -> -100055 | N70: =N7+N$146 -> -100055 | P70: =P7+P$146 -> -100055 | R70: =R7+R$146 -> -100046.73 | T70: =T7+T$146 -> -100035 | V70: =V7+V$146 -> -100038.27 | X70: =X7+X$146 -> -100011.5 | Z70: =Z7+Z$146 -> -100015.07
F71: Bx cockpit plot | H71: =H6+H$149 -> 436.4806 | J71: =J6+J$149 -> 446.70674 | L71: =L6+L$149 -> -99575.549 | N71: =N6+N$149 -> -99575.549 | P71: =P6+P$149 -> -99588.661 | R71: =R6+R$149 -> -99587.639 | T71: =T6+T$149 -> -99566.41 | V71: =V6+V$149 -> -99566.687 | X71: =X6+X$149 -> -99530.141 | Z71: =Z6+Z$149 -> -99530.242
F72: By cockpit plot | H72: =H7+H$150 -> -21.3 | J72: =J7+J$150 -> -15.865127 | L72: =L7+L$150 -> -100055 | N72: =N7+N$150 -> -100055 | P72: =P7+P$150 -> -100055 | R72: =R7+R$150 -> -100046.73 | T72: =T7+T$150 -> -100035 | V72: =V7+V$150 -> -100038.27 | X72: =X7+X$150 -> -100011.5 | Z72: =Z7+Z$150 -> -100015.07
F73: Ex plot | H73: =H8+H$145 -> 943.14193 | J73: =J8+J$145 -> 947.01853 | L73: =L8+L$145 -> -99054.834 | N73: =N8+N$145 -> -99054.834 | P73: =P8+P$145 -> -99093.708 | R73: =R8+R$145 -> -99103.064 | T73: =T8+T$145 -> -99060.548 | V73: =V8+V$145 -> -99056.973 | X73: =X8+X$145 -> -99066.442 | Z73: =Z8+Z$145 -> -99062.741
F74: Ey plot | H74: =H9+H$146 -> 497.38977 | J74: =J9+J$146 -> 508.95188 | L74: =L9+L$146 -> -99524.757 | N74: =N9+N$146 -> -99524.757 | P74: =P9+P$146 -> -99543.262 | R74: =R9+R$146 -> -99525.152 | T74: =T9+T$146 -> -99522.877 | V74: =V9+V$146 -> -99529.983 | X74: =X9+X$146 -> -99509.034 | Z74: =Z9+Z$146 -> -99516.137
F75: Dx plot | H75: =H10+H$145 -> 891.4806 | J75: =J10+J$145 -> 890.28294 | L75: =L10+L$145 -> -99105.549 | N75: =N10+N$145 -> -99105.549 | P75: =P10+P$145 -> -99138.661 | R75: =R10+R$145 -> -99153.132 | T75: =T10+T$145 -> -99104.41 | V75: =V10+V$145 -> -99103.606 | X75: =X10+X$145 -> -99115.141 | Z75: =Z10+Z$145 -> -99114.745
F76: Dy plot | H76: =H11+H$146 -> 605.7 | J76: =J11+J$146 -> 614.77547 | L76: =L11+L$146 -> -99416 | N76: =N11+N$146 -> -99416 | P76: =P11+P$146 -> -99432 | R76: =R11+R$146 -> -99416.051 | T76: =T11+T$146 -> -99422 | V76: =V11+V$146 -> -99430.283 | X76: =X11+X$146 -> -99388.5 | Z76: =Z11+Z$146 -> -99396.905
F77: Dx cockpit plot | H77: =H10+H$149 -> 891.4806 | J77: =J10+J$149 -> 890.28294 | L77: =L10+L$149 -> -99105.549 | N77: =N10+N$149 -> -99105.549 | P77: =P10+P$149 -> -99138.661 | R77: =R10+R$149 -> -99153.132 | T77: =T10+T$149 -> -99104.41 | V77: =V10+V$149 -> -99103.606 | X77: =X10+X$149 -> -99115.141 | Z77: =Z10+Z$149 -> -99114.745
F78: Dy cockpit plot | H78: =H11+H$150 -> 605.7 | J78: =J11+J$150 -> 614.77547 | L78: =L11+L$150 -> -99416 | N78: =N11+N$150 -> -99416 | P78: =P11+P$150 -> -99432 | R78: =R11+R$150 -> -99416.051 | T78: =T11+T$150 -> -99422 | V78: =V11+V$150 -> -99430.283 | X78: =X11+X$150 -> -99388.5 | Z78: =Z11+Z$150 -> -99396.905
F79: Ky plot | H79: =H12+H$146 -> 605.7 | J79: =J12+J$146 -> 609.27071 | L79: =L12+L$146 -> -99416 | N79: =N12+N$146 -> -99416 | P79: =P12+P$146 -> -99432 | R79: =R12+R$146 -> -99427.206 | T79: =T12+T$146 -> -99422 | V79: =V12+V$146 -> -99424.006 | X79: =X12+X$146 -> -99388.5 | Z79: =Z12+Z$146 -> -99390.818
F80: Kx plot | H80: =H13+H$145 -> 287.10813 | J80: =J13+J$145 -> 289.71526 | L80: =L13+L$145 -> -99730.139 | N80: =N13+N$145 -> -99730.139 | P80: =P13+P$145 -> -99755.593 | R80: =R13+R$145 -> -99767.05 | T80: =T13+T$145 -> -99736.41 | V80: =V13+V$145 -> -99732.054 | X80: =X13+X$145 -> -99697.073 | Z80: =Z13+Z$145 -> -99692.439
F81: Hy plot | H81: =H14+H$146 -> 0 | J81: =J14+J$146 -> 7 | L81: =L14+L$146 -> -100000 | N81: =N14+N$146 -> -100000 | P81: =P14+P$146 -> -100000 | R81: =R14+R$146 -> -99988.5 | T81: =T14+T$146 -> -100000 | V81: =V14+V$146 -> -100000 | X81: =X14+X$146 -> -100000 | Z81: =Z14+Z$146 -> -100000
F82: Fy plot | H82: =H15+H$146 -> -370 | J82: =J15+J$146 -> -370 | L82: =L15+L$146 -> -100377 | N82: =N15+N$146 -> -100377 | P82: =P15+P$146 -> -100363 | R82: =R15+R$146 -> -100363 | T82: =T15+T$146 -> -100372 | V82: =V15+V$146 -> -100372 | X82: =X15+X$146 -> -100382.5 | Z82: =Z15+Z$146 -> -100382.5
F83: Gy plot | H83: =H16+H$146 -> -18.942488 | J83: =J16+J$146 -> -12.845361 | L83: =L16+L$146 -> -100017.75 | N83: =N16+N$146 -> -100017.75 | P83: =P16+P$146 -> -100019.1 | R83: =R16+R$146 -> -100009.77 | T83: =T16+T$146 -> -100016.75 | V83: =V16+V$146 -> -100017.79 | X83: =X16+X$146 -> -100019.1 | Z83: =Z16+Z$146 -> -100020.39
F84: Gx plot | H84: =H17+H$145 -> 1189.4198 | J84: =J17+J$145 -> 1226.7716 | L84: =L17+L$145 -> -98824.948 | N84: =N17+N$145 -> -98824.948 | P84: =P17+P$145 -> -98901.455 | R84: =R17+R$145 -> -98880.668 | T84: =T17+T$145 -> -98845.807 | V84: =V17+V$145 -> -98828.803 | X84: =X17+X$145 -> -98860.36 | Z84: =Z17+Z$145 -> -98842.806
F85: Hx plot | H85: =H18+H$145 -> 1229.1335 | J85: =J18+J$145 -> 1263.7873 | L85: =L18+L$145 -> -98786.883 | N85: =N18+N$145 -> -98786.883 | P85: =P18+P$145 -> -98854.169 | R85: =R18+R$145 -> -98834.315 | T85: =T18+T$145 -> -98807.29 | V85: =V18+V$145 -> -98790.759 | X85: =X18+X$145 -> -98813.073 | Z85: =Z18+Z$145 -> -98796.059
F86: Fx plot | H86: =H19+H$145 -> 1229.1335 | J86: =J19+J$145 -> 1263.7873 | L86: =L19+L$145 -> -98786.883 | N86: =N19+N$145 -> -98786.883 | P86: =P19+P$145 -> -98854.169 | R86: =R19+R$145 -> -98834.315 | T86: =T19+T$145 -> -98807.29 | V86: =V19+V$145 -> -98790.759 | X86: =X19+X$145 -> -98813.073 | Z86: =Z19+Z$145 -> -98796.059
F87: Jy plot | H87: =H23+H$146 -> 330 | J87: =J23+J$146 -> 334.74635 | L87: =L23+L$146 -> -99737 | N87: =N23+N$146 -> -99737 | P87: =P23+P$146 -> -99638 | R87: =R23+R$146 -> -99631.74 | T87: =T23+T$146 -> -99611 | V87: =V23+V$146 -> -99613.589 | X87: =X23+X$146 -> -99637.5 | Z87: =Z23+Z$146 -> -99640.425
F88: Jx plot | H88: =H24+H$145 -> 382.03925 | J88: =J24+J$145 -> 387.99439 | L88: =L24+L$145 -> -99641.118 | N88: =N24+N$145 -> -99641.118 | P88: =P24+P$145 -> -99684.662 | R88: =R24+R$145 -> -99691.996 | T88: =T24+T$145 -> -99658.51 | V88: =V24+V$145 -> -99655.583 | X88: =X24+X$145 -> -99616.168 | Z88: =Z24+Z$145 -> -99613.427
F89: Condition on seat angles plot | H89: =H25+H$145 -> 3 | J89: =J25+J$145 -> 0 | L89: =L25+L$145 -> -99997 | N89: =N25+N$145 -> -100000 | P89: =P25+P$145 -> -99997 | R89: =R25+R$145 -> -100000 | T89: =T25+T$145 -> -99997 | V89: =V25+V$145 -> -100000 | X89: =X25+X$145 -> -99997 | Z89: =Z25+Z$145 -> -100000
F90: Ix plot | H90: =H26+H$145 -> 436.4806 | J90: =J26+J$145 -> 444.35577 | L90: =L26+L$145 -> -99575.549 | N90: =N26+N$145 -> -99575.549 | P90: =P26+P$145 -> -99588.661 | R90: =R26+R$145 -> -99590.415 | T90: =T26+T$145 -> -99566.41 | V90: =V26+V$145 -> -99565.173 | X90: =X26+X$145 -> -99530.141 | Z90: =Z26+Z$145 -> -99529.412
F91: Iy plot | H91: =H27+H$146 -> 171.89085 | J91: =J27+J$146 -> 177.31142 | L91: =L27+L$146 -> -99973.435 | N91: =N27+N$146 -> -99973.435 | P91: =P27+P$146 -> -99916.807 | R91: =R27+R$146 -> -99908.562 | T91: =T27+T$146 -> -99834.451 | V91: =V27+V$146 -> -99837.729 | X91: =X27+X$146 -> -99902.265 | Z91: =Z27+Z$146 -> -99905.835
F92: Cy plot | H92: =H28+H$146 -> 391.81679 | J92: =J28+J$146 -> 396.29955 | L92: =L28+L$146 -> -99654.645 | N92: =N28+N$146 -> -99654.645 | P92: =P28+P$146 -> -99645.52 | R92: =R28+R$146 -> -99639.206 | T92: =T28+T$146 -> -99582.747 | V92: =V28+V$146 -> -99585.249 | X92: =X28+X$146 -> -99555.227 | Z92: =Z28+Z$146 -> -99557.951
F93: Cx plot | H93: =H29+H$145 -> 360.75402 | J93: =J29+J$145 -> 365.95848 | L93: =L29+L$145 -> -99663.957 | N93: =N29+N$145 -> -99663.957 | P93: =P29+P$145 -> -99682.072 | R93: =R29+R$145 -> -99689.256 | T93: =T29+T$145 -> -99670.155 | V93: =V29+V$145 -> -99667.015 | X93: =X29+X$145 -> -99642.9 | Z93: =Z29+Z$145 -> -99639.533
F94: Mx plot | H94: =H30+H$149 -> 874.26015 | J94: =J30+J$149 -> 866.65751 | L94: =L30+L$149 -> -99121.608 | N94: =N30+N$149 -> -99121.608 | P94: =P30+P$149 -> -99155.518 | R94: =R30+R$149 -> -99171.901 | T94: =T30+T$149 -> -99120.759 | V94: =V30+V$149 -> -99120.977 | X94: =X30+X$149 -> -99136.493 | Z94: =Z30+Z$149 -> -99137.533
F95: My plot | H95: =H31+H$150 -> 641.80341 | J95: =J31+J$150 -> 658.84177 | L95: =L31+L$150 -> -99381.56 | N95: =N31+N$150 -> -99381.56 | P95: =P31+P$150 -> -99390.277 | R95: =R31+R$150 -> -99375.152 | T95: =T31+T$150 -> -99384.401 | V95: =V31+V$150 -> -99393.145 | X95: =X31+X$150 -> -99335.651 | Z95: =Z31+Z$150 -> -99344.658
F96: Mz plot | H96: =0+H$151 -> 0 | J96: =0+J$151 -> 0 | L96: =0+L$151 -> -100000 | N96: =0+N$151 -> -100000 | P96: =0+P$151 -> -100000 | R96: =0+R$151 -> -100000 | T96: =0+T$151 -> -100000 | V96: =0+V$151 -> -100000 | X96: =0+X$151 -> -100000 | Z96: =0+Z$151 -> -100000
F97: Nx plot | H97: =H32+H$149 -> 910.36356 | J97: =J32+J$149 -> 901.91055 | L97: =L32+L$149 -> -99085.356 | N97: =N32+N$149 -> -99085.356 | P97: =P32+P$149 -> -99113.795 | R97: =R32+R$149 -> -99131.002 | T97: =T32+T$149 -> -99084.077 | V97: =V32+V$149 -> -99084.745 | X97: =X32+X$149 -> -99091.178 | Z97: =Z32+Z$149 -> -99092.812
F98: Ny plot | H98: =H33+H$150 -> 659.02386 | J98: =J33+J$150 -> 677.74212 | L98: =L33+L$150 -> -99364.656 | N98: =N33+N$150 -> -99364.656 | P98: =P33+P$150 -> -99373.419 | R98: =R33+R$150 -> -99356.383 | T98: =T33+T$150 -> -99368.451 | V98: =V33+V$150 -> -99376.197 | X98: =X33+X$150 -> -99314.52 | Z98: =Z33+Z$150 -> -99322.298
F99: Nz plot | H99: =0+H$151 -> 0 | J99: =0+J$151 -> 0 | L99: =0+L$151 -> -100000 | N99: =0+N$151 -> -100000 | P99: =0+P$151 -> -100000 | R99: =0+R$151 -> -100000 | T99: =0+T$151 -> -100000 | V99: =0+V$151 -> -100000 | X99: =0+X$151 -> -100000 | Z99: =0+Z$151 -> -100000
F100: bar rotated knuckle x (Qx) plot | H100: =H34+H$149 -> 905.18718 | J100: =J34+J$149 -> 896.06312 | L100: =L34+L$149 -> -99085.356 | N100: =N34+N$149 -> -99085.356 | P100: =P34+P$149 -> -99113.795 | R100: =R34+R$149 -> -99131.002 | T100: =T34+T$149 -> -99084.077 | V100: =V34+V$149 -> -99084.745 | X100: =X34+X$149 -> -99091.178 | Z100: =Z34+Z$149 -> -99092.812
F101: bar rotated knuckle y (Qy) plot | H101: =H35+H$150 -> 678.34237 | J101: =J35+J$150 -> 696.86821 | L101: =L35+L$150 -> -99339.656 | N101: =N35+N$150 -> -99339.656 | P101: =P35+P$150 -> -99361.419 | R101: =R35+R$150 -> -99344.383 | T101: =T35+T$150 -> -99348.451 | V101: =V35+V$150 -> -99356.197 | X101: =X35+X$150 -> -99302.52 | Z101: =Z35+Z$150 -> -99310.298
...
